BEGIN:VCALENDAR
VERSION:2.0
PRODID:-//Edelweiss Cai Milano - ECPv6.15.18//NONSGML v1.0//EN
CALSCALE:GREGORIAN
METHOD:PUBLISH
X-WR-CALNAME:Edelweiss Cai Milano
X-ORIGINAL-URL:https://www.edelweisscai.it
X-WR-CALDESC:Eventi per Edelweiss Cai Milano
REFRESH-INTERVAL;VALUE=DURATION:PT1H
X-Robots-Tag:noindex
X-PUBLISHED-TTL:PT1H
BEGIN:VTIMEZONE
TZID:Europe/Rome
BEGIN:DAYLIGHT
TZOFFSETFROM:+0100
TZOFFSETTO:+0200
TZNAME:CEST
DTSTART:20240331T010000
END:DAYLIGHT
BEGIN:STANDARD
TZOFFSETFROM:+0200
TZOFFSETTO:+0100
TZNAME:CET
DTSTART:20241027T010000
END:STANDARD
BEGIN:DAYLIGHT
TZOFFSETFROM:+0100
TZOFFSETTO:+0200
TZNAME:CEST
DTSTART:20250330T010000
END:DAYLIGHT
BEGIN:STANDARD
TZOFFSETFROM:+0200
TZOFFSETTO:+0100
TZNAME:CET
DTSTART:20251026T010000
END:STANDARD
BEGIN:DAYLIGHT
TZOFFSETFROM:+0100
TZOFFSETTO:+0200
TZNAME:CEST
DTSTART:20260329T010000
END:DAYLIGHT
BEGIN:STANDARD
TZOFFSETFROM:+0200
TZOFFSETTO:+0100
TZNAME:CET
DTSTART:20261025T010000
END:STANDARD
BEGIN:DAYLIGHT
TZOFFSETFROM:+0100
TZOFFSETTO:+0200
TZNAME:CEST
DTSTART:20270328T010000
END:DAYLIGHT
BEGIN:STANDARD
TZOFFSETFROM:+0200
TZOFFSETTO:+0100
TZNAME:CET
DTSTART:20271031T010000
END:STANDARD
END:VTIMEZONE
BEGIN:VEVENT
DTSTART;VALUE=DATE:20251001
DTEND;VALUE=DATE:20251002
DTSTAMP:20260425T172243
CREATED:20250730T171901Z
LAST-MODIFIED:20250922T065946Z
UID:5456-1759276800-1759363199@www.edelweisscai.it
SUMMARY:CORSO ESCURSIONISMO BASE 2025
DESCRIPTION:SCARICA PDF\nPresentazione   Mercoledì 1 ottobre 2025 –\nore 21 – Sede Edelweiss Viale Umbria 126\n 
URL:https://www.edelweisscai.it/eventi/corso-escursionismo-base-2025/
CATEGORIES:Evidenza Home,Scuola Escursionismo
ATTACH;FMTTYPE=image/png:https://www.edelweisscai.it/wp-content/uploads/2025/07/CORSO-ESC.png
END:VEVENT
BEGIN:VEVENT
DTSTART;VALUE=DATE:20260114
DTEND;VALUE=DATE:20260115
DTSTAMP:20260425T172243
CREATED:20251224T205321Z
LAST-MODIFIED:20251226T111538Z
UID:5842-1768348800-1768435199@www.edelweisscai.it
SUMMARY:SERATE IN SEDE : SICURI SULLA NEVE
DESCRIPTION:Scarica qui il programma\n14 e 21 gennaio 2026\nore 20\,45\nin sede Edelweiss
URL:https://www.edelweisscai.it/eventi/serate-in-sede-sicuri-sulla-neve/
CATEGORIES:Escursionismo,Evidenza Home,Scuola Escursionismo
ATTACH;FMTTYPE=image/jpeg:https://www.edelweisscai.it/wp-content/uploads/2024/06/attivita_ciaspole.jpeg
END:VEVENT
END:VCALENDAR