BEGIN:VCALENDAR
VERSION:2.0
PRODID:-//Edelweiss Cai Milano - ECPv6.15.18//NONSGML v1.0//EN
CALSCALE:GREGORIAN
METHOD:PUBLISH
X-ORIGINAL-URL:https://www.edelweisscai.it
X-WR-CALDESC:Eventi per Edelweiss Cai Milano
REFRESH-INTERVAL;VALUE=DURATION:PT1H
X-Robots-Tag:noindex
X-PUBLISHED-TTL:PT1H
BEGIN:VTIMEZONE
TZID:Europe/Rome
BEGIN:DAYLIGHT
TZOFFSETFROM:+0100
TZOFFSETTO:+0200
TZNAME:CEST
DTSTART:20250330T010000
END:DAYLIGHT
BEGIN:STANDARD
TZOFFSETFROM:+0200
TZOFFSETTO:+0100
TZNAME:CET
DTSTART:20251026T010000
END:STANDARD
BEGIN:DAYLIGHT
TZOFFSETFROM:+0100
TZOFFSETTO:+0200
TZNAME:CEST
DTSTART:20260329T010000
END:DAYLIGHT
BEGIN:STANDARD
TZOFFSETFROM:+0200
TZOFFSETTO:+0100
TZNAME:CET
DTSTART:20261025T010000
END:STANDARD
BEGIN:DAYLIGHT
TZOFFSETFROM:+0100
TZOFFSETTO:+0200
TZNAME:CEST
DTSTART:20270328T010000
END:DAYLIGHT
BEGIN:STANDARD
TZOFFSETFROM:+0200
TZOFFSETTO:+0100
TZNAME:CET
DTSTART:20271031T010000
END:STANDARD
END:VTIMEZONE
BEGIN:VEVENT
DTSTART;VALUE=DATE:20260315
DTEND;VALUE=DATE:20260316
DTSTAMP:20260425T145947
CREATED:20260211T082928Z
LAST-MODIFIED:20260312T073413Z
UID:6083-1773532800-1773619199@www.edelweisscai.it
SUMMARY:Sci di fondo - VAL DI RHEMES (Annullata)
DESCRIPTION:15 marzo 2026\nIl villaggio di Rhêmes-Notre-Dame si trova a 1.725 metri di altitudine all’interno del Parco del Gran Paradiso. Situato in una vasta conca prativa\, cui fa da sfondo la caratteristica vetta della Granta Parey\, ha mantenuto inalterata nel corso dei secoli la sua struttura architettonica tipicamente rurale. E’ qui che si svolge\, la penultima domenica di Luglio\, una fiera dell’artigianato tipico valdostano. In inverno gli sciatori hanno a disposizione suggestivi tracciati per lo sci nordico e piste di discesa che si snodano tra i boschi. Gli esperti di arrampicata possono inoltre cimentarsi con il Piolet-Traction\, attività sportiva che prevede scalate con ramponi e piccozze sulle spettacolari cascate di ghiaccio. \nLe piste per lo sci di fondo di circa 20 km\, suddivise in 5 anelli di varia difficoltà per tutte le esigenze\, si snodano su entrambi i versanti orografici della vallata attraversando boschi e villaggi. \nNel Foyer de Fond\, situato a Bruil\, possiamo trovare spogliatoi\, toilettes\, docce e locale sciolinatura. \nQUOTE DI PARTECIPAZIONE \nSoci Edelweiss+CAI : EURO 33 \nSoci CAI               EURO 36 \nla quota deve essere pagata anticipatamente in sede o con BB \n  \nPossibilità di partecipazioni ai soli soci EDELWEISS pagando un’extra di euro 12\,95 per assicurazione infortuni CAI e soccorso alpino valida solo per il giorno dell’uscita. \nLa gita verrà annullata se non si raggiungera’ un numero minimo di iscritti  che ci consenta di poter usufruire del bus. In caso di annullamento gli iscritti saranno avvisati entro il giovedì precedente l’escursione. \n  \nLa quota comprende: il viaggio A/R in pullman\, le spese di organizzazione\, l’assistenza dei nostri accompagnatori\, assicurazione infortuni. \n  \nORARI: \nOre 6:40 ritrovo in Via M. Gioia ang. Via Sassetti –M2 GIOIA – uscita Via Sassetti \nOre 6:50 partenza \nOre 7:00 fermata in Ple Lotto davanti al Lido. Arrivo previsto ore 10/10:30 \nOre15:45 partenza per Milano con arrivo previsto per le 19-19\,30 in Via M. Gioia\, previo fermata in P.le Lotto. \n  \nISCRIZIONI:   In sede il lunedì dalle 17\,00 alle 20 ed il mercoledì dalle  17\,00 alle 21\,30 oppure \ntelefonando al numeri02/36589745 o per e-mail info@edelweisscai.it \nLe nostre attività sono riservate ai soci G.S.A. EDELWEISS+CAI e/o CAI  \nPAGAMENTI: preferibili i pagamenti in sede\, possibili anche con POS\,  oppure con BB utilizzando il  seguente IBAN IT35X0503401693000000003707 conto intestato a G.S.A. EDELWEISS A.P.S. Sottosezione CAI mI inviando una copia della contabile a info@edelweisscai.it \nPer i pagamenti in bus\, consentiti solo per i soci del G.S.A. EDELWEISS+CAI\, si chiede di avere la quota esatta per evitare il problema dei resti. \n———————————————————————————————————————————– \nRINUNCE:verrà applicato il regolamento gite in vigore visibile in sede o sul sito internet \nhttps://www.edelweisscai.it/regolamenti/ \n  \nTELEFONO ACCOMPAGNATORE\, in funzione dal sabato precedente la gita: 3757336642 \n  \nTutti i partecipanti dovranno essere in possesso di un documento identità valido NON SCADUTO e della tessera “Edelweiss” e/o “CAI“ e della tessera sanitaria \n  \nIl G.S.A. EDELWEISS sottosezione CAI declina ogni responsabilità per qualsiasi incidente che si dovesse verificare nel corso delle uscite \n 
URL:https://www.edelweisscai.it/eventi/sci-di-fondo-val-di-rhemes-m-1725-valle-daosta/
CATEGORIES:Evidenza Home,Sci di Fondo
ATTACH;FMTTYPE=image/jpeg:https://www.edelweisscai.it/wp-content/uploads/2024/07/val-di-rhemes-300x205-1-J9qvPu.tmp_.jpg
END:VEVENT
BEGIN:VEVENT
DTSTART;VALUE=DATE:20260322
DTEND;VALUE=DATE:20260323
DTSTAMP:20260425T145947
CREATED:20260211T232128Z
LAST-MODIFIED:20260211T232837Z
UID:6087-1774137600-1774223999@www.edelweisscai.it
SUMMARY:Sci di fondo - dal MALOJA m.1850 a ST. MORITZ m 1760 - Svizzera
DESCRIPTION:scarica il pdf\n22 marzo 2026\nL’Engadina è una valle di montagna nel Canton Grigioni in Svizzera\, ed è una delle valli più abitate d’Europa. E’ lunga 80 km. e si divide in due parti l’Alta e la Bassa Engadina. \nL’Alta Engadina\, situata tra i 1.600 ed i 1.800 m. di quota\, è una vasta zona pianeggiante caratterizzata dalla presenza di ben 4 laghi (Sils\, Silvaplana\, Champfer e Saint Moritz) circondati da fitti boschi\, di pini cembri e larici. Le montagne circostanti sono ricoperte da ghiacciai. \nLa Bassa Engadina è morfologicamente diversa da quella alta\, ha pendenze più scoscese ed è più stretta (si sviluppa tra i 1.610 ed i 1019 m. di quota) e l’Inn ha scavato profonde gole tra le rocce. \nL’Engadina è collegata all’Italia attraverso il Passo del Maloja. \nE’ in questo paradisiaco ambiente che si snodano oltre 150 km di piste per lo sci di fondo\, sia per la tecnica classica che per lo skating\, piste sempre ben preparate. In questi ultimi anni\, grazie agli impianti di neve artificiale\, si scia anche quando la neve scarseggia. \nIl percorso proposto di ca 15 km. è un classico ed è la prima tappa del raid dell’Engadina. Si svolge sui laghi ghiacciati che dal Maloja si estendono quasi sino a St. Moritz ed è molto adatto alla tecnica dello skating. Il bus ci aspetterà a St. Moritz. Chi non volesse cimentarsi sull’intero percorso potrà raggiungere St. Moritz con il ns. bus e sciare sulle piste di questa località. \nQUOTE DI PARTECIPAZIONE \nSoci Edelweiss+CAI : EURO 33 \nSoci CAI               EURO 36 \nla quota deve essere pagata anticipatamente in sede o con BB \nPossibilità di partecipazioni ai soli soci EDELWEISS pagando un’extra di euro 12\,95 per assicurazione infortuni CAI e soccorso alpino valida solo per il giorno dell’uscita. \nLa gita verrà annullata se non si raggiungera’ un numero minimo di iscritti  che ci consenta di poter usufruire del bus. In caso di annullamento gli iscritti saranno avvisati entro il giovedì precedente l’escursione. \nLa quota comprende: il viaggio A/R in pullman\, le spese di organizzazione\, l’assistenza dei nostri accompagnatori\, assicurazione infortuni. \nORARI: \nOre 6:40 ritrovo in Via M. Gioia ang. Via Sassetti –M2 GIOIA – uscita Via Sassetti \nOre 6:50 partenza \nOre 7:00 fermata in Ple Lotto davanti al Lido. Arrivo previsto ore 10/10:30 \nOre15:45 partenza per Milano con arrivo previsto per le 19-19\,30 in Via M. Gioia\, previo fermata in P.le Lotto. \nISCRIZIONI:   In sede il lunedì dalle 17\,00 alle 20 ed il mercoledì dalle  17\,00 alle 21\,30 oppure \ntelefonando al numeri02/36589745 o per e-mail info@edelweisscai.it \nLe nostre attività sono riservate ai soci G.S.A. EDELWEISS+CAI e/o CAI \nPAGAMENTI: preferibili i pagamenti in sede\, possibili anche con POS\,  oppure con BB utilizzando il  seguente IBAN IT35X0503401693000000003707 conto intestato a G.S.A. EDELWEISS A.P.S. Sottosezione CAI mI inviando una copia della contabile a info@edelweisscai.it \nPer i pagamenti in bus\, consentiti solo per i soci del G.S.A. EDELWEISS+CAI\, si chiede di avere la quota esatta per evitare il problema dei resti. \n———————————————————————————————————————————– \nRINUNCE:verrà applicato il regolamento gite in vigore visibile in sede o sul sito internet \nhttps://www.edelweisscai.it/regolamenti/ \n  \nTELEFONO ACCOMPAGNATORE\, in funzione dal sabato precedente la gita: 3757336642 \n  \nTutti i partecipanti dovranno essere in possesso di un documento identità valido NON SCADUTO e della tessera “Edelweiss” e/o “CAI“ e della tessera sanitaria \n  \nIl G.S.A. EDELWEISS sottosezione CAI declina ogni responsabilità per qualsiasi incidente che si dovesse verificare nel corso delle uscite
URL:https://www.edelweisscai.it/eventi/sci-di-fondo-dal-maloja-m-1850-a-st-moritz-m-1760-svizzera/
CATEGORIES:Evidenza Home,Sci di Fondo
ATTACH;FMTTYPE=image/jpeg:https://www.edelweisscai.it/wp-content/uploads/2024/02/011-Maloja-scaled.jpg
END:VEVENT
BEGIN:VEVENT
DTSTART;VALUE=DATE:20260329
DTEND;VALUE=DATE:20260330
DTSTAMP:20260425T145947
CREATED:20260211T232724Z
LAST-MODIFIED:20260327T140012Z
UID:6090-1774742400-1774828799@www.edelweisscai.it
SUMMARY:Sci di fondo - PONT VALSAVARANCHE m 1960 - Valle d'Aosta
DESCRIPTION:scarica il pdf\n29 marzo 2026\nValsavaranche si trova in una stretta valle lunga 24 chilometri fra pendii boscosi\, dominata dal maestoso anfiteatro naturale del Gran Paradiso (4.061 m.)\, unico “4.000” interamente in territorio italiano. In inverno Valsavarenche diventa la meta ideale di chi cerca la quiete dello sci di fondo\, dello sci alpinismo e delle passeggiate con racchette da neve. \nLa pista si sviluppa interamente nel Parco Nazionale del Gran Paradiso dal piccolo centro di Pont. Lungo la prima parte del vallone di Seyvaz il tracciato si snoda tra radi larici e non è raro l’incontro con camosci e stambecchi. Il paesaggio è dominato da cime celebri e maestose: alla testata della vallata si distinguono la piramide della Becca di Monciair (m. 3.544)\, i Denti del Broglio o del Breuil (m. 3.454) e il Ciarforon\, magnifica montagna dalla caratteristica calotta glaciale che tocca i 3.642 m \nQUOTE DI PARTECIPAZIONE \nSoci Edelweiss+CAI : EURO 33 \nSoci CAI               EURO 36 \nla quota deve essere pagata anticipatamente in sede o con BB \nPossibilità di partecipazioni ai soli soci EDELWEISS pagando un’extra di euro 12\,95 per assicurazione infortuni CAI e soccorso alpino valida solo per il giorno dell’uscita. \nLa gita verrà annullata se non si raggiungera’ un numero minimo di iscritti  che ci consenta di poter usufruire del bus. In caso di annullamento gli iscritti saranno avvisati entro il giovedì precedente l’escursione. \nLa quota comprende: il viaggio A/R in pullman\, le spese di organizzazione\, l’assistenza dei nostri accompagnatori\, assicurazione infortuni.  \nORARI: \nOre 6:40 ritrovo in Via M. Gioia ang. Via Sassetti –M2 GIOIA – uscita Via Sassetti \nOre 6:50 partenza \nOre 7:00 fermata in Ple Lotto davanti al Lido. Arrivo previsto ore 10/10:30 \nOre15:45 partenza per Milano con arrivo previsto per le 19-19\,30 in Via M. Gioia\, previo fermata in P.le Lotto. \nISCRIZIONI:   In sede il lunedì dalle 17\,00 alle 20 ed il mercoledì dalle  17\,00 alle 21\,30 oppure \ntelefonando al numeri02/36589745 o per e-mail info@edelweisscai.it \nLe nostre attività sono riservate ai soci G.S.A. EDELWEISS+CAI e/o CAI  \nPAGAMENTI: preferibili i pagamenti in sede\, possibili anche con POS\,  oppure con BB utilizzando il  seguente IBAN IT35X0503401693000000003707 conto intestato a G.S.A. EDELWEISS A.P.S. Sottosezione CAI mI inviando una copia della contabile a info@edelweisscai.it \nPer i pagamenti in bus\, consentiti solo per i soci del G.S.A. EDELWEISS+CAI\, si chiede di avere la quota esatta per evitare il problema dei resti. \n———————————————————————————————————————————– \nRINUNCE:verrà applicato il regolamento gite in vigore visibile in sede o sul sito internet \nhttps://www.edelweisscai.it/regolamenti/ \n  \nTELEFONO ACCOMPAGNATORE\, in funzione dal sabato precedente la gita: 3757336642 \n  \nTutti i partecipanti dovranno essere in possesso di un documento identità valido NON SCADUTO e della tessera “Edelweiss” e/o “CAI“ e della tessera sanitaria \n  \nIl G.S.A. EDELWEISS sottosezione CAI declina ogni responsabilità per qualsiasi incidente che si dovesse verificare nel corso delle uscite
URL:https://www.edelweisscai.it/eventi/sci-di-fondo-pont-valsavaranche-m-1960-valle-daosta/
CATEGORIES:Sci di Fondo
ATTACH;FMTTYPE=image/jpeg:https://www.edelweisscai.it/wp-content/uploads/2023/03/PONT-INVERNO.jpg
END:VEVENT
END:VCALENDAR