BEGIN:VCALENDAR
VERSION:2.0
PRODID:-//Edelweiss Cai Milano - ECPv6.15.18//NONSGML v1.0//EN
CALSCALE:GREGORIAN
METHOD:PUBLISH
X-ORIGINAL-URL:https://www.edelweisscai.it
X-WR-CALDESC:Eventi per Edelweiss Cai Milano
REFRESH-INTERVAL;VALUE=DURATION:PT1H
X-Robots-Tag:noindex
X-PUBLISHED-TTL:PT1H
BEGIN:VTIMEZONE
TZID:Europe/Rome
BEGIN:DAYLIGHT
TZOFFSETFROM:+0100
TZOFFSETTO:+0200
TZNAME:CEST
DTSTART:20250330T010000
END:DAYLIGHT
BEGIN:STANDARD
TZOFFSETFROM:+0200
TZOFFSETTO:+0100
TZNAME:CET
DTSTART:20251026T010000
END:STANDARD
BEGIN:DAYLIGHT
TZOFFSETFROM:+0100
TZOFFSETTO:+0200
TZNAME:CEST
DTSTART:20260329T010000
END:DAYLIGHT
BEGIN:STANDARD
TZOFFSETFROM:+0200
TZOFFSETTO:+0100
TZNAME:CET
DTSTART:20261025T010000
END:STANDARD
BEGIN:DAYLIGHT
TZOFFSETFROM:+0100
TZOFFSETTO:+0200
TZNAME:CEST
DTSTART:20270328T010000
END:DAYLIGHT
BEGIN:STANDARD
TZOFFSETFROM:+0200
TZOFFSETTO:+0100
TZNAME:CET
DTSTART:20271031T010000
END:STANDARD
END:VTIMEZONE
BEGIN:VEVENT
DTSTART;TZID=Europe/Rome:20260313T063000
DTEND;TZID=Europe/Rome:20260315T203000
DTSTAMP:20260424T174809
CREATED:20260116T141215Z
LAST-MODIFIED:20260311T150906Z
UID:5969-1773383400-1773606600@www.edelweisscai.it
SUMMARY:Sci di fondo - ALTOPIANO DI ASIAGO (Veneto)
DESCRIPTION:SCARICA IL PDF \ndal 13 al 15 marzo 2026\nL’altopiano di Asiago\, ai confini con il Trentino\, è considerato il paradiso dello sci di fondo. \nOffre oltre 500 km di piste che si snodano in uno splendido scenario su strade forestali e strade militari della grande guerra\, sempre perfettamente preparate e con un ottimo innevamento per tutto il periodo invernale\, grazie alle basse temperature notturne. \nAvremo solo l’imbarazzo della scelta su quale località dell’altopiano raggiungere : Gallio Campomulo\, Campolongo\, Enego\, Marcesina\, tutti luoghi ideali  per gli atleti del fondo e per gli amanti della natura incontaminata\, in un ambiente magnifico e spettacolare che fa invidia alle più blasonate località scandinave. \nPROGRAMMA  \nVenerdì 13 marzo 2026: Ore 6:40 in Via Melchiorre Gioia ang. Via Sassetti. Ore 6\,50 partenza. Ore 7\,00 fermata in P.le Lotto davanti al Lido. Ore 11.00 circa arrivo  ad Asiago Centro Fondo Golf.  Ore 16 ritrovo al bus e 16\,15 partenza con il pullman per Treschè Conca\, cena e pernottamento in albergo.  \nSabato 14 marzo 2026: Colazione in albergo. Ore 9\,00 partenza per Centro Fondo Gallio Ore 16\,00  ritrovo al bus e alle 16\,15 partenza in bus per rientro a Treschè Conca. Trattamento di ½ pensione in albergo. \nDomenica 15 marzo 2026 : Colazione in albergo. Ore 9\,00 partenza con bagagli caricati per il centro fondo di Campolongo. Ore 15\,00 circa partenza per Milano\, con arrivo previsto alle ore 20\,30 in Via M. Gioia/Ang.Via Sassetti\, previa fermata in P.le Lotto. \nLE LOCALITA’ POTRANNO ESSERE VARIATE IN BASE ALL’INNEVAMENTO \nQUOTA DI PARTECIPAZIONE :          Euro 380\,00 soci Edelweiss + CAI  \n                                                                         Euro  400\,00 soci CAI   \nLa quota comprende: Viaggio A/R in pullman\,  2 giorni ½ pensione in albergo 3 stelle con bevande incluse per la cena (1/4 vino+1/2 acqua)\, a partire dalla cena 13.3.26 alla prima colazione del 15.3.26 – Sistemazione in camere  a  2/3 letti con servizi\, assicurazione infortuni\, assistenza dei nostri accompagnatori.                                                                 \nIscrizioni: dal ricevimento della circolare\, telefonando al numero 02/36589745 oppure in sede il lunedì dalle 17\,30 alle 20.00 ed il mercoledì dalle 17\,30 alle 22\,00 o per e-mail info@edelweisscai.it. Le nostre attività sono riservate  ai soci G.S.A.Edelweiss+CAI e ai soci CAI. \nPER MOTIVI ORGANIZZATIVI LE ISCRIZIONE DEVONO PERVENIRE ENTRO IL 10.2.26  \nPagamento :   – Acconto di Euro 200\,= da versare all’atto dell’iscrizione in sede o con bonifico bancario**.  L’iscrizione sarà confermata solo dopo il versamento dell’acconto \n– Saldo entro il  4.3.26 \nPer pagamenti con BB utilizzare il seguente IBAN  IT35X0503401693000000003707conto intestato G.S.A. EDELWEISS A.P.S. SOTTOSEZIONE CAI MILANO – causale Asiago 2026 \nRinunce  :  Verrà applicato il “Regolamento Gite” visibile in sede o su internet www.edelweisscai.it \nPer comunicazioni urgenti prima della partenza e per le emergenze durante il periodo di soggiorno utilizzare il seguente : n°  3387979930  \nATTENZIONE : Ogni partecipante dovrà essere munito di un documento d’identità valido per l’espatrio\, della tessera Edelweiss o CAI e della tessera sanitaria.  \nLa Sottosezione EDELWEISS declina ogni responsabilità per qualsiasi incidente che si dovesse verificare durante il soggiorno.
URL:https://www.edelweisscai.it/eventi/sci-di-fondo-altopiano-di-asiago-veneto/
CATEGORIES:Sci di Fondo
ATTACH;FMTTYPE=image/jpeg:https://www.edelweisscai.it/wp-content/uploads/2026/01/Asiago-26.jpg
END:VEVENT
END:VCALENDAR