BEGIN:VCALENDAR
VERSION:2.0
PRODID:-//Edelweiss Cai Milano - ECPv6.15.18//NONSGML v1.0//EN
CALSCALE:GREGORIAN
METHOD:PUBLISH
X-ORIGINAL-URL:https://www.edelweisscai.it
X-WR-CALDESC:Eventi per Edelweiss Cai Milano
REFRESH-INTERVAL;VALUE=DURATION:PT1H
X-Robots-Tag:noindex
X-PUBLISHED-TTL:PT1H
BEGIN:VTIMEZONE
TZID:Europe/Rome
BEGIN:DAYLIGHT
TZOFFSETFROM:+0100
TZOFFSETTO:+0200
TZNAME:CEST
DTSTART:20250330T010000
END:DAYLIGHT
BEGIN:STANDARD
TZOFFSETFROM:+0200
TZOFFSETTO:+0100
TZNAME:CET
DTSTART:20251026T010000
END:STANDARD
BEGIN:DAYLIGHT
TZOFFSETFROM:+0100
TZOFFSETTO:+0200
TZNAME:CEST
DTSTART:20260329T010000
END:DAYLIGHT
BEGIN:STANDARD
TZOFFSETFROM:+0200
TZOFFSETTO:+0100
TZNAME:CET
DTSTART:20261025T010000
END:STANDARD
BEGIN:DAYLIGHT
TZOFFSETFROM:+0100
TZOFFSETTO:+0200
TZNAME:CEST
DTSTART:20270328T010000
END:DAYLIGHT
BEGIN:STANDARD
TZOFFSETFROM:+0200
TZOFFSETTO:+0100
TZNAME:CET
DTSTART:20271031T010000
END:STANDARD
END:VTIMEZONE
BEGIN:VEVENT
DTSTART;VALUE=DATE:20260111
DTEND;VALUE=DATE:20260112
DTSTAMP:20260425T004035
CREATED:20251213T192424Z
LAST-MODIFIED:20251227T215932Z
UID:5798-1768089600-1768175999@www.edelweisscai.it
SUMMARY:Sci di fondo - SPLUGEN mt. 1500 – Grigioni - Svizzera
DESCRIPTION:scarica il pdf\n11 gennaio 2026\nSplugen si trova nei Grigioni\, nel Rheinwald\, sul versante settentrionale del Passo dello Spluga e si raggiunge velocemente da Milano con l’autostrada. I vari anelli della pista hanno uno sviluppo di 38 km e sono preparati sia per la tecnica classica che per il pattinato. Il punto di partenza è situato presso il campeggio e centro sportivo per lo sci di fondo che è dotato di spogliatoio\, docce\, WC\, chiosco e locale sciolinatura \n  \nQUOTE DI PARTECIPAZIONE \nSoci Edelweiss+CAI : EURO 33 \nSoci CAI                           EURO 36 \nla quota deve essere pagata anticipatamente in sede o con BB \nPossibilità di partecipazioni ai soli soci EDELWEISS pagando un’extra di euro 12\,95 per assicurazione infortuni CAI e soccorso alpino valida solo per il giorno dell’uscita. \nLa gita verrà annullata se non si raggiungera’ un numero minimo di iscritti  che ci consenta di poter usufruire del bus. In caso di annullamento gli iscritti saranno avvisati entro il giovedì precedente l’escursione. \nLa quota comprende: il viaggio A/R in pullman\, le spese di organizzazione\, l’assistenza dei nostri accompagnatori\, assicurazione infortuni. \nORARI: \nOre 6:40 ritrovo in Via M. Gioia ang. Via Sassetti –M2 GIOIA – uscita Via Sassetti \nOre 6:50 partenza \nOre 7:00 fermata in Ple Lotto davanti al Lido. Arrivo previsto ore 10/10:30 \nOre15:45 partenza per Milano con arrivo previsto per le 19-19\,30 in Via M. Gioia\, previo fermata in P.le Lotto. \n  \nISCRIZIONI:   In sede il lunedì dalle 17\,00 alle 20 ed il mercoledì dalle  17\,00 alle 21\,30 oppure \ntelefonando al numeri02/36589745 o per e-mail info@edelweisscai.it \nLe nostre attività sono riservate ai soci G.S.A. EDELWEISS+CAI e/o CAI \nPAGAMENTI: preferibili i pagamenti in sede\, possibili anche con POS\,  oppure con BB utilizzando il  seguente IBAN IT35X0503401693000000003707 conto intestato a G.S.A. EDELWEISS A.P.S. Sottosezione CAI MI inviando una copia della contabile a info@edelweisscai.it \nPer i pagamenti in bus\, consentiti solo per i soci del G.S.A. EDELWEISS+CAI\, si chiede di avere la quota esatta per evitare il problema dei resti. \n———————————————————————————————————————————– \nRINUNCE:verrà applicato il regolamento gite in vigore visibile in sede o sul sito internet \nhttps://www.edelweisscai.it/regolamenti/ \n  \nIl G.S.A. EDELWEISS sottosezione CAI declina ogni responsabilità per qualsiasi incidente che si dovesse verificare nel corso delle uscite \nTELEFONO ACCOMPAGNATORE\, in funzione dal sabato precedente la gita: 3757336642
URL:https://www.edelweisscai.it/eventi/sci-di-fondo-splugen-mt-1500-grigioni-svizzera-2/
CATEGORIES:Sci di Fondo
ATTACH;FMTTYPE=image/jpeg:https://www.edelweisscai.it/wp-content/uploads/2020/11/splugen-2019.jpg
END:VEVENT
END:VCALENDAR