BEGIN:VCALENDAR
VERSION:2.0
PRODID:-//Edelweiss Cai Milano - ECPv6.15.18//NONSGML v1.0//EN
CALSCALE:GREGORIAN
METHOD:PUBLISH
X-WR-CALNAME:Edelweiss Cai Milano
X-ORIGINAL-URL:https://www.edelweisscai.it
X-WR-CALDESC:Eventi per Edelweiss Cai Milano
REFRESH-INTERVAL;VALUE=DURATION:PT1H
X-Robots-Tag:noindex
X-PUBLISHED-TTL:PT1H
BEGIN:VTIMEZONE
TZID:Europe/Rome
BEGIN:DAYLIGHT
TZOFFSETFROM:+0100
TZOFFSETTO:+0200
TZNAME:CEST
DTSTART:20240331T010000
END:DAYLIGHT
BEGIN:STANDARD
TZOFFSETFROM:+0200
TZOFFSETTO:+0100
TZNAME:CET
DTSTART:20241027T010000
END:STANDARD
BEGIN:DAYLIGHT
TZOFFSETFROM:+0100
TZOFFSETTO:+0200
TZNAME:CEST
DTSTART:20250330T010000
END:DAYLIGHT
BEGIN:STANDARD
TZOFFSETFROM:+0200
TZOFFSETTO:+0100
TZNAME:CET
DTSTART:20251026T010000
END:STANDARD
BEGIN:DAYLIGHT
TZOFFSETFROM:+0100
TZOFFSETTO:+0200
TZNAME:CEST
DTSTART:20260329T010000
END:DAYLIGHT
BEGIN:STANDARD
TZOFFSETFROM:+0200
TZOFFSETTO:+0100
TZNAME:CET
DTSTART:20261025T010000
END:STANDARD
END:VTIMEZONE
BEGIN:VEVENT
DTSTART;VALUE=DATE:20251230
DTEND;VALUE=DATE:20251231
DTSTAMP:20260425T004447
CREATED:20251226T111947Z
LAST-MODIFIED:20251226T112610Z
UID:5853-1767052800-1767139199@www.edelweisscai.it
SUMMARY:Sci di fondo RHEMES NOTRE DAME m 1725 - Valle d'Aosta (ex Andermatt)
DESCRIPTION:30 dicembre 2025\nIl villaggio di Rhêmes-Notre-Dame si trova a 1.725 metri di altitudine all’interno del Parco del Gran Paradiso. Situato in una vasta conca prativa\, cui fa da sfondo la caratteristica vetta della Granta Parey\, ha mantenuto inalterata nel corso dei secoli la sua struttura architettonica tipicamente rurale. E’ qui che si svolge\, la penultima domenica di Luglio\, una fiera dell’artigianato tipico valdostano. In inverno gli sciatori hanno a disposizione suggestivi tracciati per lo sci nordico e piste di discesa che si snodano tra i boschi. Gli esperti di arrampicata possono inoltre cimentarsi con il Piolet-Traction\, attività sportiva che prevede scalate con ramponi e piccozze sulle spettacolari cascate di ghiaccio. \nLe piste per lo sci di fondo di circa 20 km\, suddivise in 5 anelli di varia difficoltà per tutte le esigenze\, si snodano su entrambi i versanti orografici della vallata attraversando boschi e villaggi. \nNel Foyer de Fond\, situato a Bruil\, possiamo trovare spogliatoi\, toilettes\, docce e locale sciolinatura \n  \nQUOTE DI PARTECIPAZIONE \n            Soci Edelweiss+CAI : Euro 33 \n            Soci CAI                    : Euro 36 \nla quota deve essere pagata anticipatamente in sede o con BB \nPossibilità di partecipazioni ai soli soci EDELWEISS pagando un’extra di euro 12\,95 per assicurazione infortuni CAI e soccorso alpino valida solo per il giorno dell’uscita. \nLa gita verrà annullata se non si raggiungerà un numero minimo di iscritti che ci consenta di poter usufruire del bus. In caso di annullamento  gli iscritti saranno avvisati entro il giovedì precedente l’escursione. \nLa quota comprende: il viaggio A/R in pullman\, le spese di organizzazione\, l’assistenza dei nostri accompagnatori\, assicurazione infortuni. \n ORARI: \nOre 6:40 ritrovo in Via M. Gioia ang. Via Sassetti –M2 GIOIA – uscita Via Sassetti \nOre 6:50 partenza \nOre 7:00 fermata in Ple Lotto davanti al Lido. \nOre15:45 partenza per Milano con arrivo previsto per le 19-19\,30 in Via M. Gioia\, previo fermata in P.le Lotto. \nISCRIZIONI:   In sede il lunedì dalle 17\,30 alle 20 ed il mercoledì dalle  17\,30 alle 22:00 oppure \ntelefonando al numeri 02/36589745 o per e-mail info@edelweisscai.it \nLe nostre attività sono riservate ai soci G.S.A. EDELWEISS+CAI e/o CAI \nPAGAMENTI: preferibili i pagamenti in sede\, possibili anche con POS\,  oppure con BB utilizzando il  seguente \nIBANIT35X0503401693000000003707 intestato a G.S.A. EDELWEISS A.P.S. Sottosezione CAI MILANO \ninviando una copia della contabile a info@edelweisscai.it \nPer i pagamenti in bus\, consentiti solo per i soci del G.S.A. EDELWEISS+CAI\, si chiede di avere la quota esatta per evitare il problema dei resti. \n———————————————————————————————————————————– \nRINUNCE:verrà applicato il regolamento gite in vigore visibile in sede o sul sito internet \nhttps://www.edelweisscai.it/regolamenti/  \nTELEFONO ACCOMPAGNATORE\, in funzione dal sabato precedente la gita: 3757336642
URL:https://www.edelweisscai.it/eventi/sci-di-fondo-rhemes-notre-dame-m-1725-valle-daosta-ex-andermatt/
CATEGORIES:Evidenza Home,Sci di Fondo
ATTACH;FMTTYPE=image/jpeg:https://www.edelweisscai.it/wp-content/uploads/2025/02/Rhemes.jpg
END:VEVENT
END:VCALENDAR