BEGIN:VCALENDAR
VERSION:2.0
PRODID:-//Edelweiss Cai Milano - ECPv6.15.18//NONSGML v1.0//EN
CALSCALE:GREGORIAN
METHOD:PUBLISH
X-ORIGINAL-URL:https://www.edelweisscai.it
X-WR-CALDESC:Eventi per Edelweiss Cai Milano
REFRESH-INTERVAL;VALUE=DURATION:PT1H
X-Robots-Tag:noindex
X-PUBLISHED-TTL:PT1H
BEGIN:VTIMEZONE
TZID:Europe/Rome
BEGIN:DAYLIGHT
TZOFFSETFROM:+0100
TZOFFSETTO:+0200
TZNAME:CEST
DTSTART:20240331T010000
END:DAYLIGHT
BEGIN:STANDARD
TZOFFSETFROM:+0200
TZOFFSETTO:+0100
TZNAME:CET
DTSTART:20241027T010000
END:STANDARD
BEGIN:DAYLIGHT
TZOFFSETFROM:+0100
TZOFFSETTO:+0200
TZNAME:CEST
DTSTART:20250330T010000
END:DAYLIGHT
BEGIN:STANDARD
TZOFFSETFROM:+0200
TZOFFSETTO:+0100
TZNAME:CET
DTSTART:20251026T010000
END:STANDARD
BEGIN:DAYLIGHT
TZOFFSETFROM:+0100
TZOFFSETTO:+0200
TZNAME:CEST
DTSTART:20260329T010000
END:DAYLIGHT
BEGIN:STANDARD
TZOFFSETFROM:+0200
TZOFFSETTO:+0100
TZNAME:CET
DTSTART:20261025T010000
END:STANDARD
END:VTIMEZONE
BEGIN:VEVENT
DTSTART;TZID=Europe/Rome:20251220T000000
DTEND;TZID=Europe/Rome:20251221T000000
DTSTAMP:20260425T021823
CREATED:20251102T173955Z
LAST-MODIFIED:20251203T192020Z
UID:5664-1766188800-1766275200@www.edelweisscai.it
SUMMARY:Sci di fondo - WEEK END IN ENGADINA
DESCRIPTION:scarica il pdf\n20-21 dicembre 2025\nL’Engadina è una valle di montagna nel Canton Grigioni in Svizzera ed è una delle valli più abitate d’Europa. E’ lunga 80 km e si divide in due parti l’Alta e la Bassa Engadina. \nL’Alta Engadina\, situata tra i 1600 ed i 1800 mt. di quota è una vasta zona pianeggiante caratterizzata dalla presenza di ben 4 laghi (Sils\, Silvaplana\, Champfer e Saint Moritz) circondati da fitti boschi di pini cembri e larici. Le montagne circostanti sono ricoperte da ghiacciai. \nLa Bassa Engadina è morfologicamente diversa da quella alta\, ha pendenze più scoscese ed è più stretta (si sviluppa tra i 1610 ed i 1019 mt di quota) e l’Inn ha scavato profonde gole tra le rocce. \nL’Engadina è collegata all’Italia attraverso il Passo del Maloja. \nE’ in questo paradisiaco ambiente che si snodano oltre 150 km di piste per lo sci di fondo\, sia per la tecnica classica che per lo skating\, sempre ben preparate ed in questi ultimi anni\, grazie agli impianti di neve artificiale\, si scia anche quando la neve scarseggia. \nPROGRAMMA \nsabato 20 dicembre : Ore 6:40 in Via Melchiorre Gioia ang. Via Sassetti. Ore 6\,50 partenza. \nOre 7\,00 fermata in P.le Lotto davanti al Lido. Ore 10:30 circa arrivo  a  Sils Maria o altra località dell’Engadina. \nOre 16\,00  circa partenza con il pullman per Chiavenna. Ore 18 partenza da Chiavenna per Piuro. Cena e pernottamento in hotel. \ndomenica 21 Dicembre : Ore 8:30 partenza in pullman\, con bagagli caricati\, per Maloja o altra località della valle\, con arrivo previsto alle ore 9\,30/10 \nOre 15\,30 ritrovo\, ore 15\,45  partenza per Milano\, con arrivo previsto alle ore 20:30 in Via M. Gioia\, previa fermata in P.le Lotto. \nQUOTE DI PARTECIPAZIONE :            Euro  170\,00 soci Edelweiss + CAI(s.c.) \n                                                                            Euro  190\,00 soci CAI       (s.c.)  \nLa quota comprende :  viaggio andata/ritorno in bus\, sistemazione in albergo*** a Piuro in camere a 2/3 letti con servizi\, cena tipica con bevande comprese (1/4 vino + ½ acqua) e pernottamento del 20/12\, 1^colazione del 21/12\, assicurazione infortuni. \nIscrizioni: entro il 15.11.25 dal ricevimento della circolare\, telefonando ai numeri 02/36589745\, oppure in sede il lunedì dalle 17:30 alle 20:00 ed il mercoledì dalle 17:30  alle 22:00 o per e-mail info@edelweisscai.it. \nL’Iscrizione è riservata ai soci Edelweiss+CAI  e CAI \nPOSTI DISPONIBILI 20 \nPer problemi organizzativi si richiedono iscrizioni entro il 15.11.25 \nPagamento    – Acconto 100 Euro da versarsi all’atto dell’iscrizione in sede o con BB** \nL’iscrizione sarà confermata solo dopo il versamento dell’acconto \n– Saldo entro il 3.12.25 \n**riferimenti bancari IBAN : IT35X0503401693000000003707 \nintestato G.S.A. EDELWEISS A.P.S. Sottosezione CAI Milano (inviare una copia del BB) \nRinunce: Verrà applicato il”REGOLAMENTO GITE” visibile in sede. \nPer comunicazioni urgenti prima della partenza e per le emergenze durante il periodo di soggiorno utilizzare il seguente numero: n° 02 3387979930 \nATTENZIONE : Ogni partecipante dovrà essere munito di un documento d’identità valido per l’espatrio\, tessera sanitaria e della tessera Edelweiss e/o CAI \nLa Sottosezione EDELWEISS declina ogni responsabilità per qualsiasi incidente che si dovesse verificare durante il soggiorno.
URL:https://www.edelweisscai.it/eventi/sci-di-fondo-week-end-engadina/
CATEGORIES:Sci di Fondo
ATTACH;FMTTYPE=image/jpeg:https://www.edelweisscai.it/wp-content/uploads/2025/11/engadina-25.jpg
END:VEVENT
END:VCALENDAR