BEGIN:VCALENDAR
VERSION:2.0
PRODID:-//Edelweiss Cai Milano - ECPv6.15.18//NONSGML v1.0//EN
CALSCALE:GREGORIAN
METHOD:PUBLISH
X-WR-CALNAME:Edelweiss Cai Milano
X-ORIGINAL-URL:https://www.edelweisscai.it
X-WR-CALDESC:Eventi per Edelweiss Cai Milano
REFRESH-INTERVAL;VALUE=DURATION:PT1H
X-Robots-Tag:noindex
X-PUBLISHED-TTL:PT1H
BEGIN:VTIMEZONE
TZID:Europe/Rome
BEGIN:DAYLIGHT
TZOFFSETFROM:+0100
TZOFFSETTO:+0200
TZNAME:CEST
DTSTART:20240331T010000
END:DAYLIGHT
BEGIN:STANDARD
TZOFFSETFROM:+0200
TZOFFSETTO:+0100
TZNAME:CET
DTSTART:20241027T010000
END:STANDARD
BEGIN:DAYLIGHT
TZOFFSETFROM:+0100
TZOFFSETTO:+0200
TZNAME:CEST
DTSTART:20250330T010000
END:DAYLIGHT
BEGIN:STANDARD
TZOFFSETFROM:+0200
TZOFFSETTO:+0100
TZNAME:CET
DTSTART:20251026T010000
END:STANDARD
BEGIN:DAYLIGHT
TZOFFSETFROM:+0100
TZOFFSETTO:+0200
TZNAME:CEST
DTSTART:20260329T010000
END:DAYLIGHT
BEGIN:STANDARD
TZOFFSETFROM:+0200
TZOFFSETTO:+0100
TZNAME:CET
DTSTART:20261025T010000
END:STANDARD
END:VTIMEZONE
BEGIN:VEVENT
DTSTART;VALUE=DATE:20251123
DTEND;VALUE=DATE:20251124
DTSTAMP:20260425T062902
CREATED:20251026T223533Z
LAST-MODIFIED:20251121T175521Z
UID:5641-1763856000-1763942399@www.edelweisscai.it
SUMMARY:Sci di Fondo - RIALE m. 1800 (Val Formazza)
DESCRIPTION:SCARICA IL PDF \n23.11.2025\nRiale\, grazioso paesino con caratteristiche case in legno con tetti in pietra\, situato in Alta Val Formazza a ridosso del confine svizzero\, è sede di un ottimo centro fondo che offre una pista con diversi anelli di cui il più lungo e il più tecnico ha una lunghezza di 12 km. Le piste partono proprio di fronte al centro fondo (spogliatoi\, docce\, servizi ed al piano superiore ristorante e bar)\, e si dirigono verso le case di Riale sormontate dalla celebre chiesetta e dalle cime del Corno di Ban e del Corno di Nefalgiù. La pista facile si snoda nella piana\, mentre il percorso più impegnativo risale i pendii dietro la chiesa per poi proseguire verso la diga con salite e discese che\, a secondo del tipo di innevamento\, possono essere impegnative. Ritornati al centro fondo il tracciato della pista nera risale il costone e continua alternando discese e salite ripide\, poi grazie ad un ponte di legno continua dall’altra parte della valle sotto i pendii del Gruppo Castel. Località d’alta montagna ideale per iniziare la stagione in quanto grazie alla sua posizione è una delle prime ad essere innevata. \nA Riale si scia già da fine ottobre grazie alla conservazione della neve della stagione precedente  che viene utilizzata\, con l’innevamento artificiale\, per tracciare una pista di ridotte dimensioni adatta all’allenamento e alla prima sciata della stagione. \nQUOTE DI PARTECIPAZIONE \nA partire dalla stagione invernale le quote di partecipazione verranno calcolate in base al numero dei partecipanti iscritti al mercoledì precedente l’uscita. \nSoci Edelweiss+CAI : EURO 33 \nSoci CAI                    : EURO 36 \nla quota deve essere pagata anticipatamente in sede o con BB \nPossibilità di partecipazioni ai soli soci EDELWEISS pagando un’extra di euro 12\,95 per assicurazione infortuni CAI e soccorso alpino valida solo per il giorno dell’uscita. \nLa gita verrà annullata se non si raggiungerà un numero minimo di iscritti ci consenta di poter usufruire del bus. In caso di annullamento  gli iscritti saranno avvisati entro il giovedì precedente l’escursione. \nLa quota comprende: il viaggio A/R in pullman\, le spese di organizzazione\, l’assistenza dei nostri accompagnatori\, assicurazione infortuni. \n ORARI: \nOre 6:40 ritrovo in Via M. Gioia ang. Via Sassetti –M2 GIOIA – uscita Via Sassetti \nOre 6:50 partenza \nOre 7:00 fermata in Ple Lotto davanti al Lido. Arrivo previsto ore 10/10:30 \nOre15:45 partenza per Milano con arrivo previsto per le 19-19\,30 in Via M. Gioia\, previo fermata in P.le Lotto. \nISCRIZIONI:   In sede il lunedì dalle 17\,30 alle 20 ed il mercoledì dalle  17\,30 alle 22:00 oppure \ntelefonando al numeri 02/36589745 o per e-mail info@edelweisscai.it \nLe nostre attività sono riservate ai soci G.S.A. EDELWEISS+CAI e/o CAI \n PAGAMENTI:preferibili i pagamenti in sede\, possibili anche con POS\,  oppure con BB utilizzando il  seguente IBANIT35X0503401693000000003707 intestato a G.S.A. EDELWEISS A.P.S. inviando una copia della contabile a info@edelweisscai.it \nPer i pagamenti in bus\, consentiti solo per i soci del G.S.A. EDELWEISS+CAI\, si chiede di avere la quota esatta per evitare il problema dei resti. \n———————————————————————————————————————————– \nRINUNCE:verrà applicato il regolamento gite in vigore visibile in sede o sul sito internet \nhttps://www.edelweisscai.it/regolamenti/ \nTELEFONO ACCOMPAGNATORE\, in funzione dal sabato precedente la gita: 3757336642 \n________________________________________________________________________________ \nIl GSA EDELWEISS Sottosezione CAI declina ogni responsabilità per qualsiasi incidente che si \ndovesse verificare durante le uscite.
URL:https://www.edelweisscai.it/eventi/sci-di-fondo-riale-m-1800-val-formazza/
CATEGORIES:Sci di Fondo
END:VEVENT
END:VCALENDAR