BEGIN:VCALENDAR
VERSION:2.0
PRODID:-//Edelweiss Cai Milano - ECPv6.15.18//NONSGML v1.0//EN
CALSCALE:GREGORIAN
METHOD:PUBLISH
X-ORIGINAL-URL:https://www.edelweisscai.it
X-WR-CALDESC:Eventi per Edelweiss Cai Milano
REFRESH-INTERVAL;VALUE=DURATION:PT1H
X-Robots-Tag:noindex
X-PUBLISHED-TTL:PT1H
BEGIN:VTIMEZONE
TZID:Europe/Rome
BEGIN:DAYLIGHT
TZOFFSETFROM:+0100
TZOFFSETTO:+0200
TZNAME:CEST
DTSTART:20250330T010000
END:DAYLIGHT
BEGIN:STANDARD
TZOFFSETFROM:+0200
TZOFFSETTO:+0100
TZNAME:CET
DTSTART:20251026T010000
END:STANDARD
BEGIN:DAYLIGHT
TZOFFSETFROM:+0100
TZOFFSETTO:+0200
TZNAME:CEST
DTSTART:20260329T010000
END:DAYLIGHT
BEGIN:STANDARD
TZOFFSETFROM:+0200
TZOFFSETTO:+0100
TZNAME:CET
DTSTART:20261025T010000
END:STANDARD
BEGIN:DAYLIGHT
TZOFFSETFROM:+0100
TZOFFSETTO:+0200
TZNAME:CEST
DTSTART:20270328T010000
END:DAYLIGHT
BEGIN:STANDARD
TZOFFSETFROM:+0200
TZOFFSETTO:+0100
TZNAME:CET
DTSTART:20271031T010000
END:STANDARD
END:VTIMEZONE
BEGIN:VEVENT
DTSTART;TZID=Europe/Rome:20260208T063000
DTEND;TZID=Europe/Rome:20260208T200000
DTSTAMP:20260424T174834
CREATED:20260116T142038Z
LAST-MODIFIED:20260206T234137Z
UID:5972-1770532200-1770580800@www.edelweisscai.it
SUMMARY:Sci fondo - TORGNON (m 1489)
DESCRIPTION:scarica il pdf\n8 febbraio 2026 \nTorgnon si trova in Valtournanche a 1489 mt di quota\, è un antico borgo sparso in numerose frazioni dall’architettura alpina. Il comprensorio sciistico è abbastanza vasto e gode di una splendida esposizione al sole al riparo dei venti. I tracciati per lo sci di fondo hanno varia lunghezza da 2 a 30 chilometri. Le piste si snodano in boschi di conifere e radure e la più famosa\, GrandesMontagnes\, raggiunge un belvedere sul Cervino con un percorso di ca 20 km. Il tracciato della Maisonette invece è più tecnico con salite e discese più impegnative. Alla partenza delle piste si trova un centro fondo con spogliatoi e servizi. \nQUOTE DI PARTECIPAZIONE \nSoci Edelweiss+CAI : EURO 33 \nSoci CAI                       EURO 36 \nla quota deve essere pagata anticipatamente in sede o con BB \nPossibilità di partecipazioni ai soli soci EDELWEISS pagando un’extra di euro 12\,95 per assicurazione infortuni CAI e soccorso alpino valida solo per il giorno dell’uscita. \nLa gita verrà annullata se non si raggiungera’ un numero minimo di iscritti  che ci consenta di poter usufruire del bus. In caso di annullamento gli iscritti saranno avvisati entro il giovedì precedente l’escursione. \nLa quota comprende: il viaggio A/R in pullman\, le spese di organizzazione\, l’assistenza dei nostri accompagnatori\, assicurazione infortuni. \nORARI: \nOre 6:40 ritrovo in Via M. Gioia ang. Via Sassetti –M2 GIOIA – uscita Via Sassetti \nOre 6:50 partenza \nOre 7:00 fermata in Ple Lotto davanti al Lido. Arrivo previsto ore 10/10:30 \nOre15:45 partenza per Milano con arrivo previsto per le 19-19\,30 in Via M. Gioia\, previo fermata in P.le Lotto. \n  \nISCRIZIONI:   In sede il lunedì dalle 17\,00 alle 20 ed il mercoledì dalle  17\,00 alle 21\,30 oppure \ntelefonando al numeri02/36589745 o per e-mail info@edelweisscai.it \nLe nostre attività sono riservate ai soci G.S.A. EDELWEISS+CAI e/o CAI \n  \nPAGAMENTI: preferibili i pagamenti in sede\, possibili anche con POS\,  oppure con BB utilizzando il  seguente IBAN IT35X0503401693000000003707 conto intestato a G.S.A. EDELWEISS A.P.S. Sottosezione CAI MI inviando una copia della contabile a info@edelweisscai.it \nPer i pagamenti in bus\, consentiti solo per i soci del G.S.A. EDELWEISS+CAI\, si chiede di avere la quota esatta per evitare il problema dei resti. \n———————————————————————————————————————————– \nRINUNCE:verrà applicato il regolamento gite in vigore visibile in sede o sul sito internet \nhttps://www.edelweisscai.it/regolamenti/ \n  \nTELEFONO ACCOMPAGNATORE\, in funzione dal sabato precedente la gita: 3757336642 \n  \nTutti i partecipanti dovranno essere in possesso di un documento identità valido NON SCADUTO e della tessera “Edelweiss” e/o “CAI“ e della tessera sanitaria \n  \nIl G.S.A. EDELWEISS sottosezione CAI declina ogni responsabilità per qualsiasi incidente che si dovesse verificare nel corso delle uscite
URL:https://www.edelweisscai.it/eventi/sci-fondo-torgnon-m-1489/
CATEGORIES:Sci di Fondo
ATTACH;FMTTYPE=image/jpeg:https://www.edelweisscai.it/wp-content/uploads/2026/01/Torgnon-26.jpg
END:VEVENT
BEGIN:VEVENT
DTSTART;VALUE=DATE:20260215
DTEND;VALUE=DATE:20260216
DTSTAMP:20260424T174834
CREATED:20260116T142840Z
LAST-MODIFIED:20260116T142840Z
UID:5975-1771113600-1771199999@www.edelweisscai.it
SUMMARY:Sci di fondo - COGNE m 1534 - m 1900 (Valle d'Aosta)
DESCRIPTION:scarica pdf\n15 febbraio 2026 \nCogne\, affacciata sull’ampio prato di Sant’Orso\, sorge a 1.534 metri di altitudine\, con il profilo del Gran Paradiso e boschi di conifere e betulle sullo sfondo. Cogne offre un’estesa rete di sentieri\, percorsi pedonali sulla neve e itinerari per le racchette da neve\, per camminare in ogni stagione nel cuore del Parco nazionale Gran Paradiso. Regina Incontrastata dello sci di fondo spesso sede di grandi competizioni sportive\, Cogne offre oltre 80 km di piste\, su tracciati che si snodano tra boschi\, torrenti e ponticelli\, per un’immersione totale in un paesaggio incontaminato\, dove è ancora possibile ascoltare il silenzio della natura. \nQUOTE DI PARTECIPAZIONE \nSoci Edelweiss+CAI : EURO 33 \nSoci CAI                       EURO 36 \n la quota deve essere pagata anticipatamente in sede o con BB \nPossibilità di partecipazioni ai soli soci EDELWEISS pagando un’extra di euro 12\,95 per assicurazione infortuni CAI e soccorso alpino valida solo per il giorno dell’uscita. \nLa gita verrà annullata se non si raggiungera’ un numero minimo di iscritti  che ci consenta di poter usufruire del bus. In caso di annullamento gli iscritti saranno avvisati entro il giovedì precedente l’escursione. \nLa quota comprende: il viaggio A/R in pullman\, le spese di organizzazione\, l’assistenza dei nostri accompagnatori\, assicurazione infortuni.  \nORARI: \nOre 6:40 ritrovo in Via M. Gioia ang. Via Sassetti –M2 GIOIA – uscita Via Sassetti \nOre 6:50 partenza \nOre 7:00 fermata in Ple Lotto davanti al Lido. Arrivo previsto ore 10/10:30 \nOre15:45 partenza per Milano con arrivo previsto per le 19-19\,30 in Via M. Gioia\, previo fermata in P.le Lotto. \nISCRIZIONI:   In sede il lunedì dalle 17\,00 alle 20 ed il mercoledì dalle  17\,00 alle 21\,30 oppure \ntelefonando al numeri02/36589745 o per e-mail info@edelweisscai.it \nLe nostre attività sono riservate ai soci G.S.A. EDELWEISS+CAI e/o CAI  \nPAGAMENTI: preferibili i pagamenti in sede\, possibili anche con POS\,  oppure con BB utilizzando il  seguente IBAN IT35X0503401693000000003707 conto intestato a G.S.A. EDELWEISS A.P.S. Sottosezione CAI mI inviando una copia della contabile a info@edelweisscai.it \nPer i pagamenti in bus\, consentiti solo per i soci del G.S.A. EDELWEISS+CAI\, si chiede di avere la quota esatta per evitare il problema dei resti. \n———————————————————————————————————————————– \nRINUNCE:verrà applicato il regolamento gite in vigore visibile in sede o sul sito internet \nhttps://www.edelweisscai.it/regolamenti/ \nTELEFONO ACCOMPAGNATORE\, in funzione dal sabato precedente la gita: 3757336642 \nTutti i partecipanti dovranno essere in possesso di un documento identità valido NON SCADUTO e della tessera “Edelweiss” e/o “CAI“ e della tessera sanitaria. \nIl G.S.A. EDELWEISS sottosezione CAI declina ogni responsabilità per qualsiasi incidente che si dovesse verificare nel corso delle uscite
URL:https://www.edelweisscai.it/eventi/sci-di-fondo-cogne-m-1534-m-1900-valle-daosta/
CATEGORIES:Evidenza Home,Sci di Fondo
ATTACH;FMTTYPE=image/jpeg:https://www.edelweisscai.it/wp-content/uploads/2026/01/Cogne-26.jpg
END:VEVENT
BEGIN:VEVENT
DTSTART;TZID=Europe/Rome:20260219T070000
DTEND;TZID=Europe/Rome:20260222T210000
DTSTAMP:20260424T174834
CREATED:20251203T191800Z
LAST-MODIFIED:20251210T222028Z
UID:5774-1771484400-1771794000@www.edelweisscai.it
SUMMARY:Sci di fondo: VAL DI TURES E VAL AURINA (Alto Adige)
DESCRIPTION:Scarica il pdf\ndal 19 al 22.2.26\nBrunico\, situato a 836 mt.\, è il centro della Val Pusteria dove convergono la Val Aurina\, la valle di Tures e la Val Badia. Il bel centro storico\, delimitato dalle porte della città\, è ricco di botteghe con le tipiche insegne in ferro battuto diffuse in Alto Adige così come in Tirolo\, caffè e negozi di articoli sportivi. Dominata dal Castello e sovrastata dal Plan de Corones\, importante comprensorio sciistico\, Brunico è un punto di partenza per numerose attività sportive sia invernali che estive. \nLa sua centralissima posizione nella Val Pusteria\, la rendono punto ideale per raggiungere numerose località sciistiche situate nelle vicinanze. \nIl nostro hotel***  si trova a Gais all’imbocco della Val di Tures a soli 5 km da Brunico .  \nRIVA DI TURES (1590 mt) Dal Centro di sci di fondo di Riva di Tures\, fornito di spogliatoi\, docce\, wc\, e bar\, partono le piste di diverse lunghezze sia per la tecnica classica che per il pattinato che si inoltrano nella valle. La pista più lunga è un anello di 15 km che percorre tutta la valle.  \nCASERE (1600 mt) L’anello di fondo di Casere è sicuramente uno dei circuiti più affascinanti dell’Alto Adige. Si snoda in boschi pittoreschi passando accanto a maestose montagne e malghe tradizionali\, attraverso il Parco Naturale Vedrette di Ries-Aurina. Numerosi posti di ristoro invitano ad una piacevole sosta.  \nSELVA DEI MOLINI (1436 MT) Una bella pista di 16 km lungo la Valle dei Molini.  \nSAN VIGILIO DI MAREBBE (1200 mt) La bella pista di ca 24 km\, tracciata sia per il classico che per l’alternato\, si snoda attraverso boschi e prati innevati nel Parco Naturale Fanes-Sennes-Braies sino al Rif. Pederù mt. 1548. (per i primi 3 km è previsto anche innevamento artificiale). \nPROGRAMMA  \nGiovedì 19.2.26: Ore 6.40 in Via Melchiorre Gioia ang. Via Sassetti. Ore 6\,50 partenza. \nOre 7\,00 fermato in P.le Lotto davanti al lido. Ore 12\,30 ca. arrivo a Selva dei Molini dove percorreremo la bella pista per Lappago. Ore 16  trasferimento in hotel per la sistemazione. Cena e pernottamento. \nVenerdì 20.2.26 : Ore 9\,00 partenza in bus per Casere con arrivo previsto per le ore 10 ca. Giornata sulle piste di Casere. Ore 15\,30 partenza da Casere per Campo Tures dove ci fermeremo per una breve passeggiata nel centro storico. Trasferimento in hotel. Cena e pernottamento \nSabato 21.2.26: Ore 9\,00 partenza per San Vigilio di Marebbe arrivo previsto alle 9\,45 ca. Giornata sulle piste che da San Vigilio portano al rifugio Pederù. Ore 15\,30 partenza da San Vigilio per Brunico dove ci fermeremo per visitare il centro storico. Trasferimento in hotel. Cena e pernottamento. \nDomenica 22.2.26: Ore 9\, con bagagli caricati\, partenza per Riva di Tures con arrivo previsto alle 9\,30 ca. Giornata dedicata alle piste di Riva di Tures che offrono diverse possibilità sciistiche. Ore 14\,45 ritrovo\, ore 15\,00 partenza per Milano\, con arrivo previsto in P.le Lotto alle ore 20 ca.\, proseguimento per Via M. Gioia. \nIl programma qui esposto è di massima e potrà variare in base all’innevamento e alle condizioni meteo \n———————————————————————————————————————————————- \nQUOTA DI PARTECIPAZIONE :             Euro 490\,00  Soci EDELWEISS+CAI (s.c.) \n                                                                            Euro  510\,00  soci CAI (s.c.)  \nLA QUOTA COMPRENDE: viaggio in bus\, con bus al seguito per tutto il periodo\, 3 giorni di mezza pensione\,  ½ acqua e ¼ vino compresi per le cene (a partire dalla cena di giovedì 19.2.26 alla 1^ colazione di domenica 22.2.26)\, sistemazione in camere a 2/3 posti in hotel ***\, assicurazione infortuni\, assistenza dei nostri accompagnatori. \nL’hotel dispone di sauna e biosauna  \nISCRIZIONI: dal ricevimento della circolare\, telefonando al numero 02/36589745 oppure in sede il lunedì dalle 17\,30 alle 20.00 ed il mercoledì dalle 17\,30 alle 22\,00 o per e-mail info@edelweisscai.it. \nLe nostre attività sono riservate  ai soci  G.S.A. Edelweiss+CAI  e ai Soci CAI \nPER MOTIVI ORGANIZZATIVI LE ISCRIZIONI DEVONO PERVENIRE ENTRO IL 15.1.2026  \nPAGAMENTO : – Acconto di Euro  200\,00   da versare all’atto dell’iscrizione in sede o con BB** \n–  L’iscrizione sarà confermata solo dopo il versamento dell’acconto. \n– Saldo entro il 4.2.26 da versare  in sede o con BB \n**riferimenti bancari: IBAN  IT35X0503401693000000003707     causale Val di Tures \nconto intestato G.S.A. EDELWEISS A.P.S. SOTTOSEZIONE CAI MILANO    \nRINUNCE  :    Verrà applicato il “Regolamento Gite” visibile in sede o sul sito www.edelweisscai.it \nPer comunicazioni urgenti prima della partenza e per le emergenze durante il periodo di soggiorno utilizzare il seguente    n° 3387979930 \nATTENZIONE : Ogni partecipante dovrà essere munito di un documento d’identità valido per l’espatrio\, della tessera sanitaria\, della tessera G.S.A. EDELWEISS e del CAI   \nLa Sottosezione EDELWEISS declina ogni responsabilità per qualsiasi incidente che si dovesse verificare durante il soggiorno.
URL:https://www.edelweisscai.it/eventi/sci-di-fondo-val-di-tures-e-val-aurina-alto-adige/
CATEGORIES:Sci di Fondo
ATTACH;FMTTYPE=image/jpeg:https://www.edelweisscai.it/wp-content/uploads/2025/12/casere-1.jpg
END:VEVENT
BEGIN:VEVENT
DTSTART;VALUE=DATE:20260222
DTEND;VALUE=DATE:20260223
DTSTAMP:20260424T174834
CREATED:20260116T143800Z
LAST-MODIFIED:20260116T143800Z
UID:5979-1771718400-1771804799@www.edelweisscai.it
SUMMARY:Sci di fondo - SAN BERNARDINO m 1608
DESCRIPTION:scarica il pdf\n22 febbraio 2026  \nSan Bernardino offre diverse varianti interessanti per quanto riguarda lo sci di fondo\, più o meno tecniche. \nGli svariati percorsi di sci nordico\, in totale 28 km per la pratica del classico e dello skating\, si snodano attraverso incantevoli pinete e paesaggi mozzafiato. \nIl centro di sci nordico all’interno della struttura dell’Ostello di San Bernardino\, offre spogliatoi riscaldati\, docce calde e un locale sciolinatura. \nQUOTE DI PARTECIPAZIONE \nSoci Edelweiss+CAI : EURO 33 \nSoci CAI                       EURO 36 \n la quota deve essere pagata anticipatamente in sede o con BB \nPossibilità di partecipazioni ai soli soci EDELWEISS pagando un’extra di euro 12\,95 per assicurazione infortuni CAI e soccorso alpino valida solo per il giorno dell’uscita. \nLa gita verrà annullata se non si raggiungera’ un numero minimo di iscritti  che ci consenta di poter usufruire del bus. In caso di annullamento gli iscritti saranno avvisati entro il giovedì precedente l’escursione. \nLa quota comprende: il viaggio A/R in pullman\, le spese di organizzazione\, l’assistenza dei nostri accompagnatori\, assicurazione infortuni.  \nORARI: \nOre 6:40 ritrovo in Via M. Gioia ang. Via Sassetti –M2 GIOIA – uscita Via Sassetti \nOre 6:50 partenza \nOre 7:00 fermata in Ple Lotto davanti al Lido. Arrivo previsto ore 10/10:30 \nOre15:45 partenza per Milano con arrivo previsto per le 19-19\,30 in Via M. Gioia\, previo fermata in P.le Lotto. \n  \nISCRIZIONI:   In sede il lunedì dalle 17\,00 alle 20 ed il mercoledì dalle  17\,00 alle 21\,30 oppure \ntelefonando al numeri02/36589745 o per e-mail info@edelweisscai.it \nLe nostre attività sono riservate ai soci G.S.A. EDELWEISS+CAI e/o CAI  \nPAGAMENTI: preferibili i pagamenti in sede\, possibili anche con POS\,  oppure con BB utilizzando il  seguente IBAN IT35X0503401693000000003707 conto intestato a G.S.A. EDELWEISS A.P.S. Sottosezione CAI mI inviando una copia della contabile a info@edelweisscai.it \nPer i pagamenti in bus\, consentiti solo per i soci del G.S.A. EDELWEISS+CAI\, si chiede di avere la quota esatta per evitare il problema dei resti. \n———————————————————————————————————————————– \nRINUNCE:verrà applicato il regolamento gite in vigore visibile in sede o sul sito internet \nhttps://www.edelweisscai.it/regolamenti/ \nTELEFONO ACCOMPAGNATORE\, in funzione dal sabato precedente la gita: 3757336642 \nTutti i partecipanti dovranno essere in possesso di un documento identità valido NON SCADUTO e della tessera “Edelweiss” e/o “CAI“ e della tessera sanitaria. \nIl G.S.A. EDELWEISS sottosezione CAI declina ogni responsabilità per qualsiasi incidente che si dovesse verificare nel corso delle uscite
URL:https://www.edelweisscai.it/eventi/sci-di-fondo-san-bernardino-m-1608/
CATEGORIES:Evidenza Home,Sci di Fondo
ATTACH;FMTTYPE=image/jpeg:https://www.edelweisscai.it/wp-content/uploads/2026/01/San-bernardino-26.jpg
END:VEVENT
END:VCALENDAR