BEGIN:VCALENDAR
VERSION:2.0
PRODID:-//Edelweiss Cai Milano - ECPv6.15.18//NONSGML v1.0//EN
CALSCALE:GREGORIAN
METHOD:PUBLISH
X-ORIGINAL-URL:https://www.edelweisscai.it
X-WR-CALDESC:Eventi per Edelweiss Cai Milano
REFRESH-INTERVAL;VALUE=DURATION:PT1H
X-Robots-Tag:noindex
X-PUBLISHED-TTL:PT1H
BEGIN:VTIMEZONE
TZID:Europe/Rome
BEGIN:DAYLIGHT
TZOFFSETFROM:+0100
TZOFFSETTO:+0200
TZNAME:CEST
DTSTART:20250330T010000
END:DAYLIGHT
BEGIN:STANDARD
TZOFFSETFROM:+0200
TZOFFSETTO:+0100
TZNAME:CET
DTSTART:20251026T010000
END:STANDARD
BEGIN:DAYLIGHT
TZOFFSETFROM:+0100
TZOFFSETTO:+0200
TZNAME:CEST
DTSTART:20260329T010000
END:DAYLIGHT
BEGIN:STANDARD
TZOFFSETFROM:+0200
TZOFFSETTO:+0100
TZNAME:CET
DTSTART:20261025T010000
END:STANDARD
BEGIN:DAYLIGHT
TZOFFSETFROM:+0100
TZOFFSETTO:+0200
TZNAME:CEST
DTSTART:20270328T010000
END:DAYLIGHT
BEGIN:STANDARD
TZOFFSETFROM:+0200
TZOFFSETTO:+0100
TZNAME:CET
DTSTART:20271031T010000
END:STANDARD
END:VTIMEZONE
BEGIN:VEVENT
DTSTART;TZID=Europe/Rome:20260103T000000
DTEND;TZID=Europe/Rome:20260105T000000
DTSTAMP:20260424T225623
CREATED:20251102T174818Z
LAST-MODIFIED:20251227T215801Z
UID:5669-1767398400-1767571200@www.edelweisscai.it
SUMMARY:Sci di fondo: EPIFANIA IN VALLE STURA di DEMONTE (700-1996 MT) – Piemonte
DESCRIPTION:scarica il pdf\nDal 3 al 5 gennaio 2026\nLa Valle Stura di Demonte si trova in provincia di Cuneo\, da Demonte\, situato all’imbocco della valle  si raggiunge il Colle della Maddalena (1996 mt) dal quale si scende in Francia. \nGrazie alle imprese della campionessa olimpionica Stefania Belmondo\, che qui ha iniziato la sua attività sciistica\, la Valle Stura è diventata famosa per lo sci di fondo. Sono stati realizzati diversi centri per la pratica di questo sport come: Festiona\, Bergemolo\, Aisone\, Vinadio\, Bagni di Vinadio\, Pietraporzio e Argentera. Gli oltre 100 km di piste\, che si snodano tra secolari castagni\, in mezzo a maestosi abeti in un ambiente ancora incontaminato\, e situate a quote diverse fanno della Valle Stura una delle località più importanti per lo sci di fondo. \nPROGRAMMA \nSabato 3 gennaio 2026 :  Ore 6:40 in Via Melchiorre Gioia ang. Via Sassetti. Ore 6\,50 partenza. Ore 7\,00 fermata in P.le Lotto davanti al Lido. Ore 11\,30 ca  arrivo a Bagni di Vinadio sistemazione in hotel. Attività sciistiche al Centro Fondo Strepeis a Bagni di Vinadio. Cena e pernottamento in albergo. \nDomenica 4 gennaio 2026: Attività sciistiche al Colle della Maddalena\, dove potremo percorrere la bella pista che si inoltra nel vallone di Lauzanier per poi scendere al Centro fondo di Larche (Francia) dove vengono tracciate piste per ca 40 km. Ore 16\,00 ritrovo al bus e rientro a Bagni di Vinadio. Cena e pernottamento in albergo \nLunedì 5 gennaio 2026: Colazione in albergo. Ore 9\,00 partenza con bagagli caricati per il Centro Fondo di Aisone dove potremo percorrere la pista Promenado che si snoda lungo la valle da Vinadio a Festiona per 40 km. Ore 15\,00  partenza per Milano\, con arrivo previsto alle ore 20\,00 in Via M. Gioia/Ang. Via Sassetti\, previa fermata in P.le Lotto. \nN.B Le località citate nel programma per la pratica dello sci potranno essere variate in base all’innevamento \n  \nQUOTA DI PARTECIPAZIONE :           Euro  380  soci Edelweiss + CAI(s.c.) \n                                                                          Euro  400  soci CAI (s.c.)                                                               \nLA QUOTA COMPRENDE: viaggio in bus con bus al seguito per tutto il periodo\, 2 gg. di mezza pensione (dalla cena del 3 gennaio alla prima colazione del 5 gennaio 2026)  bevande comprese (1/2 acqua + ¼ vino) . sistemazione in camere a 2/3 posti\, assicurazioni infortuni\, assistenza dei nostri accompagnatori .  \nISCRIZIONI entro 30.11.25 telefonando al numero 02/36589745  in sede il lunedì dalle 17\,30 alle 20.00 ed il mercoledì dalle 17\,30 alle 22\,00o per e-mail info@edelweisscai.it. \nLa partecipazione è riservata ai soci  Edelweiss+ CAI  e/o CAI.  \nPAGAMENTO :    – Acconto 200 Euro da versarsi all’atto dell’iscrizione in sede o con BB** \nL’iscrizione sarà confermata solo dopo il versamento dell’acconto \n– Saldo entro il   17.12.25 \n**riferimenti bancari IBAN : IT35X0503401693000000003707 \nintestato G.S.A. EDELWEISS A.P.S.  Sottosezione CAI Milano(inviare una copia del BB) \nRinunce: Verrà applicato il”REGOLAMENTO GITE” visibile in sede. \nPer comunicazioni urgenti prima della partenza e per le emergenze durante il periodo di soggiorno utilizzare il seguente numero: n° 02 3387979930 \n  \nATTENZIONE : Ogni partecipante dovrà essere munito di un documento d’identità valido per l’espatrio\, tessera sanitaria e della tessera Edelweiss e/o CAI \n  \nLa Sottosezione EDELWEISS declina ogni responsabilità per qualsiasi incidente che si dovesse verificare durante il soggiorno.
URL:https://www.edelweisscai.it/eventi/sci-di-fondo-epifania-in-valle-stura-di-demonte-700-1996-mt-piemonte/
CATEGORIES:Sci di Fondo
ATTACH;FMTTYPE=image/jpeg:https://www.edelweisscai.it/wp-content/uploads/2025/11/stura-25.jpg
END:VEVENT
BEGIN:VEVENT
DTSTART;VALUE=DATE:20260111
DTEND;VALUE=DATE:20260112
DTSTAMP:20260424T225623
CREATED:20251213T192424Z
LAST-MODIFIED:20251227T215932Z
UID:5798-1768089600-1768175999@www.edelweisscai.it
SUMMARY:Sci di fondo - SPLUGEN mt. 1500 – Grigioni - Svizzera
DESCRIPTION:scarica il pdf\n11 gennaio 2026\nSplugen si trova nei Grigioni\, nel Rheinwald\, sul versante settentrionale del Passo dello Spluga e si raggiunge velocemente da Milano con l’autostrada. I vari anelli della pista hanno uno sviluppo di 38 km e sono preparati sia per la tecnica classica che per il pattinato. Il punto di partenza è situato presso il campeggio e centro sportivo per lo sci di fondo che è dotato di spogliatoio\, docce\, WC\, chiosco e locale sciolinatura \n  \nQUOTE DI PARTECIPAZIONE \nSoci Edelweiss+CAI : EURO 33 \nSoci CAI                           EURO 36 \nla quota deve essere pagata anticipatamente in sede o con BB \nPossibilità di partecipazioni ai soli soci EDELWEISS pagando un’extra di euro 12\,95 per assicurazione infortuni CAI e soccorso alpino valida solo per il giorno dell’uscita. \nLa gita verrà annullata se non si raggiungera’ un numero minimo di iscritti  che ci consenta di poter usufruire del bus. In caso di annullamento gli iscritti saranno avvisati entro il giovedì precedente l’escursione. \nLa quota comprende: il viaggio A/R in pullman\, le spese di organizzazione\, l’assistenza dei nostri accompagnatori\, assicurazione infortuni. \nORARI: \nOre 6:40 ritrovo in Via M. Gioia ang. Via Sassetti –M2 GIOIA – uscita Via Sassetti \nOre 6:50 partenza \nOre 7:00 fermata in Ple Lotto davanti al Lido. Arrivo previsto ore 10/10:30 \nOre15:45 partenza per Milano con arrivo previsto per le 19-19\,30 in Via M. Gioia\, previo fermata in P.le Lotto. \n  \nISCRIZIONI:   In sede il lunedì dalle 17\,00 alle 20 ed il mercoledì dalle  17\,00 alle 21\,30 oppure \ntelefonando al numeri02/36589745 o per e-mail info@edelweisscai.it \nLe nostre attività sono riservate ai soci G.S.A. EDELWEISS+CAI e/o CAI \nPAGAMENTI: preferibili i pagamenti in sede\, possibili anche con POS\,  oppure con BB utilizzando il  seguente IBAN IT35X0503401693000000003707 conto intestato a G.S.A. EDELWEISS A.P.S. Sottosezione CAI MI inviando una copia della contabile a info@edelweisscai.it \nPer i pagamenti in bus\, consentiti solo per i soci del G.S.A. EDELWEISS+CAI\, si chiede di avere la quota esatta per evitare il problema dei resti. \n———————————————————————————————————————————– \nRINUNCE:verrà applicato il regolamento gite in vigore visibile in sede o sul sito internet \nhttps://www.edelweisscai.it/regolamenti/ \n  \nIl G.S.A. EDELWEISS sottosezione CAI declina ogni responsabilità per qualsiasi incidente che si dovesse verificare nel corso delle uscite \nTELEFONO ACCOMPAGNATORE\, in funzione dal sabato precedente la gita: 3757336642
URL:https://www.edelweisscai.it/eventi/sci-di-fondo-splugen-mt-1500-grigioni-svizzera-2/
CATEGORIES:Sci di Fondo
ATTACH;FMTTYPE=image/jpeg:https://www.edelweisscai.it/wp-content/uploads/2020/11/splugen-2019.jpg
END:VEVENT
BEGIN:VEVENT
DTSTART;VALUE=DATE:20260117
DTEND;VALUE=DATE:20260118
DTSTAMP:20260424T225623
CREATED:20251213T193231Z
LAST-MODIFIED:20260117T223553Z
UID:5801-1768608000-1768694399@www.edelweisscai.it
SUMMARY:Sci di fondo LENZ (Lenzerheide – 1500 mt)  - Grigioni – Svizzera
DESCRIPTION:Scarica il pdf\n17 gennaio 2026 (sabato)\nSi trova nella regione dell’Albula nel canton Grigioni\, è un’importante stazione sciistica sia per lo sci di discesa che per lo sci di fondo ed è stata sede di tappe della coppa del mondo di sci di fondo. Il meraviglioso scenario montano della regione turistica di Lenzerheide è attraversato da 56 km di piste da fondo\, per lo stile classico o per il pattinato. Scieremo a Lenz presso il centro biathlon della Roland Arena\, dotata di un centro fondo organizzato con bagni e spogliatoi. \nQUOTE DI PARTECIPAZIONE \nSoci Edelweiss+CAI : EURO 33 \nSoci CAI                       EURO 36 \nla quota deve essere pagata anticipatamente in sede o con BB \nPossibilità di partecipazioni ai soli soci EDELWEISS pagando un’extra di euro 12\,95 per assicurazione infortuni CAI e soccorso alpino valida solo per il giorno dell’uscita. \nLa gita verrà annullata se non si raggiungera’ un numero minimo di iscritti  che ci consenta di poter usufruire del bus. In caso di annullamento gli iscritti saranno avvisati entro il giovedì precedente l’escursione. \nLa quota comprende: il viaggio A/R in pullman\, le spese di organizzazione\, l’assistenza dei nostri accompagnatori\, assicurazione infortuni. \n  \nORARI: \nOre 6:40 ritrovo in Via M. Gioia ang. Via Sassetti –M2 GIOIA – uscita Via Sassetti \nOre 6:50 partenza \nOre 7:00 fermata in Ple Lotto davanti al Lido. Arrivo previsto ore 10/10:30 \nOre15:45 partenza per Milano con arrivo previsto per le 19-19\,30 in Via M. Gioia\, previo fermata in P.le Lotto. \n  \nISCRIZIONI:   In sede il lunedì dalle 17\,00 alle 20 ed il mercoledì dalle  17\,00 alle 21\,30 oppure \ntelefonando al numeri02/36589745 o per e-mail info@edelweisscai.it \nLe nostre attività sono riservate ai soci G.S.A. EDELWEISS+CAI e/o CAI \n  \nPAGAMENTI: preferibili i pagamenti in sede\, possibili anche con POS\,  oppure con BB utilizzando il  seguente IBAN IT35X0503401693000000003707 conto intestato a G.S.A. EDELWEISS A.P.S. Sottosezione CAI mI inviando una copia della contabile a info@edelweisscai.it \nPer i pagamenti in bus\, consentiti solo per i soci del G.S.A. EDELWEISS+CAI\, si chiede di avere la quota esatta per evitare il problema dei resti. \n———————————————————————————————————————————– \nRINUNCE:verrà applicato il regolamento gite in vigore visibile in sede o sul sito internet \nhttps://www.edelweisscai.it/regolamenti/ \n  \nIl G.S.A. EDELWEISS sottosezione CAI declina ogni responsabilità per qualsiasi incidente che si dovesse verificare nel corso delle uscite \nTELEFONO ACCOMPAGNATORE\, in funzione dal sabato precedente la gita: 3757336642
URL:https://www.edelweisscai.it/eventi/sci-di-fondo-lenz-lenzerheide-1500-mt-grigioni-svizzera/
CATEGORIES:Sci di Fondo
ATTACH;FMTTYPE=image/jpeg:https://www.edelweisscai.it/wp-content/uploads/2025/12/LENZ.jpg
END:VEVENT
BEGIN:VEVENT
DTSTART;TZID=Europe/Rome:20260123T063000
DTEND;TZID=Europe/Rome:20260125T210000
DTSTAMP:20260424T225623
CREATED:20251121T180229Z
LAST-MODIFIED:20251203T191946Z
UID:5726-1769149800-1769374800@www.edelweisscai.it
SUMMARY:Sci di fondo - ALPE DI SIUSI - Alto Adige
DESCRIPTION:scarica il pdf\nDAL 23 AL 25.1.26\nL’Alpe di Siusi\, situata tra i 1850 e i 2350 mt.\, è il più grande e soleggiato  pascolo d’Europa adagiato in mezzo alle Dolomiti ed è tra le regioni più annoverate per gli sport invernali e per l’escursionismo. \nAi fondisti offre 60 km di piste con diversi gradi di difficoltà tracciate sia per la tecnica classica che per lo skating. Per chi volesse dedicarsi alla discesa\, ci sono piste per tutti i livelli ed inoltre\, per gli appassionati\, interessanti sci escursioni che hanno come meta rifugi d’alta montagna dove assaporare le specialità locali. \nPernotteremo a FIE’ ALLO SCILIAR in centro paese\, l’albergo è dotato di piscina e sauna … non dimenticate il costume! \nPROGRAMMA  \nVenerdì 23 gennaio : Ore 6\,40 in Via Melchiorre Gioia ang. Via Sassetti. Ore 6\,50 partenza. Ore 7\,00 fermata in P.le Lotto davanti al Lido. Ore 11\,30 circa arrivo a Siusi\, stazione funivia\, e trasferimento all’Alpe di Siusi per le attività sciistiche. Ore 16\,00**  ritrovo al bus presso la  stazione a valle della cabinovia. Ore 16\,15 partenza bus per Fiè allo Sciliar e sistemazione in albergo. Cena e pernottamento in albergo. \nSabato 24 gennaio  : Ore 9\,15 partenza con il nostro bus per Siusi stazione funivia e trasferimento all’Alpe per le varie attività sciistiche. Ore 16\,00** ritrovo al bus presso la  stazione a valle della cabinovia\, ore 16\,15 partenza bus per Fiè allo Sciliar. Cena e pernottamento in albergo. \n** Chi lo desidera potrà rientrare prima in albergo usufruendo di autobus pubblici in partenza dalla stazione a valle dell’ovovia\, utilizzando lo stesso biglietto dell’ovovia.  \nDomenica 25 gennaio : Ore 9\,15  (con bagagli caricati) partenza con il nostro bus per Siusi stazione funivia e trasferimento all’Alpe per le attività sciistiche. Ore 14\,45  ritrovo  al bus alla stazione della cabinovia\, ore 15\,00 partenza per Milano con arrivo previsto per le ore 20 in P.le Lotto e successiva fermata a Gioia. \nQUOTA DI PARTECIPAZIONE :          Euro  425\,00 soci Edelweiss+CAI (s.c.) \n                                                                          Euro  445\,00  soci CAI (s.c.)  \nLa quota comprende: Viaggio A/R in pullman\,  2 giorni ½ pensione in hotel*** con bevande incluse per la cena (1/4 vino+1/2 acqua) a partire dalla cena del 23.1.26 alla prima colazione del 25 .1.26 – Sistemazione in camere  a  2 letti con servizi\, ticket giornaliero a/r cabinovia per l’Alpe di Siusi\, ticket piste di fondo\, bus illimitato sull’alpe\, assicurazione infortuni\, assistenza dei nostri accompagnatori. L’albergo dispone di piscina coperta e sauna.                                                                                       \nIscrizioni: dal ricevimento della circolare\, telefonando al numero 02/36589745 oppure in sede il lunedì dalle 17\,30 alle 20.00 ed il mercoledì dalle 17\,30 alle 22\,00 o per e-mail info@edelweisscai.it. La partecipazione è riservata ai soli Soci Edelweiss+CAI o CAI \nISCRIZIONI TASSATIVE ENTRO 15.12.25  \nPagamento :    Acconto di  200 Euro  da versare all’atto dell’iscrizione in sede o con bonifico        bancario**.    L’iscrizione sarà confermata solo dopo il versamento dell’acconto.  Saldo entro il  7.1.26 . \nPer pagamenti con BB utilizzare il seguente IBAN  IT35X0503401693000000003707conto intestato G.S.A. EDELWEISS A.P.S. SOTTOSEZIONE CAI MILANO  \nRinunce  :  Verrà applicato il “Regolamento Gite” visibile in sede o su internet www.edelweisscai.it \nPer comunicazioni urgenti prima della partenza e per le emergenze durante il periodo di soggiorno utilizzare il seguente : n° 3387979930 \n  \nATTENZIONE : Ogni partecipante dovrà essere munito di un documento d’identità valido per l’espatrio\, della tessera Edelweiss e CAI\, e della tessera sanitaria.  \n  \n  \n  \n  \n  \n  \nLa Sottosezione EDELWEISS declina ogni responsabilità per qualsiasi incidente che si dovesse verificare durante il soggiorno.
URL:https://www.edelweisscai.it/eventi/sci-di-fondo-alpe-di-siusi/
CATEGORIES:Sci di Fondo
ATTACH;FMTTYPE=image/jpeg:https://www.edelweisscai.it/wp-content/uploads/2025/11/sius26.jpg
END:VEVENT
BEGIN:VEVENT
DTSTART;VALUE=DATE:20260125
DTEND;VALUE=DATE:20260126
DTSTAMP:20260424T225623
CREATED:20251213T193957Z
LAST-MODIFIED:20260117T223313Z
UID:5804-1769299200-1769385599@www.edelweisscai.it
SUMMARY:Sci di fondo FLASSIN m 1521 (Valle d'Aosta) (Ex Campra)
DESCRIPTION:25 gennaio 2026\nA Saint-Oyen\, in località Flassin partono\, tre anelli perfettamente battuti sia per l’alternato che per lo skating\, che si sviluppano su una lunghezza di 16 km\, con tratti variabili in radura ed in splendide foreste di abeti. La pista arriva sino ad Etroubles\, caratteristico borgo mediovale\, dove è presente anche un anello notturno di 2 km.  La stagione sciistica è garantita da dicembre a primavera grazie anche alla presenza di un moderno sistema di innevamento artificiale\, in linea con le strutture delle maggiori località sciistiche. \nA Flassin sorge il  Foyer de fond che offre agli sportivi spogliatoio\, locale per la sciolinatura e noleggio\, bar-tavola calda \nQUOTE DI PARTECIPAZIONE \nSoci Edelweiss+CAI : EURO 33 \nSoci CAI                       EURO 36 \nla quota deve essere pagata anticipatamente in sede o con BB \nPossibilità di partecipazioni ai soli soci EDELWEISS pagando un’extra di euro 12\,95 per assicurazione infortuni CAI e soccorso alpino valida solo per il giorno dell’uscita. \nLa gita verrà annullata se non si raggiungera’ un numero minimo di iscritti  che ci consenta di poter usufruire del bus. In caso di annullamento gli iscritti saranno avvisati entro il giovedì precedente l’escursione. \nLa quota comprende: il viaggio A/R in pullman\, le spese di organizzazione\, l’assistenza dei nostri accompagnatori\, assicurazione infortuni. \nORARI: \nOre 6:40 ritrovo in Via M. Gioia ang. Via Sassetti –M2 GIOIA – uscita Via Sassetti \nOre 6:50 partenza \nOre 7:00 fermata in Ple Lotto davanti al Lido. Arrivo previsto ore 10/10:30 \nOre15:45 partenza per Milano con arrivo previsto per le 19-19\,30 in Via M. Gioia\, previo fermata in P.le Lotto. \n  \nISCRIZIONI:   In sede il lunedì dalle 17\,00 alle 20 ed il mercoledì dalle  17\,00 alle 21\,30 oppure \ntelefonando al numeri02/36589745 o per e-mail info@edelweisscai.it \nLe nostre attività sono riservate ai soci G.S.A. EDELWEISS+CAI e/o CAI \n  \nPAGAMENTI: preferibili i pagamenti in sede\, possibili anche con POS\,  oppure con BB utilizzando il  seguente IBAN IT35X0503401693000000003707 conto intestato a G.S.A. EDELWEISS A.P.S. Sottosezione CAI mI inviando una copia della contabile a info@edelweisscai.it \nPer i pagamenti in bus\, consentiti solo per i soci del G.S.A. EDELWEISS+CAI\, si chiede di avere la quota esatta per evitare il problema dei resti. \n———————————————————————————————————————————– \nRINUNCE:verrà applicato il regolamento gite in vigore visibile in sede o sul sito internet \nhttps://www.edelweisscai.it/regolamenti/ \n  \nIl G.S.A. EDELWEISS sottosezione CAI declina ogni responsabilità per qualsiasi incidente che si dovesse verificare nel corso delle uscite \nTELEFONO ACCOMPAGNATORE\, in funzione dal sabato precedente la gita: 3757336642
URL:https://www.edelweisscai.it/eventi/sci-di-fondo-campra-1500-mt-ticino-svizzera/
CATEGORIES:Evidenza Home,Sci di Fondo
ATTACH;FMTTYPE=image/jpeg:https://www.edelweisscai.it/wp-content/uploads/2021/12/FLASSIN-2022.jpg
END:VEVENT
BEGIN:VEVENT
DTSTART;VALUE=DATE:20260131
DTEND;VALUE=DATE:20260201
DTSTAMP:20260424T225623
CREATED:20251213T194826Z
LAST-MODIFIED:20251213T194826Z
UID:5807-1769817600-1769903999@www.edelweisscai.it
SUMMARY:Sci fondo RIALE - (1800 mt) – Val Formazza
DESCRIPTION:scarica pdf\n31 gennaio 2026 (sabato)\nRiale\, grazioso paesino con caratteristiche case in legno con tetti in pietra\, situato in Alta Val Formazza a ridosso del confine svizzero\, è sede di un ottimo centro fondo che offre una pista con diversi anelli di cui il più lungo e il più tecnico ha una lunghezza di 12 km. Le piste partono proprio di fronte al centro fondo (spogliatoi\, docce\, servizi ed al piano superiore ristorante e bar)\, e si dirigono verso le case di Riale sormontate dalla celebre chiesetta e dalle cime del Corno di Ban e del Corno di Nefalgiù. La pista facile si snoda nella piana\, mentre il percorso più impegnativo risale i pendii dietro la chiesa per poi proseguire verso la diga con salite e discese che\, a secondo del tipo di innevamento\, possono essere impegnative.Ritornati al centro fondo il tracciato della pista nera risale il costone e continua alternando discese e salite ripide\, poi grazie ad un ponte di legno continua dall’altra parte della valle sotto i pendii del Gruppo Castel. Località d’alta montagna ideale per iniziare la stagione in quanto grazie alla sua posizione è una delle prime ad essere innevata. \nQUOTE DI PARTECIPAZIONE \nSoci Edelweiss+CAI : EURO 33 \nSoci CAI                       EURO 36 \nla quota deve essere pagata anticipatamente in sede o con BB \nPossibilità di partecipazioni ai soli soci EDELWEISS pagando un’extra di euro 12\,95 per assicurazione infortuni CAI e soccorso alpino valida solo per il giorno dell’uscita. \nLa gita verrà annullata se non si raggiungera’ un numero minimo di iscritti  che ci consenta di poter usufruire del bus. In caso di annullamento gli iscritti saranno avvisati entro il giovedì precedente l’escursione. \nLa quota comprende: il viaggio A/R in pullman\, le spese di organizzazione\, l’assistenza dei nostri accompagnatori\, assicurazione infortuni. \nORARI: \nOre 6:40 ritrovo in Via M. Gioia ang. Via Sassetti –M2 GIOIA – uscita Via Sassetti \nOre 6:50 partenza \nOre 7:00 fermata in Ple Lotto davanti al Lido. Arrivo previsto ore 10/10:30 \nOre15:45 partenza per Milano con arrivo previsto per le 19-19\,30 in Via M. Gioia\, previo fermata in P.le Lotto. \n  \nISCRIZIONI:   In sede il lunedì dalle 17\,00 alle 20 ed il mercoledì dalle  17\,00 alle 21\,30 oppure \ntelefonando al numeri02/36589745 o per e-mail info@edelweisscai.it \nLe nostre attività sono riservate ai soci G.S.A. EDELWEISS+CAI e/o CAI \n  \nPAGAMENTI: preferibili i pagamenti in sede\, possibili anche con POS\,  oppure con BB utilizzando il  seguente IBAN IT35X0503401693000000003707 conto intestato a G.S.A. EDELWEISS A.P.S. Sottosezione CAI mI inviando una copia della contabile a info@edelweisscai.it \nPer i pagamenti in bus\, consentiti solo per i soci del G.S.A. EDELWEISS+CAI\, si chiede di avere la quota esatta per evitare il problema dei resti. \n———————————————————————————————————————————– \nRINUNCE:verrà applicato il regolamento gite in vigore visibile in sede o sul sito internet \nhttps://www.edelweisscai.it/regolamenti/ \n  \nIl G.S.A. EDELWEISS sottosezione CAI declina ogni responsabilità per qualsiasi incidente che si dovesse verificare nel corso delle uscite \nTELEFONO ACCOMPAGNATORE\, in funzione dal sabato precedente la gita: 3757336642
URL:https://www.edelweisscai.it/eventi/sci-fondo-riale-1800-mt-val-formazza/
CATEGORIES:Evidenza Home,Sci di Fondo
ATTACH;FMTTYPE=image/jpeg:https://www.edelweisscai.it/wp-content/uploads/2025/01/RIALE.jpg
END:VEVENT
BEGIN:VEVENT
DTSTART;TZID=Europe/Rome:20260131T080000
DTEND;TZID=Europe/Rome:20260131T170000
DTSTAMP:20260424T225623
CREATED:20251213T200306Z
LAST-MODIFIED:20251213T200306Z
UID:5812-1769846400-1769878800@www.edelweisscai.it
SUMMARY:Giornata promozionale Sci di Fondo: RIALE - Val Formazza - Piemonte
DESCRIPTION:scarica il pdf\nVIENI CON NOI A PROVARE \nLO SCI DI FONDO  \nSabato : 31.1.2026\n  \nLa commissione Sci Fondo Escursionismo in collaborazione con gli Istruttori della Scuola SFE “Gianni Rizzi”\, organizza lo speciale evento per lo sci di fondo\, RIVOLTO ED APERTO ANCHE AD AMICI NON SOCI EDELWEISS\, con un approccio semplice su piste facili. \n  \nLo sci di fondo è un’attività salutare\, che si può fare a tutte le età e ti permette di trascorrere delle belle giornate sulla neve in un ambiente montano a contatto con la natura\, lontano dalla confusione della città. \n  \nRiale m. 1800\, grazioso paesino con caratteristiche case in legno con tetti in pietra\, situato in Alta Val Formazza a ridosso del confine svizzero\, è sede di un ottimo centro fondo che offre una pista con diversi anelli di cui il più lungo e il più tecnico ha una lunghezza di 12 km. Le piste partono proprio di fronte al centro fondo (spogliatoi\, docce\, servizi ed al piano superiore ristorante e bar)\, e si dirigono verso le case di Riale sormontate dalla celebre chiesetta e dalle cime del Corno di Ban e del Corno di Nefalgiù. La pista facile si snoda nella piana\, mentre il percorso più impegnativo risale i pendii dietro la chiesa per poi riscendere e risalire verso la diga con discese che a secondo del tipo di neve possono essere anche impegnative. Ritornati al centro fondo il tracciato della pista nera risale il costone e continua alternando discese e salite ripide\, poi grazie ad un ponte di legno continua dall’altra parte della valle sotto i pendii del Gruppo Castel. \n  \n  \nQUOTA DI PARTECIPAZIONE  \n48 euro \n+ 12\,95 premio assicurativo solo per i non soci CAI \n  \nLa quota comprende: Viaggio in bus\, ingresso piste e noleggio attrezzatura (Sci\, scarpe e bastoncini)\, assicurazione infortuni\, RC\, assistenza dei ns accompagnatori. \n  \nI neofiti percorreranno il tratto di pista più facile assistiti dai nostri accompagnatori. \n  \nCONTINUA SUL RETRO \n  \n  \n  \nORARI:            Ore   6:40 ritrovo Via M. Gioia ang. Via Sassetti –M2 GIOIA – uscita Via Sassetti \nOre   6:50 partenza \nOre   7:00 fermata in Ple Lotto davanti al Lido. Arrivo previsto ore 10/10:30 \nOre 15:45 partenza per Milano con arrivo previsto per le 20-20;30 in Via M. Gioia \n  \nISCRIZIONI:     In sede il lunedì dalle 17\,00 alle 20 ed il mercoledì dalle  17\,00 alle 21\,30 oppure \ntelefonando ai numeri 02 36589745 o per e-mail info@edelweisscai.it. \nAll’atto dell’iscrizione comunicare la data di nascita\, telefono e indirizzo email \nL’iscrizione verrà confermata solo dopo il pagamento della quota \ndi partecipazione in sede o a mezzo bonifico bancario. \nRiferimenti bancari conto intestato a G.S.A. EDELWEISS A.P.S. – Sottosezione CAI MILANO \n– IBAN   IT35X0503401693000000003707     Copia della contabile dovrà essere inviata via email a info@edelweisscai.it \n  \nRINUNCE:   verrà applicato il regolamento gite in vigore visibile in sede o sul sito internet www.edelweisscai.it \n  \nPAGAMENTI:   Per i pagamenti in bus\, riservati ai soli soci Edelweiss\, si raccomanda di \nportare la quota esatta onde evitare problemi di resto. \n  \nTELEFONO ACCOMPAGNATORE\, in funzione dal giorno precedente la gita: 3757336642 \n  \nLa gita verrà annullata se non si raggiungerà un numero minimo di iscritti che ci consenta di poter usufruire del bus. In caso di annullamento\, gli iscritti saranno avvisati entro il giovedì precedente l’escursione. \nTutti i partecipanti dovranno essere in possesso di un documento identità valido NON SCADUTO e della tessera “Edelweiss” e/o “CAI“ e della tessera sanitaria \n  \nLa Sottosezione EDELWEISS declina ogni responsabilità per qualsiasi incidente che si \ndovesse verificare durante le uscite. \n 
URL:https://www.edelweisscai.it/eventi/giornata-promozionale-sci-di-fondo-riale-val-formazza-piemonte/
CATEGORIES:Evidenza Home,Sci di Fondo
ATTACH;FMTTYPE=image/jpeg:https://www.edelweisscai.it/wp-content/uploads/2024/11/Riale.jpg
END:VEVENT
END:VCALENDAR