BEGIN:VCALENDAR
VERSION:2.0
PRODID:-//Edelweiss Cai Milano - ECPv6.15.18//NONSGML v1.0//EN
CALSCALE:GREGORIAN
METHOD:PUBLISH
X-ORIGINAL-URL:https://www.edelweisscai.it
X-WR-CALDESC:Eventi per Edelweiss Cai Milano
REFRESH-INTERVAL;VALUE=DURATION:PT1H
X-Robots-Tag:noindex
X-PUBLISHED-TTL:PT1H
BEGIN:VTIMEZONE
TZID:Europe/Rome
BEGIN:DAYLIGHT
TZOFFSETFROM:+0100
TZOFFSETTO:+0200
TZNAME:CEST
DTSTART:20240331T010000
END:DAYLIGHT
BEGIN:STANDARD
TZOFFSETFROM:+0200
TZOFFSETTO:+0100
TZNAME:CET
DTSTART:20241027T010000
END:STANDARD
BEGIN:DAYLIGHT
TZOFFSETFROM:+0100
TZOFFSETTO:+0200
TZNAME:CEST
DTSTART:20250330T010000
END:DAYLIGHT
BEGIN:STANDARD
TZOFFSETFROM:+0200
TZOFFSETTO:+0100
TZNAME:CET
DTSTART:20251026T010000
END:STANDARD
BEGIN:DAYLIGHT
TZOFFSETFROM:+0100
TZOFFSETTO:+0200
TZNAME:CEST
DTSTART:20260329T010000
END:DAYLIGHT
BEGIN:STANDARD
TZOFFSETFROM:+0200
TZOFFSETTO:+0100
TZNAME:CET
DTSTART:20261025T010000
END:STANDARD
END:VTIMEZONE
BEGIN:VEVENT
DTSTART;TZID=Europe/Rome:20251014T204500
DTEND;TZID=Europe/Rome:20251014T220000
DTSTAMP:20260425T062842
CREATED:20250924T131806Z
LAST-MODIFIED:20251008T172021Z
UID:5564-1760474700-1760479200@www.edelweisscai.it
SUMMARY:Presentazione Corso base sci fondo esc. 2025/2026
DESCRIPTION:scarica il programma \n\nNelle serate di Martedì 14 ottobre 2025   e   di venerdì 24 ottobre 2025 alle ore 20\,45\npresso la nostra sede di Viale Umbria 126\nPresentazione del corso base di sci fondo esc. 2025/2026\nIngresso libero\n 
URL:https://www.edelweisscai.it/eventi/presentazione-corso-base-sci-fondo-esc-2025-2026/
CATEGORIES:Evidenza Home,Sci di Fondo,Scuola Sci di Fondo Escursionismo
ATTACH;FMTTYPE=image/jpeg:https://www.edelweisscai.it/wp-content/uploads/2025/01/LAVAZE-1.jpg
END:VEVENT
BEGIN:VEVENT
DTSTART;VALUE=DATE:20251025
DTEND;VALUE=DATE:20251026
DTSTAMP:20260425T062842
CREATED:20251008T094757Z
LAST-MODIFIED:20251021T110048Z
UID:5605-1761350400-1761436799@www.edelweisscai.it
SUMMARY:Uscita propiziatoria - IL SENTIERO DEI CASTAGNI
DESCRIPTION:scarica il pdf\n25.10.25\nDislivello 350 m ca – lunghezza 9 km ca \nDurata 3\,5 ore senza le soste \nCome tutti gli anni la commissione sci di fondo organizza una facile uscita “propiziatoria” alla stagione sci di fondo con lo scopo di ritrovare gli appassionati di questa attività e fare progetti per la prossima stagione. \nDalla stazione FS di Stresa si prende via Carducci\, via Bolongaro e si risale la via Manzoni fino al bivio con una cappella affrescata\, nei pressi il Collegio Rosmini e del monumento che ricorda l’amicizia fra Antonio Rosmini e Alessandro Manzoni. Si imbocca a sinistra l’antica strada che conduce attraverso il bosco a Passèra lungo il “Sentiero dei castagni” (12 pannelli informativi accompagnano il percorso) costeggiando il retro del magnifico Parco di Villa Pallavicino (ingresso da via Sempione Sud). In breve si giunge al panoramico balcone dell’Oratorio di Passèra. Si prosegue costeggiando alcune belle ville e poi su sentiero fino alle rovine del “mulin da la stria di Passèra”. Si supera la località Piane di Pramezzano e si giunge in breve su strada asfaltata al cimitero di Sant’Albino a Magognino\, all’interno del quale sorge la bellissima Chiesa con affreschi del XV sec. Si prosegue su strada sterrata che diventa presto mulattiera verso Calogna e si raggiunge la Cappella di S. Maria Mater Gratiae sulla cui roccia di base sono incise più di 200 coppelle\, alcune delle quali a forma di saetta (San Grato\, affrescato nella cappella\, è protettore dalle tempeste e dai fulmini). Riprendendo quindi verso Belgirate si arriva a una radura con la Chiesa di San Paolo. Dopo un breve tratto pianeggiante\, che conduce in località Pianezza\, si giunge alla località Farinelli. Scendendo lungo la vecchia mulattiera che collegava Calogna a Belgirate\, si giunge alla Chiesa Vecchia e da qui\, anziché scendere in paese si prosegue seguendo Via per Lesa che poi diventa sentiero al termine del quale incontriamo Via Varim ed in breve giungiamo alla stazione di Lesa da dove scenderemo sulla statale per prendere il bus per Arona e da qui il treno per Milano. \n——————————————————————————————————————————————————— \nQUOTA DI PARTECIPAZIONE: \n– Soci Edelweiss+CAI :  Euro  27\,00 \n  (i soli soci EDELWEISS possono partecipare pagando in aggiunta alla quota euro 12\,95 per assicurazione CAI) \n– Soci CAI                         Euro  30\,00 euro \nIT35X0503401693000000003707    \nLa quota comprende: Biglietto treno Milano/Stresa e Arona/Milano + Biglietto bus Lesa/Arona\, le spese di organizzazione e l’assicurazione infortuni. \nEQUIPAGGIAMENTO: BASTONCINI\, pedule (NO SCARPE DA GINNASTICA) \, giacca a vento\, mantella\, borraccia\, colazione al sacco. \n______________________________________________________________________________________ \n RITROVO:   alle ore 8\,10  alla stazione Centrale – piano treni – di fronte a Feltrinelli\, in tempo per la partenza del treno RE2416 delle ore 8\,25 per Domodossola – arrivo a Stresa alle 9\,36 e trasferimento nel centro storico\, tempo per la colazione e partenza per l’escursione. \nRitorno previsto : Ore 15\,49 bus da Lesa ad Arona\, ore 16\,15 treno RE10233  da Arona per Milano \n ISCRIZIONI: in sede il lunedì dalle 17\,30 alle 20 ed il mercoledì dalle 17\,30 alle 20:00 oppure telefonando ai \nnumeri 02/ 0236589745 o per email.  La partecipazione è riservata ai soci del G.S.A. Edelweiss+CAI  e/o  CAI. \nTELEFONO ACCOMPAGNATORE\, in funzione dal venerdi  precedente la gita: 349 2444756 \nRINUNCIA   verrà applicato il regolamento gite in vigore visibile in sede o sul sito internet www.edelweisscai.it \nIl G.S.A. EDELWEISS declina ogni responsabilità per qualsiasi incidente che si dovesse verificare durante l’uscita.
URL:https://www.edelweisscai.it/eventi/uscita-propiziatoria-il-sentiero-dei-castagni/
CATEGORIES:Evidenza Home,Sci di Fondo
ATTACH;FMTTYPE=image/jpeg:https://www.edelweisscai.it/wp-content/uploads/2025/10/sentiero-dei-castagni-scaled.jpg
END:VEVENT
END:VCALENDAR