BEGIN:VCALENDAR
VERSION:2.0
PRODID:-//Edelweiss Cai Milano - ECPv6.15.18//NONSGML v1.0//EN
CALSCALE:GREGORIAN
METHOD:PUBLISH
X-WR-CALNAME:Edelweiss Cai Milano
X-ORIGINAL-URL:https://www.edelweisscai.it
X-WR-CALDESC:Eventi per Edelweiss Cai Milano
REFRESH-INTERVAL;VALUE=DURATION:PT1H
X-Robots-Tag:noindex
X-PUBLISHED-TTL:PT1H
BEGIN:VTIMEZONE
TZID:Europe/Rome
BEGIN:DAYLIGHT
TZOFFSETFROM:+0100
TZOFFSETTO:+0200
TZNAME:CEST
DTSTART:20250330T010000
END:DAYLIGHT
BEGIN:STANDARD
TZOFFSETFROM:+0200
TZOFFSETTO:+0100
TZNAME:CET
DTSTART:20251026T010000
END:STANDARD
BEGIN:DAYLIGHT
TZOFFSETFROM:+0100
TZOFFSETTO:+0200
TZNAME:CEST
DTSTART:20260329T010000
END:DAYLIGHT
BEGIN:STANDARD
TZOFFSETFROM:+0200
TZOFFSETTO:+0100
TZNAME:CET
DTSTART:20261025T010000
END:STANDARD
BEGIN:DAYLIGHT
TZOFFSETFROM:+0100
TZOFFSETTO:+0200
TZNAME:CEST
DTSTART:20270328T010000
END:DAYLIGHT
BEGIN:STANDARD
TZOFFSETFROM:+0200
TZOFFSETTO:+0100
TZNAME:CET
DTSTART:20271031T010000
END:STANDARD
END:VTIMEZONE
BEGIN:VEVENT
DTSTART;VALUE=DATE:20260430
DTEND;VALUE=DATE:20260501
DTSTAMP:20260425T180142
CREATED:20260321T104751Z
LAST-MODIFIED:20260413T135552Z
UID:6222-1777507200-1777593599@www.edelweisscai.it
SUMMARY:PROGRAMMA ESCURSIONISMO 2026
DESCRIPTION:scarica il pdf
URL:https://www.edelweisscai.it/eventi/programma-escursionismo-2026/
CATEGORIES:Escursionismo,Evidenza Home
ATTACH;FMTTYPE=image/jpeg:https://www.edelweisscai.it/wp-content/uploads/2024/07/escursione_compressa-1-scaled-EMuSRk.tmp_.jpg
END:VEVENT
BEGIN:VEVENT
DTSTART;VALUE=DATE:20260509
DTEND;VALUE=DATE:20260510
DTSTAMP:20260425T180142
CREATED:20260418T204758Z
LAST-MODIFIED:20260420T220036Z
UID:6298-1778284800-1778371199@www.edelweisscai.it
SUMMARY:Escursionismo - Anello del Sornadello - VAL BREMBANA
DESCRIPTION:Anello del Sornadello\nPrealpi Orobiche – Val Brembilla – Lombardia\nSabato 9 maggio 2026\n  \nVi proponiamo una appagante escursione\, sia dal punto di vista ambientale che panoramico\, in Val Brembilla una valle laterale della Val Brembana. \nSi parte dalla forcella di Bura (884 m)\, che rappresentava anticamente la linea di demarcazione fra le due diverse giurisdizioni di Bergamo e Milano e da cui transitava l’antica mulattiera utilizzata principalmente per la transumanza e il commercio. Con percorso ad anello lungo oltre 8 km con circa 850 metri di dislivello in salita raggiungeremo le cime dei monti Foldone (1504 m)\, caratterizzato da pendii boscosi ed erbosi da cui affiorano guglie e canaloni rocciosi simili alla Grigna\, e Sornadello (1580 m) per rientrare infine dal passo del Mercante del Ferro (1550 m) utilizzato anticamente per il trasporto del ferro proveniente dalle miniere di Valtorta. \n  \nDislivello totale in salita/discesa: Gruppo Unico 870 m↑↓ \nQuota massima: 1580 m \nDurata complessiva dell’escursione: Gruppo Unico 5h30 \nEquipaggiamento base: scarponi\, giacca a vento o mantella\, pile\, bastoncini e borraccia. Pranzo al sacco. \n  \nOrario e punto di ritrovo suggerito per raggiungere il punto di partenza dell’escursione: \nMilano\, Piazza Monte Titano – Parcheggio dietro Staz. Lambrate (M2) angolo Via Predil ore 6:50 partenza ore 7:00 \nViaggio con auto proprie: Le spese di viaggio verranno suddivise tra i partecipanti\, esclusi gli autisti delle auto \nPunto di partenza dell’escursione: Forcella di Bura – Val Brembilla (BG) – ore 8:30 \n  \nQuote di partecipazione: \n\nSoci EDELWEISS o EDELWEISS+CAI8 €\nSoci CAI10 €\n\n(ISCRIZIONI ENTRO IL MERCOLEDI’ PRECEDENTE L’ESCURSIONE) \nPossibilità di partecipazione ai soli soci EDELWEISS pagando un’extra di euro 12\,95 per assicurazione infortuni CAI e soccorso alpino valida solo per il giorno dell’uscita \n  \nPrecisiamo a tutti coloro che pagheranno la quota di partecipazione in loco che la stessa dovrà essere pagata in CONTANTI o con BB ISTANTANEO di cui dovrà essere inviata a info@edelweisscai.it la copia. \nLa quota auto invece solo in contanti\, pertanto si chiede ai partecipanti di portare il contante necessario \n  \nI capigruppo non dispongono di strumenti di pagamento elettronici. \n  \nModalità d’iscrizione: \n\nPer e-mail: info@edelweisscai.it\nIn sede il lunedì dalle 17:30 alle 20:00 o il mercoledì dalle 17:00 alle 21:30\nTelefonando al 02 36589745 (negli orari di apertura o via WhatsApp)\n\nPagamenti: preferibili i pagamenti in sede\, possibili anche con POS\, oppure con BB utilizzando il seguente IBAN IT35X0503401693000000003707 conto intestato a G.S.A. EDELWEISS A.P.S. SOTTO SEZIONE CAI MI inviando una copia della contabile a info@edelweisscai.it.Rinunce: verrà applicato il regolamento gite in vigore visibile in sede o sul sito internet https://www.edelweisscai.it/regolamenti/\nPer comunicazioni urgenti: cell. 3343934611. \nLa sottosezione Edelweiss declina ogni responsabilità per danni a persone o cose conseguenti a eventuali incidenti durante la gita. \nSCARICA PDF
URL:https://www.edelweisscai.it/eventi/escursionismo-anello-del-sornadello-val-brembana/
CATEGORIES:Escursionismo,Evidenza Home
ATTACH;FMTTYPE=image/webp:https://www.edelweisscai.it/wp-content/uploads/2026/04/in-val-brembilla-tra-le-bellezze-del-sornadello-e-del-fold_eQsE5SC.webp
END:VEVENT
BEGIN:VEVENT
DTSTART;VALUE=DATE:20260524
DTEND;VALUE=DATE:20260525
DTSTAMP:20260425T180142
CREATED:20260425T141616Z
LAST-MODIFIED:20260425T143548Z
UID:6330-1779580800-1779667199@www.edelweisscai.it
SUMMARY:Escursionismo - Erve e il Magnodeno - PREALPI LECCHESI
DESCRIPTION:ERVE E IL MONTE MAGNODENO\nPREALPI LECCHESI – LOMBARDIA\nDomenica 24 maggio 2026\n  \nL’escursione proposta parte dal piccolo paese di Erve (559 m)  il cui toponimo è da far risalire al termine gallico êrf\, che significa «campo» e che si raggiunge tramite la panoramica strada che costeggia il burrone a picco sul torrente Gallavesa. Si parte dalla piazza del Comune e in breve ci si porta alla fine del paese e all’inizio del sentiero vero e proprio. \nIl sentiero di fatto segue la dorsale che separa la valle Verde e la valle dell’Adda\, fino al panoramico Monte Magnodeno\, che con i suoi 1241 metri\, permette una visuale sulla città di Lecco\, il lago omonimo\, il monte Barro\, le Grigne e molto altro… \nDopo una pausa presso la Capanna Bivacco Monte Magnodeno (chiuso – gestito dalla sezione degli alpini di Lecco)\, il sentiero prosegue per mezza costa\, con qualche saliscendi\, fino allo storico Rifugio degli Alpinisti Monzesi (1170 m). famoso perché è il punto di arrivo della gara di corsa notturna “Monza – Resegone”. \nIl Gruppo A potrà poi dirigersi\, con un piccolo dislivello ulteriore\, al Passo del Fò (1296 m) e la vicina Capanna sociale Giacomo Ghislandi. \nLa discesa avverrà lungo la Valle Verde con il sentiero San Carlo e l’omonima fonte d’acqua\, per poi concludersi con la principale attrazione di Erve\, le sue rinomate pozze\, luogo di ritrovo affollatissimo nel periodo estivo. \n  \nDislivello totale in salita/discesa: Gruppo A: 737 m – Gruppo B: 682 m \nDurata complessiva dell’escursione: 7h (escluso soste e pausa pranzo) \nEquipaggiamento base: scarponi\, giacca a vento o mantella\, pile\, bastoncini e borraccia. Pranzo al sacco. \nFonti d’acqua e punti di appoggio/ristoro: Bar e alimentari a Erve (LC) – alcune fonti d’acqua lungo il percorso – Rifugio Alpinisti Monzesi \n  \nOrario e punto di ritrovo suggerito per raggiungere il punto di partenza dell’escursione: \nMilano Piazza Monte Titano – Parcheggio dietro Staz. Lambrate\, angolo Via Predil ore 6:50 partenza ore 7:00 \nL’escursione verrà effettuata con auto proprie \nLe spese di viaggio verranno suddivise tra i partecipanti\, esclusi gli autisti delle auto \n  \nPunto di partenza dell’escursione: Erve (LC): ore 9.00 parcheggio inizio paese. \nCosti extra: parcheggio Erve – 3€ ad autovettura \n  \nQuote di partecipazione: \n\nSoci EDELWEISS o EDELWEISS+CAI 8 €\nSoci CAI 10 €\n\n(ISCRIZIONI ENTRO IL MERCOLEDI’ PRECEDENTE L’ESCURSIONE) \n  \nPrecisiamo a tutti coloro che pagheranno la quota di partecipazione in loco che la stessa dovrà essere pagata in CONTANTI o con BB ISTANTANEO di cui dovrà essere inviata a info@edelweisscai.it la copia. \nLa quota auto invece solo in contanti\, pertanto si chiede ai partecipanti di portare il contante necessario \n  \nI capigruppo non dispongono di strumenti di pagamento elettronici. \nPossibilità di partecipazione ai soli soci EDELWEISS pagando un’extra di euro 12\,95 per assicurazione infortuni CAI e soccorso alpino valida solo per il giorno dell’uscita \n  \nModalità d’iscrizione: \n\nPer e-mail: info@edelweisscai.it\nIn sede il lunedì dalle 17:30 alle 20:00 o il mercoledì dalle 17:00 alle 21:30\nTelefonando al 02 36589745 (negli orari di apertura o via WhatsApp)\n\nPagamenti: preferibili i pagamenti in sede\, possibili anche con POS\, oppure con BB utilizzando il seguente IBAN IT35X0503401693000000003707 conto intestato a G.S.A. EDELWEISS A.P.S. SOTTO SEZIONE CAI MI inviando una copia della contabile a info@edelweisscai.it.Rinunce: verrà applicato il regolamento gite in vigore visibile in sede o sul sito internet https://www.edelweisscai.it/regolamenti/\nPer comunicazioni urgenti: cell. 3343934611. \nLa sottosezione Edelweiss declina ogni responsabilità per danni a persone o cose conseguenti a eventuali incidenti durante la gita. \nSCARICA PDF
URL:https://www.edelweisscai.it/eventi/escursionismo-erve-e-il-magnodeno-prealpi-lecchesi/
CATEGORIES:Escursionismo
ATTACH;FMTTYPE=image/jpeg:https://www.edelweisscai.it/wp-content/uploads/2026/04/Magnodeno_panorama.jpg
END:VEVENT
END:VCALENDAR