BEGIN:VCALENDAR
VERSION:2.0
PRODID:-//Edelweiss Cai Milano - ECPv6.15.18//NONSGML v1.0//EN
CALSCALE:GREGORIAN
METHOD:PUBLISH
X-ORIGINAL-URL:https://www.edelweisscai.it
X-WR-CALDESC:Eventi per Edelweiss Cai Milano
REFRESH-INTERVAL;VALUE=DURATION:PT1H
X-Robots-Tag:noindex
X-PUBLISHED-TTL:PT1H
BEGIN:VTIMEZONE
TZID:Europe/Rome
BEGIN:DAYLIGHT
TZOFFSETFROM:+0100
TZOFFSETTO:+0200
TZNAME:CEST
DTSTART:20250330T010000
END:DAYLIGHT
BEGIN:STANDARD
TZOFFSETFROM:+0200
TZOFFSETTO:+0100
TZNAME:CET
DTSTART:20251026T010000
END:STANDARD
BEGIN:DAYLIGHT
TZOFFSETFROM:+0100
TZOFFSETTO:+0200
TZNAME:CEST
DTSTART:20260329T010000
END:DAYLIGHT
BEGIN:STANDARD
TZOFFSETFROM:+0200
TZOFFSETTO:+0100
TZNAME:CET
DTSTART:20261025T010000
END:STANDARD
BEGIN:DAYLIGHT
TZOFFSETFROM:+0100
TZOFFSETTO:+0200
TZNAME:CEST
DTSTART:20270328T010000
END:DAYLIGHT
BEGIN:STANDARD
TZOFFSETFROM:+0200
TZOFFSETTO:+0100
TZNAME:CET
DTSTART:20271031T010000
END:STANDARD
END:VTIMEZONE
BEGIN:VEVENT
DTSTART;VALUE=DATE:20260328
DTEND;VALUE=DATE:20260329
DTSTAMP:20260424T215142
CREATED:20260304T191816Z
LAST-MODIFIED:20260327T140044Z
UID:6153-1774656000-1774742399@www.edelweisscai.it
SUMMARY:Escursionismo Invernale – SASSO MALASCARPA – Lombardia
DESCRIPTION:I Fossili del Sasso Malascarpa\nPrealpi Lombarde\nSabato 28 Marzo 2026\n  \nIl percorso escursionistico collega Valmadrera (LC) (237m) a San Tomaso e al Sasso Malascarpa nella direzione del monte Rai attraverso la riserva naturale che porta lo stesso nome della nostra meta. \nSiamo nel cuore delle Prealpi Lombarde. e saliremo in una zona di massi erratici abbandonati qui dopo la glaciazione dai ghiacci della Valtellina. Oggi però andremo a cercare i “fossili del cuore” di questa zona che giacevano sul fondo del mare immersi tra i coralli dell’oceano Tetide prima di essere sollevati fino a queste quote. \nIl sentiero sale dalla frazione Belvedere di Valmadrera per una dolce mulattiera che porta agli agriturismi della zona attraversata da un ripido sentiero storico. Arrivati al torrente Inferno dove potremmo osservare delle formazioni di travertino prima di giungere alla spianata di San Tomaso (580m). Ammirato il panorama imboccheremo il sentiero 1 verso il monte Rai attraversando prima castagni e poi faggi solcando le formazioni calcaree deformate dalle spinte tettoniche e dalle erosioni delle acque. Al termine del bosco ammiriamo le deformazioni delle rocce fino a giungere in cresta dove abbandoniamo il sentiero del monte Rai (1260m) per ammirare i nostri fossili lungo la cresta del Sasso Malascarpa (1200m). Di qui dopo una breve sosta per il pranzo proseguiamo verso e scendiamo verso la Colma di Val Ravella (1000m) al grande faggio\, detto il Foo\, dove troveremo una fonte prima di rientrare a S.Tomaso e all’abitato di Valmadrera ed alla stazione per il viaggio di rientro in treno. \n  \nDislivello totale in salita/discesa: Gruppo Unico 1061m↑↓ – quota massima 1261m \nDurata complessiva dell’escursione: 6h (esclusa sosta pranzo) \nSviluppo lineare: 14.5 km \nPercorso: Anello \nDifficoltà: E (Escursionistico) \nEquipaggiamento base: scarponi\, giacca a vento o mantella\, pile bastoncini e borraccia. Pranzo al sacco. \n  \nL’escursione verrà effettuata in TRENO \nOgni partecipante dovrà premunirsi in autonomia del biglietto di A/R del treno \n  \nOrari e ritrovo per escursione: ritrovo a Milano Centrale ore 7:10 al binario \nPartenza da Milano con treno RE 2814 delle ore 7:20 per Tirano con arrivo alle ore 7:59 a Lecco – poi cambio con S2473 per Milano ed arrivo a Valmadrera(LC) alle 8:12  \n  \nRientro da Valmadrera con treno nel pomeriggio (vi è un treno ogni ora). \nIl costo dei biglietti del treno al momento di pubblicazione della presente circolare è di euro 6.10 € a tratta \n  \nPer chi ci vuol raggiungerci in auto: l’appuntamento è alla stazione di  Valmadrera (Lc) ore 8:15 \n  \nQuote di partecipazione: \n\nSoci EDELWEISS o EDELWEISS+CAI 8€\nSoci CAI 10 €\n\nPossibilità di partecipazioni ai soli soci EDELWEISS non soci CAI pagando un’extra di euro 12\,95 per assicurazione infortuni CAI e soccorso alpino valida solo per il giorno dell’uscita. \nLa quota NON comprende il viaggio in treno. \n  \nModalità d’iscrizione: \n\nPer e-mail: info@edelweisscai.it\nIn sede il lunedì dalle 17:00 alle 20:00 o il mercoledì dalle 17:00 alle 21:30\nTelefonando al 02 36589745 (negli orari di apertura o via WhatsApp)\n\nPagamenti: preferibili i pagamenti in sede\, possibili anche con POS\, oppure con BB utilizzando il seguente IBAN IT35X0503401693000000003707 conto intestato a G.S.A. EDELWEISS A.P.S. SOTTOSEZIONE CAI MI inviando una copia della contabile a info@edelweisscai.it.Rinunce: verrà applicato il regolamento gite in vigore visibile in sede o sul sito internet: https://www.edelweisscai.it/regolamenti/\nPer comunicazioni urgenti: cell. 3343934611. \nLa sottosezione Edelweiss declina ogni responsabilità per danni a persone o cose conseguenti a eventuali incidenti durante la gita \nSCARICA PDF
URL:https://www.edelweisscai.it/eventi/escursionismo-invernale-sasso-malascarpa-lombardia/
CATEGORIES:Escursionismo
ATTACH;FMTTYPE=image/jpeg:https://www.edelweisscai.it/wp-content/uploads/2026/03/Sasso.Malascarpa-800.jpg
END:VEVENT
END:VCALENDAR