BEGIN:VCALENDAR
VERSION:2.0
PRODID:-//Edelweiss Cai Milano - ECPv6.15.18//NONSGML v1.0//EN
CALSCALE:GREGORIAN
METHOD:PUBLISH
X-WR-CALNAME:Edelweiss Cai Milano
X-ORIGINAL-URL:https://www.edelweisscai.it
X-WR-CALDESC:Eventi per Edelweiss Cai Milano
REFRESH-INTERVAL;VALUE=DURATION:PT1H
X-Robots-Tag:noindex
X-PUBLISHED-TTL:PT1H
BEGIN:VTIMEZONE
TZID:Europe/Rome
BEGIN:DAYLIGHT
TZOFFSETFROM:+0100
TZOFFSETTO:+0200
TZNAME:CEST
DTSTART:20240331T010000
END:DAYLIGHT
BEGIN:STANDARD
TZOFFSETFROM:+0200
TZOFFSETTO:+0100
TZNAME:CET
DTSTART:20241027T010000
END:STANDARD
BEGIN:DAYLIGHT
TZOFFSETFROM:+0100
TZOFFSETTO:+0200
TZNAME:CEST
DTSTART:20250330T010000
END:DAYLIGHT
BEGIN:STANDARD
TZOFFSETFROM:+0200
TZOFFSETTO:+0100
TZNAME:CET
DTSTART:20251026T010000
END:STANDARD
BEGIN:DAYLIGHT
TZOFFSETFROM:+0100
TZOFFSETTO:+0200
TZNAME:CEST
DTSTART:20260329T010000
END:DAYLIGHT
BEGIN:STANDARD
TZOFFSETFROM:+0200
TZOFFSETTO:+0100
TZNAME:CET
DTSTART:20261025T010000
END:STANDARD
END:VTIMEZONE
BEGIN:VEVENT
DTSTART;VALUE=DATE:20251025
DTEND;VALUE=DATE:20251027
DTSTAMP:20260425T163115
CREATED:20250908T192309Z
LAST-MODIFIED:20250925T221551Z
UID:5491-1761350400-1761523199@www.edelweisscai.it
SUMMARY:ESCURSIONISMO: W.E. La strada delle 52 gallerie o sent. att. Falcipieri
DESCRIPTION:Due giorni sul Monte Pasubio\nPiccole Dolomiti / Prealpi Vicentine / Veneto\nSabato 25 ottobre e Domenica 26 ottobre 2025\n  \nIl Pasubio è un massiccio calcareo situato al confine fra le province di Vicenza e Trento di straordinario interesse storico ambientale\, che conserva numerose testimonianze del periodo della Prima Guerra Mondiale\, una delle quali la “Strada delle 52 gallerie”\, un vero e proprio grande museo a cielo aperto. \n1° giorno: Bocca di Campiglia –Sentiero Attrezzato Falcipieri (A) Strada delle 52 gallerie (B)- Rifugio Papa\nL’escursione prende avvio da Bocchetta Campiglia (1216 m)\, Per il gruppo dei ferratisti (gruppo A)\, la giornata è dedicata alla salita lungo il Sentiero Attrezzato Falcipieri\, un percorso di cresta che corre parallelo alla Strada delle 52 Gallerie. Il sentiero\, pur non presentando grandi difficoltà\, è esposto e richiede attenzione costante. Il panorama è spettacolare: si cammina sospesi tra cielo e roccia\, con viste che spaziano sulle vallate sottostanti. \nIl gruppo degli escursionisti (gruppo B) raggiungerà il Rifugio Papa (1928 m)\, attraverso la celebre Strada delle 52 Gallerie\, un capolavoro di ingegneria militare risalente alla Prima Guerra Mondiale. Questo percorso\, scavato interamente nella roccia\, si snoda per circa 6\,5 km lungo il versante meridionale del Pasubio\, attraversando 52 gallerie di varia lunghezza e conformazione: alcune brevi e dritte\, altre lunghe (fino a 370 m)\, tortuose e buie\, illuminate solo da aperture scavate nella roccia. Camminare su questa mulattiera significa immergersi in un viaggio nel tempo\, tra pareti verticali e precipizi\, in un ambiente che conserva le memorie del passatola \nPernottamento con mezza pensione al Rifugio Achille Papa – Valli del Pasubio (VI) \nGruppo A: Dislivello totale in salita: 808 m. Durata complessiva: 7/8 ore (escluso pranzo). Altitudine max: 2040 m Lunghezza: 11 Km – Percorso e difficoltà: EEA  Moderatamente difficile (richiesta ottima preparazione fisica) – Acqua sul percorso: non presente \nGruppo B:  Dislivello totale in salita: 784 m  Durata complessiva: 5 ÷ 6 ore (escluso pranzo).  Lunghezza: 10\,5 Km – Percorso e difficoltà: EE  (richiesta buona preparazione fisica) – Acqua sul percorso: non presente \n2° giorno: Rifugio Papa –Luoghi della Grande Guerra – Strada degli Scarubbi\nIl giorno seguente avremo modo di visitare tutti insieme la zona sovrastante il Rifugio\, dove potremo vedere da vicino gli effetti della Guerra di Mine tra esercito italiano e austriaco (Dente Italiano e Dente Austriaco). \nIl rientro per entrambi i gruppi (A+B)  sarà lungo la Strada degli Scarubbi\, altra importante opera viaria costruita durante la guerra per accedere più velocemente al Dente Italiano. \nGruppo A e B: Dislivello totale in discesa: 1000 m. Durata complessiva: 5 ÷ 6 ore (escluso pranzo). Lunghezza: 12\,6 Km – Percorso e difficoltà: EE — Acqua sul percorso: non presente \n Equipaggiamento base per tutti:  PILA FRONTALE\, scarponi\, giacca a vento o mantella\, pile\, borraccia\, torcia elettrica. Colazione al sacco per i due giorni. Obbligatorio sacco lenzuolo e accessori per l’igiene personale. \nEquipaggiamento Ferrata:  obbligatorio l’uso di casco\, imbrago e kit da ferrata omologato\, scarponi. \n  \n L’escursione verrà effettuata con auto proprie. E’ prevista una sosta colazione lungo la strada. \n Orari e punto di ritrovo: Sabato 25 Ottobre ore 6:00 ritrovo in P.le Monte Titano (MM2 Lambrate). Rientro domenica 26 Ottobre in serata. \nCosti di viaggio: la spesa del viaggio verranno suddivise tra i partecipanti: \nPunto di partenza escursione: bocchetta di Campiglia – Valli del Pasubio (VI). \n Quote di partecipazione DA VERSARE DOPO CONFERMA DELL’ISCRIZIONE \nSoci Edelweiss+CAI:   € 100 \nSoci CAI:                        € 120                     \n La quota comprende: Trattamento di mezza pensione al Rifugio Papa\, assicurazione infortuni\, spese di organizzazione\, assistenza dei nostri accompagnatori. Si rammenta che l’assicurazione copre solo gli infortuni avvenuti durante lo svolgimento del percorso a piedi. \nLa quota NON comprende il viaggio in auto\, costo parcheggio e eventuale navetta\, e tutto quanto non compreso nella voce “la quota comprende”. \n Iscrizioni entro e non oltre il 20 ottobre 2025 – \nComunicare in segreteria\, all’atto dell’iscrizione\, se si mette automobile a disposizione per il viaggio\, eventuali regimi alimentari particolari e se si vuole fare la ferrata o il sentiero escursionistico. \n  \nModalità d’iscrizione: \n\nPer e-mail: info@edelweisscai.it\nIn sede il lunedì dalle 17:30 alle 20:00 o il mercoledì dalle 17:30 alle 22:00\nTelefonando al 02 36589745 (negli orari di apertura o via WhatsApp)\n\n  \nIscrizioni riservate unicamente ai soci Edelweiss + CAI o CAI \nPortare sempre con sé la tessera CAI (da esibirsi quando richiesta). \n  \nL’iscrizione è valida solo con il versamento della quota di partecipazione\, dopo la conferma del posto\, in sede o con BB utilizzando il seguente \nIBAN IT35X 05034 01693000000003707 (inviare una copia del BB via email). \n  \nPagamenti: preferibili i pagamenti in sede\, possibili anche con POS\, oppure con BB utilizzando il seguente IBAN IT35X0503401693000000003707 inviando una copia della contabile a info@edelweisscai.it. \nRinunce: verrà applicato il regolamento gite in vigore visibile in sede o sul sito internet https://www.edelweisscai.it/regolamenti/. \nPer comunicazioni urgenti: cell. 3343934611.  \nLa sottosezione Edelweiss declina ogni responsabilità per danni a persone o cose conseguenti a eventuali incidenti durante la gita. Il programma potrebbe subire variazioni dovute alle condizioni meteo\, alle condizioni dei sentieri e altro a giudizio del responsabile escursione. \nscarica il pdf
URL:https://www.edelweisscai.it/eventi/escursionismo-we-52-gallerie-prealpi-vicentine-veneto/
CATEGORIES:Escursionismo
ATTACH;FMTTYPE=image/webp:https://www.edelweisscai.it/wp-content/uploads/2025/09/52gallerie.webp
END:VEVENT
END:VCALENDAR