BEGIN:VCALENDAR
VERSION:2.0
PRODID:-//Edelweiss Cai Milano - ECPv6.15.18//NONSGML v1.0//EN
CALSCALE:GREGORIAN
METHOD:PUBLISH
X-ORIGINAL-URL:https://www.edelweisscai.it
X-WR-CALDESC:Eventi per Edelweiss Cai Milano
REFRESH-INTERVAL;VALUE=DURATION:PT1H
X-Robots-Tag:noindex
X-PUBLISHED-TTL:PT1H
BEGIN:VTIMEZONE
TZID:Europe/Rome
BEGIN:DAYLIGHT
TZOFFSETFROM:+0100
TZOFFSETTO:+0200
TZNAME:CEST
DTSTART:20240331T010000
END:DAYLIGHT
BEGIN:STANDARD
TZOFFSETFROM:+0200
TZOFFSETTO:+0100
TZNAME:CET
DTSTART:20241027T010000
END:STANDARD
BEGIN:DAYLIGHT
TZOFFSETFROM:+0100
TZOFFSETTO:+0200
TZNAME:CEST
DTSTART:20250330T010000
END:DAYLIGHT
BEGIN:STANDARD
TZOFFSETFROM:+0200
TZOFFSETTO:+0100
TZNAME:CET
DTSTART:20251026T010000
END:STANDARD
BEGIN:DAYLIGHT
TZOFFSETFROM:+0100
TZOFFSETTO:+0200
TZNAME:CEST
DTSTART:20260329T010000
END:DAYLIGHT
BEGIN:STANDARD
TZOFFSETFROM:+0200
TZOFFSETTO:+0100
TZNAME:CET
DTSTART:20261025T010000
END:STANDARD
END:VTIMEZONE
BEGIN:VEVENT
DTSTART;VALUE=DATE:20251018
DTEND;VALUE=DATE:20251019
DTSTAMP:20260425T121856
CREATED:20250823T152023Z
LAST-MODIFIED:20251013T185735Z
UID:5465-1760745600-1760831999@www.edelweisscai.it
SUMMARY:ESCURSIONISMO: Monte Alben - Prealpi Orobie (in sostituzione dell'escursione prevista in Val Malenco)
DESCRIPTION:Monte Alben (2019 m)\nPrealpi Orobie – Bergamo – Lombardia\nSabato 18 ottobre 2025\n  \nIl Monte Alben costituisce lo spartiacque tra la valle di Riso\, tributaria della Val Seriana\, ad est e la \nVal Serina ad ovest.  L’escursione si svolge su uno spettacolare massiccio calcareo fiancheggiando \nuna cresta frastagliata che garantisce soddisfazione a chi ama camminare in ambiente roccioso. \nDalla sua cima si ammira un magnifico panorama verso la Presolana\, il pizzo Arera ed il più lontano Adamello. \nDal passo di Zambla (BG – 1276 m) si prende una strada\, lasciandosi a destra il bar “New Trapper”\, la si segue per pochi minuti fino a dove diviene sterrata e dove c’è l’attacco per il sentiero 501 e lì si parcheggia. \nDopo un breve tratto nel bosco\, la salita diventa più ripida e faticosa e il fondo si fa più accidentato mentre l’ambiente è circondato da cime e guglie. Si arriva al passo della Forca (1848 m) dove a destra è presente la Baita del Gioan\, un ricovero ricavato dalla roccia. \nQui il Gruppo A svolta a sinistra seguendo i bolli di vernice e incomincia a camminare tra le rocce utilizzando quando serve anche le mani. Si attraversa un buco nella roccia e si risale qualche sbalzo roccioso sotto la cresta arrivando alla croce di vetta con il bel panorama. Per il ritorno si utilizza lo stesso sentiero dell’andata. \nIl Gruppo B dal passo della Forca sale a destra su facile sentiero un po’ roccioso fino alla cima del monte Croce (1975 m) con lo stesso panorama dell’Alben. \nRitorno per il sentiero dell’andata. \n  \nDislivello tot. in salita/discesa: Gr. A 770 m; Gr. B 680 m; \nQuota max: Gr. A 2019 m; Gr. B 1975 m \nDurata complessiva escursione: Gruppo A 5h30 – Gruppo B 5h (esclusa sosta pranzo) \nSviluppo lineare: Gruppo A 9\,5 km; Gruppo B 8\,00 km \nTipo di percorso: Gruppo A e B   A/R (andata e ritorno) \nDifficoltà: Gruppo A EE (Escursionisti Esperti) – Gruppo B E (Escursionistico) \nEquipaggiamento base: scarponi\, giacca a vento\, pile\, bastoncini e borraccia e una tazza per chi vuole il caffè a fine pasto! Pranzo al sacco. \n  \nL’escursione verrà effettuata con auto proprie. È prevista una sosta colazione lungo la strada. \nOrario e punto di ritrovo suggerito per raggiungere il punto di partenza dell’escursione: \nPiazza Monte Titano / Via Predil – Parcheggio Stazione Lambrate ore 6.50. Partenza ore 7:00 \nCosti di viaggio: Le spese di viaggio verranno suddivise tra i partecipanti\, esclusi gli autisti \nPunto di partenza dell’escursione: parcheggio al passo di Zambla \, Via Colle di Zambla\, 5A\, 24020 Oneta (BG)\,  nei pressi del ristorante New Trapper. \n  \nQuote di partecipazione: \n\nSoci EDELWEISS o EDELWEISS+CAI 8 €\nSoci CAI 10 €\n\n  \nPossibilità di partecipazione ai soci EDELWEISS non soci CAI versando (entro il mercoledì precedente l’escursione) 12.95 € aggiuntive rispetto alla quota giornaliera per assicurazione CAI e soccorso alpino. \nISCRIZIONI ENTRO IL MERCOLEDI’ PRECEDENTE L’ESCURSIONE \n  \nModalità d’iscrizione: \n\nPer e-mail: info@edelweisscai.it\nIn sede il lunedì dalle 17:30 alle 20:00 o il mercoledì dalle 17:30 alle 22:00\nTelefonando al 02 36589745 (negli orari di apertura o via WhatsApp)\n\nPagamenti: preferibili i pagamenti in sede\, possibili anche con POS\, oppure con BB utilizzando il seguente IBAN IT35X0503401693000000003707 inviando una copia della contabile a info@edelweisscai.it. \nRinunce: verrà applicato il regolamento gite in vigore visibile in sede o sul sito internet https://www.edelweisscai.it/regolamenti/\nPer comunicazioni urgenti: cell. 3343934611. \nLa sottosezione Edelweiss declina ogni responsabilità per danni a persone o cose conseguenti a eventuali incidenti durante la gita \n  \nSCARICA PDF
URL:https://www.edelweisscai.it/eventi/escursionismo-monte-alben-prealpi-orobie/
CATEGORIES:Escursionismo,Evidenza Home
ATTACH;FMTTYPE=image/jpeg:https://www.edelweisscai.it/wp-content/uploads/2025/08/Alben-scaled.jpg
END:VEVENT
END:VCALENDAR