BEGIN:VCALENDAR
VERSION:2.0
PRODID:-//Edelweiss Cai Milano - ECPv6.15.18//NONSGML v1.0//EN
CALSCALE:GREGORIAN
METHOD:PUBLISH
X-WR-CALNAME:Edelweiss Cai Milano
X-ORIGINAL-URL:https://www.edelweisscai.it
X-WR-CALDESC:Eventi per Edelweiss Cai Milano
REFRESH-INTERVAL;VALUE=DURATION:PT1H
X-Robots-Tag:noindex
X-PUBLISHED-TTL:PT1H
BEGIN:VTIMEZONE
TZID:Europe/Rome
BEGIN:DAYLIGHT
TZOFFSETFROM:+0100
TZOFFSETTO:+0200
TZNAME:CEST
DTSTART:20240331T010000
END:DAYLIGHT
BEGIN:STANDARD
TZOFFSETFROM:+0200
TZOFFSETTO:+0100
TZNAME:CET
DTSTART:20241027T010000
END:STANDARD
BEGIN:DAYLIGHT
TZOFFSETFROM:+0100
TZOFFSETTO:+0200
TZNAME:CEST
DTSTART:20250330T010000
END:DAYLIGHT
BEGIN:STANDARD
TZOFFSETFROM:+0200
TZOFFSETTO:+0100
TZNAME:CET
DTSTART:20251026T010000
END:STANDARD
BEGIN:DAYLIGHT
TZOFFSETFROM:+0100
TZOFFSETTO:+0200
TZNAME:CEST
DTSTART:20260329T010000
END:DAYLIGHT
BEGIN:STANDARD
TZOFFSETFROM:+0200
TZOFFSETTO:+0100
TZNAME:CET
DTSTART:20261025T010000
END:STANDARD
END:VTIMEZONE
BEGIN:VEVENT
DTSTART;VALUE=DATE:20250614
DTEND;VALUE=DATE:20250615
DTSTAMP:20260425T175942
CREATED:20250521T083914Z
LAST-MODIFIED:20250614T163148Z
UID:5330-1749859200-1749945599@www.edelweisscai.it
SUMMARY:ESCURSIONISMO: Val Grande - Cima Sasso
DESCRIPTION:Into the Wild – Cima Sasso\nParco Nazionale della Val Grande (VCO) – Piemonte\nSabato 14 giungo 2025 \n  \n  \nBellissimo percorso nel cuore del Parco Nazionale della Val Grande\, l’area wilderness più grande d’Europa. Impegnativo e di soddisfazione\, si sviluppa in ambienti sempre diversi e si affaccia in continua alternanza sulla Val Grande e sulla Val Pogallo\, verdeggianti e austere. \nÈ impegnativo e non per tutti\, presenta dei passaggi su roccia esposti e un ultimo strappo su pietraia\, dove alle volte c’è la necessità di appoggiare anche le mani\, ma presenta panorami unici e stupefacenti. \nSi parte dalla frazione di Cicogna (732 m); la strada per arrivarci è tortuosa e stretta (circa 11 km). \nLa salita inizia su una splendida mulattiera\, opera di fatica di uomini sapienti\, che porta fino al rifugio Casa dell’Alpino (1250 m)\, dove c’è una fonte d’acqua fresca. Prima di arrivare al rifugio andremo a vedere il Masso Coppellato\, che a tutt’oggi rimane un mistero. Dal Rifugio si passa repentinamente su un sentiero che attraversa una piacevole faggeta. \nSi prosegue quindi in cresta\, seguendo una traccia di sentiero non sempre ben visibile. Segni rossi e bianchi si alternano ad omini di pietra fino alla colma di Belmello (1550 m). Ancora i faggi accompagnano la salita poi il panorama cambia repentino\, spiazzi erbosi\, emergono le rocce e macchie di rododendri seguono i declivi. L’ultimo strappo per arrivare in cima e giunti alla vetta (1916 m) compare il Pedum\, monte simbolo di questa valle. Si ridiscende per lo stesso percorso\, ma le visuali stupiscono anche al ritorno\, perché si affacciano sul lago Maggiore e su tutti i laghi limitrofi. \n  \nDislivello totale in salita/discesa: Gruppo Unico 1240 m↑↓ \nDurata complessiva dell’escursione: Gruppo Unico 7h (escluse soste) \nPercorso e difficoltà: Gruppo Unico andata e ritorno (EE) \nEquipaggiamento base: scarponi\, giacca a vento o mantella\, pile\, bastoncini e borraccia. Colazione al sacco. Consigliati i bastoncini visto lo sviluppo. \n  \nL’escursione verrà effettuata con auto proprie. \nÈ prevista una sosta colazione lungo la strada. \nOrario e punto di ritrovo suggerito per raggiungere il punto di partenza dell’escursione: \nPiazzale Lotto\, di fronte al Lido (MM1 – MM5 Lotto) ore 6.40. Partenza ore 7:00 \nCosti di viaggio: Le spese di viaggio verranno suddivise tra i partecipanti \n  \nQuote di partecipazione: \n\nSoci EDELWEISS o EDELWEISS+CAI 8 €\nSoci CAI\nde10 €\n\n  \nPossibilità di partecipazione ai soci EDELWEISS non soci CAI versando (entro il mercoledì precedente l’escursione) 12.95 € aggiuntive rispetto alla quota giornaliera per assicurazione CAI e soccorso alpino. \nISCRIZIONI ENTRO IL MERCOLEDI’ PRECEDENTE L’ESCURSIONE \n  \nCOMUNICARE IN SEGRETERIA\, ALL’ATTO DELL’ISCRIZIONE\, SE SI DISPONE DI AUTO \n  \nModalità d’iscrizione: \n\nPer e-mail: info@edelweisscai.it\nIn sede il lunedì dalle 17:30 alle 20:00 o il mercoledì dalle 17:30 alle 22:00\nTelefonando al 02 36589745 (negli orari di apertura o via WhatsApp)\n\nPagamenti: preferibili i pagamenti in sede\, possibili anche con POS\, oppure con BB utilizzando il seguente IBAN IT35X0503401693000000003707 inviando una copia della contabile a info@edelweisscai.it. \nRinunce: verrà applicato il regolamento gite in vigore visibile in sede o sul sito internet: https://www.edelweisscai.it/regolamenti/\nPer comunicazioni urgenti: cell. 3343934611. \nLa sottosezione Edelweiss declina ogni responsabilità̀ per danni a persone o cose conseguenti a eventuali incidenti durante la gita. \n  \nSCARICA PDF
URL:https://www.edelweisscai.it/eventi/escursionismo-val-grande/
CATEGORIES:Escursionismo
ATTACH;FMTTYPE=image/jpeg:https://www.edelweisscai.it/wp-content/uploads/2025/05/CimaSasso.jpg
END:VEVENT
END:VCALENDAR