BEGIN:VCALENDAR
VERSION:2.0
PRODID:-//Edelweiss Cai Milano - ECPv6.15.18//NONSGML v1.0//EN
CALSCALE:GREGORIAN
METHOD:PUBLISH
X-ORIGINAL-URL:https://www.edelweisscai.it
X-WR-CALDESC:Eventi per Edelweiss Cai Milano
REFRESH-INTERVAL;VALUE=DURATION:PT1H
X-Robots-Tag:noindex
X-PUBLISHED-TTL:PT1H
BEGIN:VTIMEZONE
TZID:Europe/Rome
BEGIN:DAYLIGHT
TZOFFSETFROM:+0100
TZOFFSETTO:+0200
TZNAME:CEST
DTSTART:20240331T010000
END:DAYLIGHT
BEGIN:STANDARD
TZOFFSETFROM:+0200
TZOFFSETTO:+0100
TZNAME:CET
DTSTART:20241027T010000
END:STANDARD
BEGIN:DAYLIGHT
TZOFFSETFROM:+0100
TZOFFSETTO:+0200
TZNAME:CEST
DTSTART:20250330T010000
END:DAYLIGHT
BEGIN:STANDARD
TZOFFSETFROM:+0200
TZOFFSETTO:+0100
TZNAME:CET
DTSTART:20251026T010000
END:STANDARD
BEGIN:DAYLIGHT
TZOFFSETFROM:+0100
TZOFFSETTO:+0200
TZNAME:CEST
DTSTART:20260329T010000
END:DAYLIGHT
BEGIN:STANDARD
TZOFFSETFROM:+0200
TZOFFSETTO:+0100
TZNAME:CET
DTSTART:20261025T010000
END:STANDARD
END:VTIMEZONE
BEGIN:VEVENT
DTSTART;VALUE=DATE:20250607
DTEND;VALUE=DATE:20250608
DTSTAMP:20260425T180057
CREATED:20250511T134349Z
LAST-MODIFIED:20250607T115924Z
UID:5303-1749254400-1749340799@www.edelweisscai.it
SUMMARY:ESCURSIONISMO: Valle Antrona
DESCRIPTION:Valle Antrona: la Valle dell’Oro e del Ferro\nVerbanio Cusio Ossola – Piemonte\nSabato 07 giugno 2025\n  \nCi troviamo nel Parco Naturale della Alta Valle Antrona\, al confine tra Italia e Svizzera. \nUna valle che ha conservato\, più di altre sulle Alpi\, un ambiente naturale ancora integro dove tuttavia la presenza degli uomini si è consolidata nei secoli con un’intensa attività mineraria e più recentemente con strutture idroelettriche\, come testimoniato dai numerosi laghi artificiali. \nPartiremo da Antronapiana (900 m) da cui tramite sentiero saliremo dapprima al lago di Antronapiana (1060 m) e poi al lago di Campliccioli (1320 m) passando per l’Alpe Piana. \nDa qui costeggeremo la sponda orientale del lago\, lungo il tracciato della vecchia decauville di servizio per la diga\, per poi salire con percorso tra i boschi fino all’Alpe Torgna (1630 m). Da qui il percorso diventa una traccia poco battuta\, ripida e accidentata fino all’Alpe Valverta di sotto (1800 m)\, panoramico alpeggio con baite caratteristiche e incorniciato dalle montagne\, dove si effettuerà la sosta pranzo. \nSi rientrerà poi per stesso percorso fino al lago di Campliccioli per poi proseguire lungo la sponda occidentale del lago\, passando per l’alpe Granrariol (1410 m)\, con giro ad anello\, e tornare al lago di Antrona. \n  \nDislivello totale in salita/discesa: Gruppo Unico 900 m↑↓ – quota massima 1800 m \nDurata complessiva dell’escursione: Gruppo Unico 7h (esclusa sosta pranzo) \nSviluppo lineare: Gruppo Unico 12.5 km \nTipo di percorso: Gruppo Unico Anello \nDifficoltà: Gruppo Unico: EE (Escursionisti esperti) \nEquipaggiamento base: scarponi\, giacca a vento o mantella\, pile\, bastoncini e borraccia. Pranzo al sacco. \nRaccomandate le bacchette per la discesa dall’Alpe Valverta \n  \nL’escursione verrà effettuata con auto proprie. È prevista una sosta colazione lungo la strada. \nOrario e punto di ritrovo suggerito per raggiungere il punto di partenza dell’escursione: \nPiazzale Lotto\, di fronte al Lido (MM1 – MM5 Lotto) ore 6.50. Partenza ore 7:00 \nCosti di viaggio: Le spese di viaggio verranno suddivise tra i partecipanti \nPunto di partenza dell’escursione: Parcheggio del Lago di Antrona nei pressi del ristorante Lago Pineta ore 8:40 \n  \nQuote di partecipazione: \n\nSoci EDELWEISS o EDELWEISS+CAI 8 €\nSoci CAI 10 €\n\n  \nPossibilità di partecipazione ai soci EDELWEISS non soci CAI versando (entro il mercoledì precedente l’escursione) 12.95 € aggiuntive rispetto alla quota giornaliera per assicurazione CAI e soccorso alpino. \n  \nModalità d’iscrizione: \n\nPer e-mail: info@edelweisscai.it\nIn sede il lunedì dalle 17:30 alle 20:00 o il mercoledì dalle 17:30 alle 22:00\nTelefonando al 02 36589745 (negli orari di apertura o via WhatsApp)\n\nPagamenti: preferibili i pagamenti in sede\, possibili anche con POS\, oppure con BB utilizzando il seguente IBAN IT35X0503401693000000003707 inviando una copia della contabile a info@edelweisscai.it. \nRinunce: verrà applicato il regolamento gite in vigore visibile in sede o sul sito internet https://www.edelweisscai.it/regolamenti/\nPer comunicazioni urgenti: cell. 3343934611. \nLa sottosezione Edelweiss declina ogni responsabilità̀ per danni a persone o cose conseguenti a eventuali incidenti durante la gita \n  \nSCARICA PDF
URL:https://www.edelweisscai.it/eventi/escursionismo-valle-antrona/
CATEGORIES:Escursionismo
ATTACH;FMTTYPE=image/jpeg:https://www.edelweisscai.it/wp-content/uploads/2025/05/img-22329-O-36-172-0-0-322ae72d23dee51b3daf36c673c4dcbd.jpeg
END:VEVENT
END:VCALENDAR