BEGIN:VCALENDAR
VERSION:2.0
PRODID:-//Edelweiss Cai Milano - ECPv6.15.18//NONSGML v1.0//EN
CALSCALE:GREGORIAN
METHOD:PUBLISH
X-ORIGINAL-URL:https://www.edelweisscai.it
X-WR-CALDESC:Eventi per Edelweiss Cai Milano
REFRESH-INTERVAL;VALUE=DURATION:PT1H
X-Robots-Tag:noindex
X-PUBLISHED-TTL:PT1H
BEGIN:VTIMEZONE
TZID:Europe/Rome
BEGIN:DAYLIGHT
TZOFFSETFROM:+0100
TZOFFSETTO:+0200
TZNAME:CEST
DTSTART:20240331T010000
END:DAYLIGHT
BEGIN:STANDARD
TZOFFSETFROM:+0200
TZOFFSETTO:+0100
TZNAME:CET
DTSTART:20241027T010000
END:STANDARD
BEGIN:DAYLIGHT
TZOFFSETFROM:+0100
TZOFFSETTO:+0200
TZNAME:CEST
DTSTART:20250330T010000
END:DAYLIGHT
BEGIN:STANDARD
TZOFFSETFROM:+0200
TZOFFSETTO:+0100
TZNAME:CET
DTSTART:20251026T010000
END:STANDARD
BEGIN:DAYLIGHT
TZOFFSETFROM:+0100
TZOFFSETTO:+0200
TZNAME:CEST
DTSTART:20260329T010000
END:DAYLIGHT
BEGIN:STANDARD
TZOFFSETFROM:+0200
TZOFFSETTO:+0100
TZNAME:CET
DTSTART:20261025T010000
END:STANDARD
END:VTIMEZONE
BEGIN:VEVENT
DTSTART;VALUE=DATE:20250524
DTEND;VALUE=DATE:20250525
DTSTAMP:20260425T210142
CREATED:20250419T143748Z
LAST-MODIFIED:20250523T062440Z
UID:5231-1748044800-1748131199@www.edelweisscai.it
SUMMARY:ESCURSIONISMO: Rifugio Stoppani o Ferrata Gamma Uno
DESCRIPTION:Rifugio Stoppani al Pizzo d’Erna o Ferrata Gamma 1\nLecco – Lombardia\nsabato 24 maggio 2025\n  \nL’escursione parte dal piazzale delle funivie dei Piani d’Erna (600 m) a Lecco per risalire le pendici del Resegone e per l’esattezza affronteremo il bastione del Pizzo d’Erna. Dal parcheggio il gruppo A risale in direzione del Passo del Fò fino al bivio dove  devia verso la via Ferrata Gamma 1 (680 m) inoltrandosi per il ripido sentiero verso l’attacco della ferrata che risale la bastionata con vista panoramica sul lago di Lecco. La ferrata consiste in un primo tratto\, ripido ed esposto\, con cavi e scalette aeree\, che raggiunge la prima via di fuga alla ferrata\, ed un secondo tratto meno esposto\, ma che presenta qualche passaggio un po’ più tecnico. Terminata la ferrata al Pizzo d’Erna (1.360 m) ridiscenderemo per il sentiero 1 in direzione del nostro punto di partenza. \nIl gruppo B invece sale al Pizzo d’Erna passando con ampio giro per il passo del cammello (1100 m) per sentiero ripido e roccioso  che richiede una certa attenzione. Dal pizzo scende poi allo storico il Rifugio Stoppani (890 m) per poi rientrare al parcheggio di partenza. \nDislivello totale in salita/discesa: Gruppo A e B 760 m↑↓ – quota massima 1360 m \nDurata complessiva dell’escursione: Gruppo A 7h (esclusa sosta pranzo) Gruppo B 6h (esclusa sosta pranzo) \nSviluppo lineare: Gruppo A 7 Km Gruppo B 11 km   \nPercorso e difficoltà: Gruppo A EEA (escursionisti esperti attrezzati) – Gruppo B E (escursionistico) \nEquipaggiamento base:  \nGruppo A e B scarponi\, giacca a vento o mantella\, pile\, bastoncini e borraccia. Colazione al sacco. \nGruppo A aggiungere equipaggiamento per ferrata (casco + imbrago + set da ferrata omologato obbligatori) \nGli iscritti all’escursione che intendo partecipare alla ferrata saranno ammessi al gruppo A in base ad insindacabile giudizio dei responsabili dell’escursione. \n  \nL’escursione verrà effettuata con auto proprie \nOrario e punto di ritrovo suggerito per raggiungere il punto di partenza dell’escursione: \nPiazzale Monte Titano (MM2 – Lambrate) ore 6.50. Partenza ore 7:00 \nCosti di viaggio: Le spese di viaggio verranno suddivise tra i partecipanti \nPunto di partenza dell’escursione: \npiazzale Funivia Piani d’Erna h8:30 – Via Prealpi 32 Lecco \n  \nQuote di partecipazione: \n\nSoci EDELWEISS o EDELWEISS+CAI 8 €\nSoci CAI 10 €\n\nPossibilità di partecipazione ai soci EDELWEISS non soci CAI versando (entro il mercoledì precedente l’escursione) 12.95 € aggiuntive rispetto alla quota giornaliera per assicurazione CAI e soccorso alpino. \nISCRIZIONI ENTRO IL MERCOLEDI’ PRECEDENTE L’ESCURSIONE \n  \nCOMUNICARE IN SEGRETERIA\, ALL’ATTO DELL’ISCRIZIONE SE SI DISPONE DI AUTO \n  \nModalità d’iscrizione: \n\nPer e-mail: info@edelweisscai.it\nIn sede il lunedì dalle 17:30 alle 20:00 o il mercoledì dalle 17:30 alle 22:00\nTelefonando al 02 36589745 (negli orari di apertura o via WhatsApp)\n\nPagamenti: preferibili i pagamenti in sede\, possibili anche con POS\, oppure con BB utilizzando il seguente IBAN IT35X0503401693000000003707 inviando una copia della contabile a info@edelweisscai.it.Rinunce: verrà applicato il regolamento gite in vigore visibile in sede o sul sito internet https://www.edelweisscai.it/regolamenti/\nPer comunicazioni urgenti: cell. 3343934611. \nLa sottosezione Edelweiss declina ogni responsabilità̀ per danni a persone o cose conseguenti a eventuali incidenti durante la gita\nSCARICA IL PDF
URL:https://www.edelweisscai.it/eventi/escursionismo-rifugio-stoppani-o-ferrata-gamma-uno/
CATEGORIES:Escursionismo
ATTACH;FMTTYPE=image/jpeg:https://www.edelweisscai.it/wp-content/uploads/2025/04/Lecco_Ferrata-Gamma1_1_ComuneLecco-1-scaled-524x320-1.jpg
END:VEVENT
END:VCALENDAR