BEGIN:VCALENDAR
VERSION:2.0
PRODID:-//Edelweiss Cai Milano - ECPv6.15.18//NONSGML v1.0//EN
CALSCALE:GREGORIAN
METHOD:PUBLISH
X-WR-CALNAME:Edelweiss Cai Milano
X-ORIGINAL-URL:https://www.edelweisscai.it
X-WR-CALDESC:Eventi per Edelweiss Cai Milano
REFRESH-INTERVAL;VALUE=DURATION:PT1H
X-Robots-Tag:noindex
X-PUBLISHED-TTL:PT1H
BEGIN:VTIMEZONE
TZID:Europe/Rome
BEGIN:DAYLIGHT
TZOFFSETFROM:+0100
TZOFFSETTO:+0200
TZNAME:CEST
DTSTART:20240331T010000
END:DAYLIGHT
BEGIN:STANDARD
TZOFFSETFROM:+0200
TZOFFSETTO:+0100
TZNAME:CET
DTSTART:20241027T010000
END:STANDARD
BEGIN:DAYLIGHT
TZOFFSETFROM:+0100
TZOFFSETTO:+0200
TZNAME:CEST
DTSTART:20250330T010000
END:DAYLIGHT
BEGIN:STANDARD
TZOFFSETFROM:+0200
TZOFFSETTO:+0100
TZNAME:CET
DTSTART:20251026T010000
END:STANDARD
BEGIN:DAYLIGHT
TZOFFSETFROM:+0100
TZOFFSETTO:+0200
TZNAME:CEST
DTSTART:20260329T010000
END:DAYLIGHT
BEGIN:STANDARD
TZOFFSETFROM:+0200
TZOFFSETTO:+0100
TZNAME:CET
DTSTART:20261025T010000
END:STANDARD
END:VTIMEZONE
BEGIN:VEVENT
DTSTART;VALUE=DATE:20250504
DTEND;VALUE=DATE:20250505
DTSTAMP:20260425T192946
CREATED:20250314T221455Z
LAST-MODIFIED:20250419T173928Z
UID:5091-1746316800-1746403199@www.edelweisscai.it
SUMMARY:PROGRAMMA ESCURSIONISMO 2025
DESCRIPTION:SCARICA PDF\ndomenica 6 aprile 2025 : LIGURIA – Pullman – Gruppo A(EE) – Gruppo B(E)  –  Il Canyon della Val Gargassa\nsabato 12 aprile 2025: LOMBARDIA – Auto – Gruppo Unico(EE)  – Guerra e Pace a Campione del Garda\nWE ven-sab 2-3 maggio 2025  LOMBARDIA – Mezzi Pubblici – Gruppo Unico(E) – La Dorsale Lariana in un weekend \nsabato 10 maggio 2025 EMILIA ROMAGNA – Pullman – Gruppo A(EE) – Gruppo B(E) – La Rocca d’Olgisio in Val Chiarone \nsabato 24 maggio 2025 LOMBARDIA – Pullman – Gruppo A(EEA) – Gruppo B(E) – Rif. Stoppani e Ferrata Gamma 1\nsabato 7 giugno 2025 PIEMONTE – Pullman – Gruppo A(EE) – Gruppo B(E) – Valle Antrona: la Valle dell’Oro e del Ferro\n sabato 14 giugno 2025 PIEMONTE – Auto – Gruppo Unico(EE)  – In to the Wild – Cima Sasso in Val Grande\nsabato  21 giugno 2025 PIEMONTE – Pullman – Gruppo A(EE) – Gruppo B(E)  – Sent Glaciologico dell’Alta Valsesia\nWE sab-dom 6-7 luglio 2025VENETO – Pullman – Gruppo A(EEA) – Gruppo B(E) WE – Le 52 Gallerie del Pasubio\nsabato 12 luglio 2025 PIEMONTE – Auto – Gruppo Unico(EE)  – Giro 5 Rifugi in Alta Val Formazza\nVsabato 19 luglio 2025 AL D’AOSTA – Pullman – Gruppo A(EE) – Gruppo B(E) – Monti Tabel e Cherillon in Valtournanche\nsabato 13 settembre 2025 VAL D’AOSTA – Auto – Gruppo Unico(EE)  – Hochlicht e il ghiacciao del Lys\nsabato 27 settembre 2025 LOMBARDIA – Pullman – Gruppo A(EE) – Gruppo B(E)  – Monte Alben\nsabato 11 ottobre 2025 PIEMONTE – Pullman – Gruppo A(E) – Gruppo B(E) – Laghi e Passo del Paione\nsabato 18 ottobre 2025  PIEMONTE – Pullman – Gruppo A(EE) – Gruppo B(E) sabato 18 ottobre 2025 – Sent.Glaciologico V.Sella e Ferrata Torrione Porro\nsabato 8 novembre 2025 Pullman – Gruppo Unico(T)  – Escursione sociale Culturale e Enogastronomica di fine stagione\nISCRIZIONI \ntelefonando a:02/36589745-3387979930 in sede il lunedì dalle 17\,30 alle 20 o il mercoledì dalle 17\,30 alle 22\, per email info@edelweisscai.it \nPer partecipare alle nostre iniziative è necessario essere soci G.S.A. Edelweiss+CAI o CAI. \n 
URL:https://www.edelweisscai.it/eventi/programma-escursionismo-2025/
CATEGORIES:Escursionismo
ATTACH;FMTTYPE=image/jpeg:https://www.edelweisscai.it/wp-content/uploads/2025/03/strada-52-gallerie-escursioni-valli-pasubio196.jpg
END:VEVENT
END:VCALENDAR