BEGIN:VCALENDAR
VERSION:2.0
PRODID:-//Edelweiss Cai Milano - ECPv6.15.18//NONSGML v1.0//EN
CALSCALE:GREGORIAN
METHOD:PUBLISH
X-ORIGINAL-URL:https://www.edelweisscai.it
X-WR-CALDESC:Eventi per Edelweiss Cai Milano
REFRESH-INTERVAL;VALUE=DURATION:PT1H
X-Robots-Tag:noindex
X-PUBLISHED-TTL:PT1H
BEGIN:VTIMEZONE
TZID:Europe/Rome
BEGIN:DAYLIGHT
TZOFFSETFROM:+0100
TZOFFSETTO:+0200
TZNAME:CEST
DTSTART:20240331T010000
END:DAYLIGHT
BEGIN:STANDARD
TZOFFSETFROM:+0200
TZOFFSETTO:+0100
TZNAME:CET
DTSTART:20241027T010000
END:STANDARD
BEGIN:DAYLIGHT
TZOFFSETFROM:+0100
TZOFFSETTO:+0200
TZNAME:CEST
DTSTART:20250330T010000
END:DAYLIGHT
BEGIN:STANDARD
TZOFFSETFROM:+0200
TZOFFSETTO:+0100
TZNAME:CET
DTSTART:20251026T010000
END:STANDARD
BEGIN:DAYLIGHT
TZOFFSETFROM:+0100
TZOFFSETTO:+0200
TZNAME:CEST
DTSTART:20260329T010000
END:DAYLIGHT
BEGIN:STANDARD
TZOFFSETFROM:+0200
TZOFFSETTO:+0100
TZNAME:CET
DTSTART:20261025T010000
END:STANDARD
END:VTIMEZONE
BEGIN:VEVENT
DTSTART;VALUE=DATE:20250502
DTEND;VALUE=DATE:20250504
DTSTAMP:20260425T223723
CREATED:20250323T114210Z
LAST-MODIFIED:20250430T185712Z
UID:5160-1746144000-1746316799@www.edelweisscai.it
SUMMARY:ESCURSIONISMO: weekend sulla Dorsale Lariana
DESCRIPTION:La Dorsale del Triangolo Lariano\nDa Como a Bellagio (CO) – Lombardia\nWeekend venerdì 02 – sabato 03 maggio 2025\n  \nSi tratta di un bellissimo percorso di due giorni che attraversa da sud a nord il cosiddetto “Triangolo Lariano”\, cioè il territorio compreso tra i due rami del Lago di Como e la fascia collinare meridionale tra Como e Lecco. \nIl punto di partenza del percorso è Como\, che raggiungeremo in treno da Milano. \nIl sentiero\, lungo 38 km\, si snoda lungo la dorsale ad un’altezza media di 1.200 metri\, quasi sempre su carrarecce\, strade agricole\, forestali sentieri privi di difficoltà tecniche. L’interesse panoramico è tuttavia eccezionale soprattutto perché sceglieremo di seguire la “Dorsale per Cresta” che sale alle vette presenti lungo il percorso\, quali il monte Palanzone (1436 m)\, il monte Bolettone (1310 m) e il monte San Primo (1685 m). Punto di sosta intermedio sarà il Rifugio Riella (1275 m). \nPunto di arrivo è Bellagio (CO) famoso per la sua pittoresca posizione proprio sulla ramificazione del Lago di Como nei suoi bracci meridionali\, con le Alpi visibili oltre il lago a nord. \n  \nDislivello totale in salita/discesa: Gruppo Unico \nGIORNO 1: 1300 m↑ 250 m↓ – quota massima 1318 m \nGIORNO 2: 900 m↑ 1900 m↓ – quota massima 1685 m \nDurata complessiva dell’escursione: \nGIORNO 1: 6h30 (escluse soste pranzo) – GIORNO 2: 8h (escluse soste pranzo) \nSviluppo lineare: GIORNO 1: 15 km – GIORNO 2: 23 km \nTipo di Percorso: Traversata \nDifficoltà: E (Escursionistico) \nEquipaggiamento base: scarponi\, guscio antipioggia o mantella\, pile bastoncini e borraccia\, sacco lenzuolo\, asciugamano\, ciabatte\, necessario per l’igiene personale\, pila frontale. Pranzo al sacco sia sabato che domenica \n  \nL’escursione verrà effettuata in TRENO \nOgni partecipante dovrà premunirsi in autonomia del biglietto di A/R del treno per la tratta Milano-Como \n  \nOrari e ritrovo per escursione:  \nOrari e ritrovo per escursione:  \nRitrovo alla stazione di Milano Centrale ore 7:30 al binario \nPartenza da Milano Centrale venerdì 2 maggio con treno Regio Express 25508 (diretto a Locarno) delle ore 7h43 per Como S. Giovanni con arrivo previsto alle ore 8h22 \nRientro da Como Lago con treno il sabato 3 maggio nel pomeriggio e arrivo a Milano Cadorna \nIl rientro da Bellagio a Como potrà essere effettuato con autobus di linea o in battello a seconda delle tempistiche e delle condizioni meteo. \nIl costo dei biglietti del treno Milano-Como al momento di pubblicazione della presente circolare è di euro 5.20 € a tratta. \nIl costo del biglietto del bus di linea Bellagio-Como al momento di pubblicazione della presente circolare è di euro 4.30 €.  \nIl costo del servizio battello Bellagio-Como è di 14\,80€ al momento di pubblicazione della presente circolare. \n  \nQuote di partecipazione: \n\nSoci EDELWEISS+CAI 105 €\nSoci CAI 125 €\n\nLa quota NON comprende il viaggio A/R in treno né il rientro in pullman o battello. \nSaldo entro 23 aprile 2025. \n  \nModalità d’iscrizione: \n\nPer e-mail: info@edelweisscai.it\nIn sede il lunedì dalle 17:30 alle 20:00 o il mercoledì dalle 17:30 alle 22:00\nTelefonando al 02 36589745 (negli orari di apertura o via WhatsApp)\n\nPagamenti: preferibili i pagamenti in sede\, possibili anche con POS\, oppure con BB utilizzando il seguente IBAN IT35X0503401693000000003707 inviando una copia della contabile a info@edelweisscai.it. \nRinunce: verrà applicato il regolamento gite in vigore visibile in sede o sul sito internet: https://www.edelweisscai.it/regolamenti/\nPer comunicazioni urgenti: cell. 3343934611. \nLa sottosezione Edelweiss declina ogni responsabilità per danni a persone o cose conseguenti a eventuali incidenti durante la gita\n  \nSCARICA PDF
URL:https://www.edelweisscai.it/eventi/escursionismo-weekend-sulla-dorsale-lariana/
CATEGORIES:Escursionismo
ATTACH;FMTTYPE=image/png:https://www.edelweisscai.it/wp-content/uploads/2025/03/DorsaleLariana.png
END:VEVENT
END:VCALENDAR