BEGIN:VCALENDAR
VERSION:2.0
PRODID:-//Edelweiss Cai Milano - ECPv6.15.18//NONSGML v1.0//EN
CALSCALE:GREGORIAN
METHOD:PUBLISH
X-WR-CALNAME:Edelweiss Cai Milano
X-ORIGINAL-URL:https://www.edelweisscai.it
X-WR-CALDESC:Eventi per Edelweiss Cai Milano
REFRESH-INTERVAL;VALUE=DURATION:PT1H
X-Robots-Tag:noindex
X-PUBLISHED-TTL:PT1H
BEGIN:VTIMEZONE
TZID:Europe/Rome
BEGIN:DAYLIGHT
TZOFFSETFROM:+0100
TZOFFSETTO:+0200
TZNAME:CEST
DTSTART:20240331T010000
END:DAYLIGHT
BEGIN:STANDARD
TZOFFSETFROM:+0200
TZOFFSETTO:+0100
TZNAME:CET
DTSTART:20241027T010000
END:STANDARD
BEGIN:DAYLIGHT
TZOFFSETFROM:+0100
TZOFFSETTO:+0200
TZNAME:CEST
DTSTART:20250330T010000
END:DAYLIGHT
BEGIN:STANDARD
TZOFFSETFROM:+0200
TZOFFSETTO:+0100
TZNAME:CET
DTSTART:20251026T010000
END:STANDARD
BEGIN:DAYLIGHT
TZOFFSETFROM:+0100
TZOFFSETTO:+0200
TZNAME:CEST
DTSTART:20260329T010000
END:DAYLIGHT
BEGIN:STANDARD
TZOFFSETFROM:+0200
TZOFFSETTO:+0100
TZNAME:CET
DTSTART:20261025T010000
END:STANDARD
END:VTIMEZONE
BEGIN:VEVENT
DTSTART;VALUE=DATE:20250308
DTEND;VALUE=DATE:20250309
DTSTAMP:20260426T000454
CREATED:20250209T110536Z
LAST-MODIFIED:20250221T142144Z
UID:4994-1741392000-1741478399@www.edelweisscai.it
SUMMARY:ALPE DEVERO: ciaspolata al monte Cazzola
DESCRIPTION:Monte Cazzola\nAlpi Lepontine – Valle Devero (VCO)\nSabato 8 marzo 2025\nIl percorso si svolge inizialmente su un ampio pianoro\, entra quindi un bel bosco e prosegue su pendii dolci\, per arrivare infine su un’ampia dorsale. \nDalla partenza degli impianti di risalita dell’Alpe Devero (1630 m) ci dirigiamo verso un boschetto seguendo il Rio di Buscagna\, attraversiamo un ponticello che ci immette nella fiabesca atmosfera di un incantevole bosco di faggi\, l’Alpe Devero. \nLa traccia abbandona il rio per condurci all’Alpe Misanco\, a quota 1907 m. \nDa lì si procede in direzione sud affrontando i bei pendii (qui il tratto ha una pendenza lievemente più accentuata) fino all’arrivo degli impianti di risalita. Si prosegue sul filo dell’ampia dorsale\, dove un ultimo tratto in salita ci conduce alla vetta. \nIl monte Cazzola (2230 m) è in posizione centrale nella conca dell’Alpe Devero e questo consente una panoramica a 360° su tutte le montagne circostanti. La discesa ripercorre lo stesso percorso di salita. \n  \nDislivello totale in salita/discesa: Gruppo Unico 700 m↑↓ \nDurata complessiva dell’escursione: Gruppo Unico 4h30 (escluso soste) \nEquipaggiamento base: abbigliamento e calzature invernali\, ghette\, racchette da neve\, bastoncini e borraccia. Consigliato thermos con bevanda calda. Colazione al sacco \nAttrezzatura aggiuntiva obbligatoriamente richiesta: ARTVA\, pala e sonda. \nCOMUNICARE IN SEGRETERIA\, ALL’ATTO DELL’ISCRIZIONE\, SE IN POSSESSO DI ARTVA\, PALA E SONDA E SE SI DISPONE DI AUTO. \nEventuale utilizzo di ARTVA\, pala e sonda versando un contributo di 10 € \n  \nL’escursione verrà effettuata con auto proprie \nOrario e punto di ritrovo suggerito per raggiungere il punto di partenza dell’escursione: \nPiazzale Lotto\, di fronte al Lido (MM1 – MM5 Lotto) ore 6.50. Partenza ore 7:00 \nLe spese di viaggio\, incluso il costo del parcheggio 5 € a vettura\, verranno suddivise tra i partecipanti. \nPunto di partenza dell’escursione: Parcheggio Silos Alpe Devero (VCO) \n  \nQuote di partecipazione: \nSoci EDELWEISS o EDELWEISS+CAI 8 € \nSoci CAI 10 € \nPossibilità di partecipazione ai soli soci EDELWEISS pagando un’extra di euro 12\,95 per assicurazione infortuni CAI e soccorso alpino valida solo per il giorno dell’uscita \n(ISCRIZIONI ENTRO IL MERCOLEDI’ PRECEDENTE L’ESCURSIONE) \n  \nModalità d’iscrizione: \n\nPer e-mail: info@edelweisscai.it\nIn sede il lunedì dalle 17:30 alle 20:00 o il mercoledì dalle 17:30 alle 22:00\nTelefonando al 02 36589745 (negli orari di apertura o via WhatsApp)\n\nPagamenti: preferibili i pagamenti in sede\, possibili anche con POS\, oppure con BB utilizzando il seguente IBAN IT35X0503401693000000003707 inviando una copia della contabile a info@edelweisscai.it. \nRinunce: verrà applicato il regolamento gite in vigore visibile in sede o sul sito internet https://www.edelweisscai.it/regolamenti/\nPer comunicazioni urgenti: cell. 3343934611. \nLa sottosezione Edelweiss declina ogni responsabilità per danni a persone o cose conseguenti a eventuali incidenti durante la gita\n\nscarica PDF
URL:https://www.edelweisscai.it/eventi/alpe-devero-ciaspolata-al-monte-cazzola/
CATEGORIES:Escursionismo,Racchette da neve
ATTACH;FMTTYPE=image/jpeg:https://www.edelweisscai.it/wp-content/uploads/2025/02/Alpe-Devero-Crampiolo-foto-di-Paolo-Pirocchi.jpg
END:VEVENT
END:VCALENDAR