BEGIN:VCALENDAR
VERSION:2.0
PRODID:-//Edelweiss Cai Milano - ECPv6.15.18//NONSGML v1.0//EN
CALSCALE:GREGORIAN
METHOD:PUBLISH
X-WR-CALNAME:Edelweiss Cai Milano
X-ORIGINAL-URL:https://www.edelweisscai.it
X-WR-CALDESC:Eventi per Edelweiss Cai Milano
REFRESH-INTERVAL;VALUE=DURATION:PT1H
X-Robots-Tag:noindex
X-PUBLISHED-TTL:PT1H
BEGIN:VTIMEZONE
TZID:Europe/Rome
BEGIN:DAYLIGHT
TZOFFSETFROM:+0100
TZOFFSETTO:+0200
TZNAME:CEST
DTSTART:20240331T010000
END:DAYLIGHT
BEGIN:STANDARD
TZOFFSETFROM:+0200
TZOFFSETTO:+0100
TZNAME:CET
DTSTART:20241027T010000
END:STANDARD
BEGIN:DAYLIGHT
TZOFFSETFROM:+0100
TZOFFSETTO:+0200
TZNAME:CEST
DTSTART:20250330T010000
END:DAYLIGHT
BEGIN:STANDARD
TZOFFSETFROM:+0200
TZOFFSETTO:+0100
TZNAME:CET
DTSTART:20251026T010000
END:STANDARD
BEGIN:DAYLIGHT
TZOFFSETFROM:+0100
TZOFFSETTO:+0200
TZNAME:CEST
DTSTART:20260329T010000
END:DAYLIGHT
BEGIN:STANDARD
TZOFFSETFROM:+0200
TZOFFSETTO:+0100
TZNAME:CET
DTSTART:20261025T010000
END:STANDARD
END:VTIMEZONE
BEGIN:VEVENT
DTSTART;VALUE=DATE:20250222
DTEND;VALUE=DATE:20250223
DTSTAMP:20260426T000453
CREATED:20250131T173030Z
LAST-MODIFIED:20250218T124845Z
UID:4944-1740182400-1740268799@www.edelweisscai.it
SUMMARY:VAL VIGEZZO: ciaspolata al monte Zicher
DESCRIPTION:Dove la Neve è Polverosa\nVal Vigezzo – Piemonte\n Sabato 22 FEBBRAIO 2025\nAndiamo a Domodossola (VCO) e da lì saliamo per la Val Vigezzo fino a Caraveggia\, famoso per i suoi innumerevoli camini in pietra che svettano sopra i tetti in beole delle case\, per risalire all’Alpe di Blitz e raggiungere il parcheggio al termine della strada (1217 m). Percorreremo la classica ciaspolata Vigezzina con salita per ampi pendii\, per godere un meraviglioso panorama del Vigezzo e le sue cime con il gruppo del Monte Rosa che fa da sfondo\, verso est-sud/est l’imponente parete del Gridone o Limidario\, e verso sud le cime della Val Grande: Monte Zeda\, Laurasca\, Pizzo Ragno. Raggiunto l’omonimo Oratorio di Blitz (m 1270) la salita affronta una rada faggeta a monte della chiesa salendo in direzione nord e rintracciando il sentiero estivo che conduce all’Alpe Pragrande (1457 m). Passato il gruppo di rustici\, si risale la dorsale ancora in direzione nord uscendo sui prati dell’Alpe Oro (1560 m). Al limitare del bosco\, quota di circa 1700 metri\, in ambiente ormai più aperto\, inizia il tratto con maggiore pendenza. Si lascia il sentiero estivo per salire direttamente in direzione Nord verso l’anticima dello Zicher (1967 m). In questo ottimo punto panoramico pranzeremo e osserveremo un tratto del Lago Maggiore. Per la discesa ripercorriamo a ritroso la traccia di salita fino alla chiesetta del Blitz incontriamo alcuni rifugi prima di raggiunger il parcheggio. \n  \nDislivello totale in salita/discesa: gruppo unico 700↑↓ m\, quota massima raggiunta 1967 m. \nDurata complessiva dell’escursione: 5 h (esclusa sosta pranzo). \nPercorso e difficoltà: percorso andata e ritorno con sviluppo di 7km circa. \nEquipaggiamento base: abbigliamento e calzature invernali\, ghette\, racchette da neve\, bastoncini e borraccia. Colazione al sacco. \nL’attrezzatura aggiuntiva obbligatoriamente richiesta è composta da: ARTVA\, pala e sonda. \nCOMUNICARE IN SEGRETERIA\, ALL’ATTO DELL’ISCRIZIONE\, SE IN POSSESSO DI ARTVA\, PALA E SONDA E SE SI DISPONE DI AUTO. \nEventuale utilizzo di ARTVA\, pala e sonda versando un contributo di 10 €. \n  \nL’escursione verrà effettuata con auto proprie \nPunto di ritrovo suggerito per raggiungere il punto di partenza dell’escursione  \nPiazzale Lotto\, di fronte al Lido (MM1 – MM5 Lotto) ore 6.50. Partenza ore 7:00 \nViaggio con auto proprie: Le spese di viaggio verranno suddivise tra i partecipanti \nPunto di partenza dell’escursione: Alpe Blitz (VCO) \n  \nQuota di partecipazione:  \nSoci EDELWEISS o EDELWEISS+CAI 8 € \nSoci CAI 10 € \nPossibilità di partecipazione ai soli soci EDELWEISS pagando un’extra di euro 12\,95 per assicurazione infortuni CAI e soccorso alpino valida solo per il giorno dell’uscita \n(ISCRIZIONI ENTRO IL MERCOLEDI’ PRECEDENTE L’ESCURSIONE) \n  \nModalità d’iscrizione:  \n\nPer e-mail: info@edelweisscai.it\nIn sede il lunedì dalle 17:30 alle 20:00 o il mercoledì dalle 17:30 alle 22:00\nTelefonando al 02 36589745 (negli orari di apertura o via WhatsApp)\nIscrizioni riservate unicamente ai soci CAI. Portare sempre con sé la tessera CAI\n\n  \nPagamenti: preferibili i pagamenti in sede\, possibili anche con POS\, oppure con BB utilizzando il seguente IBAN IT35X0503401693000000003707 inviando una copia della contabile a info@edelweisscai.it. \n  \nRinunce: verrà applicato il regolamento gite in vigore visibile in sede o sul sito internet https://www.edelweisscai.it/regolamenti/\nPer comunicazioni urgenti: cell. 3343934611. \nLa sottosezione Edelweiss declina ogni responsabilità per danni a persone o cose conseguenti a eventuali incidenti durante la gita. \nLa sottosezione Edelweiss declina ogni responsabilità per danni a persone o cose conseguenti a eventuali incidenti durante la gita.\nscarica pdf
URL:https://www.edelweisscai.it/eventi/val-vigezzo-ciaspolata-al-monte-zicher/
CATEGORIES:Escursionismo,Racchette da neve
ATTACH;FMTTYPE=image/jpeg:https://www.edelweisscai.it/wp-content/uploads/2025/01/ziccher-monte-da-blizz_444e.jpg
END:VEVENT
END:VCALENDAR