BEGIN:VCALENDAR
VERSION:2.0
PRODID:-//Edelweiss Cai Milano - ECPv6.15.18//NONSGML v1.0//EN
CALSCALE:GREGORIAN
METHOD:PUBLISH
X-WR-CALNAME:Edelweiss Cai Milano
X-ORIGINAL-URL:https://www.edelweisscai.it
X-WR-CALDESC:Eventi per Edelweiss Cai Milano
REFRESH-INTERVAL;VALUE=DURATION:PT1H
X-Robots-Tag:noindex
X-PUBLISHED-TTL:PT1H
BEGIN:VTIMEZONE
TZID:Europe/Rome
BEGIN:DAYLIGHT
TZOFFSETFROM:+0100
TZOFFSETTO:+0200
TZNAME:CEST
DTSTART:20250330T010000
END:DAYLIGHT
BEGIN:STANDARD
TZOFFSETFROM:+0200
TZOFFSETTO:+0100
TZNAME:CET
DTSTART:20251026T010000
END:STANDARD
BEGIN:DAYLIGHT
TZOFFSETFROM:+0100
TZOFFSETTO:+0200
TZNAME:CEST
DTSTART:20260329T010000
END:DAYLIGHT
BEGIN:STANDARD
TZOFFSETFROM:+0200
TZOFFSETTO:+0100
TZNAME:CET
DTSTART:20261025T010000
END:STANDARD
BEGIN:DAYLIGHT
TZOFFSETFROM:+0100
TZOFFSETTO:+0200
TZNAME:CEST
DTSTART:20270328T010000
END:DAYLIGHT
BEGIN:STANDARD
TZOFFSETFROM:+0200
TZOFFSETTO:+0100
TZNAME:CET
DTSTART:20271031T010000
END:STANDARD
END:VTIMEZONE
BEGIN:VEVENT
DTSTART;VALUE=DATE:20260307
DTEND;VALUE=DATE:20260308
DTSTAMP:20260424T120011
CREATED:20260221T101403Z
LAST-MODIFIED:20260307T163541Z
UID:6116-1772841600-1772927999@www.edelweisscai.it
SUMMARY:Escursionismo Invernale – GREENWAY LAGO DI COMO – Lombardia
DESCRIPTION:Greenway tra Lago e antichi Borghi\nLago di Como\, Lombardia\nSabato 7 marzo 2026\n  \nAvremo modo di passare una piacevole giornata tra caratteristici borghi e antichi campanili con la cornice delle immancabili montagne e degli scorci sul lago di Como. \nAndremo infatti alla scoperta della famosa Greenway\, immersa nello splendido paesaggio naturale della sponda occidentale del lago di Como. Attraverseremo i borghi di Colonno (CO)\, da cui partiremo su semplice percorso\, Sala Comacina\, Ossuccio\, Lenno\, Mezzegra\, Tremezzo e Griante\, ripercorrendo in parte l’antica Via Regina che collegava Como con Chiavenna. \nDa Tremezzo proseguiremo lungo l’antica via Regina su sentiero in salita verso il santuario della Madonna delle Grazie di San Martino situata su una terrazza sul fianco roccioso del monte e dalla quale si apre un altro panorama sul lago. Da qui scenderemo a Griante \nRitorno da Cadenabbia (CO) con bus Arriva C110 fino a Como S. Giovanni e poi nuovamente in treno per Milano. \n  \nDislivello totale in salita/discesa: Gruppo Unico 490m↑↓ – quota massima 474m \nDurata complessiva dell’escursione: 5h30 (esclusa sosta pranzo) \nSviluppo lineare: 15 km \nPercorso: Traversata \nDifficoltà: E (Escursionistico) \nEquipaggiamento base: scarponi\, giacca a vento o mantella\, pile bastoncini e borraccia. Pranzo al sacco. \n  \nL’escursione verrà effettuata in TRENO e BUS \nOgni partecipante dovrà premunirsi in autonomia del biglietto di A/R del treno \nTreno Trenord Regio Express 25508 per Locarno\, da stazione Milano Centrale partenza 7:43 con arrivo a Como San Giovanni ore 8:23 – Ritrovo al binario ore 7:20 \nA seguire bus Arriva C110 da Como San Giovanni a Colonno (CO). \nIl costo dei biglietti del treno al momento di pubblicazione della presente circolare è di euro 5.20 € a tratta. \nIl costo dei biglietti del bus al momento di pubblicazione della presente circolare è di euro 4 € all’andata e 4.30 € al ritorno. Portare i soldi contati per il biglietto del bus. \n  \nQuote di partecipazione: \n\nSoci EDELWEISS o EDELWEISS+CAI 8 €\nSoci CAI 10 €\n\nLa quota NON comprende il viaggio in treno e bus. \n  \nPossibilità di partecipazioni ai soli soci EDELWEISS non soci CAI pagando un’extra di euro 12\,95 per assicurazione infortuni CAI e soccorso alpino valida solo per il giorno dell’uscita. \n La quota NON comprende il viaggio in treno. \n  \nModalità d’iscrizione: \n\nPer e-mail: info@edelweisscai.it\nIn sede il lunedì dalle 17:00 alle 20:00 o il mercoledì dalle 17:00 alle 21:30\nTelefonando al 02 36589745 (negli orari di apertura o via WhatsApp)\n\nPagamenti: preferibili i pagamenti in sede\, possibili anche con POS\, oppure con BB utilizzando il seguente IBAN IT35X0503401693000000003707 conto intestato a G.S.A. EDELWEISS A.P.S. SOTTOSEZIONE CAI MI inviando una copia della contabile a info@edelweisscai.it. \nRinunce: verrà applicato il regolamento gite in vigore visibile in sede o sul sito internet: https://www.edelweisscai.it/regolamenti/\nPer comunicazioni urgenti: cell. 3343934611. \nLa sottosezione Edelweiss declina ogni responsabilità per danni a persone o cose conseguenti a eventuali incidenti durante la gita \n  \nSCARICA PDF
URL:https://www.edelweisscai.it/eventi/escursionismo-invernale-greenway-lago-di-como-lombardia/
CATEGORIES:Escursionismo
ATTACH;FMTTYPE=image/jpeg:https://www.edelweisscai.it/wp-content/uploads/2026/02/greenway-lake-como.jpg
END:VEVENT
BEGIN:VEVENT
DTSTART;VALUE=DATE:20260314
DTEND;VALUE=DATE:20260315
DTSTAMP:20260424T120011
CREATED:20260212T220023Z
LAST-MODIFIED:20260310T223637Z
UID:6100-1773446400-1773532799@www.edelweisscai.it
SUMMARY:Ciaspole - RIFUGIO GRAN TOURNALIN - Val'Aosta
DESCRIPTION:Verso il Rif. Gran Tournalin \nper l’Alpe di Nana \nVal d’Ayas (AO)\nSabato 14 marzo 2026\n  \nEscursione invernale in uno dei luoghi affascinanti della valle d’Aosta. Si va in Val d’Ayas partendo da St.Jacques des Allemands (1687m) ultima meta abitata della valle. Dal centro abitato si attraversa un ponte per raggiungere la località di Rovinal dove inizieremo la nostra escursione per  immergerci in un bosco di larici lungo un sentiero che taglia una strada sterrata proseguendo fino all’Alpe di Nana Inferiore (1983m). Di qui si prosegue un po’ al di sotto del percorso estivo e si risale all’Alpe del Tournalin Inferiore (2194m) in campo aperto al cospetto delle cime della Valle. Raggiunta l’Alpe del Tournalin Inferiore i più volenterosi\, se le condizioni lo consentono\, potranno raggiungere il Rifugio Gran Tournalin (2600m) chiuso in questa parte della stagione. Il rientro avverrà per il medesimo itinerario. \n. \n  \nDislivello totale in salita/discesa: Gruppo A 865m↑↓ Gruppo B 505m↑↓ \nQuota massima Gruppo A 2600m – Gruppo B 2194m \nDurata complessiva dell’escursione: Gruppo A 6h30 – Gruppo B 5h (esclusa sosta pranzo) \nSviluppo: Gruppo A 12\,5km – Gruppo B 12\,5km \nEquipaggiamento base: abbigliamento e calzature invernali\, ghette\, racchette da neve\, bastoncini e borraccia. Consigliato thermos con bevanda calda. Pranzo al sacco. \nAttrezzatura aggiuntiva obbligatoriamente richiesta: ARTVA\, pala e sonda. \nCOMUNICARE IN SEGRETERIA\, ALL’ATTO DELL’ISCRIZIONE\, SE IN POSSESSO DI ARTVA\, PALA E SONDA E SE SI DISPONE DI AUTO. \nEventuale utilizzo di ARTVA\, pala e sonda versando un contributo di 10 € \n  \nL’escursione verrà effettuata con auto proprie \nOrario e punto di ritrovo suggerito per raggiungere il punto di partenza dell’escursione: \nPiazzale Lotto\, di fronte al Lido (MM1 – MM5 Lotto) ore 6.50. Partenza ore 7:00 \nViaggio con auto proprie: Le spese di viaggio verranno suddivise tra i partecipanti\, esclusi gli autisti delle auto \nPunto di partenza dell’escursione: St.Jacques des Allemands (AO) Località Rovinal h 10:00 \n  \nQuote di partecipazione: \n\nSoci EDELWEISS o EDELWEISS+CAI 8 €\nSoci CAI 10 €\n\n(ISCRIZIONI ENTRO IL MERCOLEDI’ PRECEDENTE L’ESCURSIONE) \n  \nPossibilità di partecipazione ai soli soci EDELWEISS pagando un’extra di euro 12\,95 per assicurazione infortuni CAI e soccorso alpino valida solo per il giorno dell’uscita \n  \nModalità d’iscrizione: \n\nPer e-mail: info@edelweisscai.it\nIn sede il lunedì dalle 17:30 alle 20:00 o il mercoledì dalle 17:00 alle 21:30\nTelefonando al 02 36589745 (negli orari di apertura o via WhatsApp)\n\nPagamenti: preferibili i pagamenti in sede\, possibili anche con POS\, oppure con BB utilizzando il seguente IBAN IT35X0503401693000000003707 conto intestato a G.S.A. EDELWEISS A.P.S. SOTTO SEZIONE CAI MI inviando una copia della contabile a info@edelweisscai.it.Rinunce: verrà applicato il regolamento gite in vigore visibile in sede o sul sito internet https://www.edelweisscai.it/regolamenti/\nPer comunicazioni urgenti: cell. 3343934611. \nLa sottosezione Edelweiss declina ogni responsabilità per danni a persone o cose conseguenti a eventuali incidenti durante la gita \nSCARICA PDF
URL:https://www.edelweisscai.it/eventi/ciaspole-rifugio-gran-tournalin-valaosta/
CATEGORIES:Escursionismo,Evidenza Home,Racchette da neve
ATTACH;FMTTYPE=image/jpeg:https://www.edelweisscai.it/wp-content/uploads/2026/02/20260307_AlpeNanaInferiore-scaled.jpg
END:VEVENT
BEGIN:VEVENT
DTSTART;TZID=Europe/Rome:20260319T204500
DTEND;TZID=Europe/Rome:20260319T220000
DTSTAMP:20260424T120011
CREATED:20260307T163012Z
LAST-MODIFIED:20260307T164407Z
UID:6166-1773953100-1773957600@www.edelweisscai.it
SUMMARY:PRESENTAZIONE PROGRAMMI CICLOESCURSIONISMO ED ESCURSIONISMO 2026
DESCRIPTION:  \nGIOVEDI’ 19 marzo 2026\nore 20\,45\npresso la sede EDELWEISS – Viale Umbria 126\nVi aspettiamo!\nA chiusura della serata\, piccolo rinfresco pasquale!!\n 
URL:https://www.edelweisscai.it/eventi/presentazione-programmi-cicloescursionismo-ed-escursionismo-206/
CATEGORIES:Cicloescursionismo,Escursionismo,Evidenza Home
ATTACH;FMTTYPE=image/jpeg:https://www.edelweisscai.it/wp-content/uploads/2026/03/Immagine-2026-03-07-172458.jpg
END:VEVENT
BEGIN:VEVENT
DTSTART;VALUE=DATE:20260328
DTEND;VALUE=DATE:20260329
DTSTAMP:20260424T120011
CREATED:20260304T191816Z
LAST-MODIFIED:20260327T140044Z
UID:6153-1774656000-1774742399@www.edelweisscai.it
SUMMARY:Escursionismo Invernale – SASSO MALASCARPA – Lombardia
DESCRIPTION:I Fossili del Sasso Malascarpa\nPrealpi Lombarde\nSabato 28 Marzo 2026\n  \nIl percorso escursionistico collega Valmadrera (LC) (237m) a San Tomaso e al Sasso Malascarpa nella direzione del monte Rai attraverso la riserva naturale che porta lo stesso nome della nostra meta. \nSiamo nel cuore delle Prealpi Lombarde. e saliremo in una zona di massi erratici abbandonati qui dopo la glaciazione dai ghiacci della Valtellina. Oggi però andremo a cercare i “fossili del cuore” di questa zona che giacevano sul fondo del mare immersi tra i coralli dell’oceano Tetide prima di essere sollevati fino a queste quote. \nIl sentiero sale dalla frazione Belvedere di Valmadrera per una dolce mulattiera che porta agli agriturismi della zona attraversata da un ripido sentiero storico. Arrivati al torrente Inferno dove potremmo osservare delle formazioni di travertino prima di giungere alla spianata di San Tomaso (580m). Ammirato il panorama imboccheremo il sentiero 1 verso il monte Rai attraversando prima castagni e poi faggi solcando le formazioni calcaree deformate dalle spinte tettoniche e dalle erosioni delle acque. Al termine del bosco ammiriamo le deformazioni delle rocce fino a giungere in cresta dove abbandoniamo il sentiero del monte Rai (1260m) per ammirare i nostri fossili lungo la cresta del Sasso Malascarpa (1200m). Di qui dopo una breve sosta per il pranzo proseguiamo verso e scendiamo verso la Colma di Val Ravella (1000m) al grande faggio\, detto il Foo\, dove troveremo una fonte prima di rientrare a S.Tomaso e all’abitato di Valmadrera ed alla stazione per il viaggio di rientro in treno. \n  \nDislivello totale in salita/discesa: Gruppo Unico 1061m↑↓ – quota massima 1261m \nDurata complessiva dell’escursione: 6h (esclusa sosta pranzo) \nSviluppo lineare: 14.5 km \nPercorso: Anello \nDifficoltà: E (Escursionistico) \nEquipaggiamento base: scarponi\, giacca a vento o mantella\, pile bastoncini e borraccia. Pranzo al sacco. \n  \nL’escursione verrà effettuata in TRENO \nOgni partecipante dovrà premunirsi in autonomia del biglietto di A/R del treno \n  \nOrari e ritrovo per escursione: ritrovo a Milano Centrale ore 7:10 al binario \nPartenza da Milano con treno RE 2814 delle ore 7:20 per Tirano con arrivo alle ore 7:59 a Lecco – poi cambio con S2473 per Milano ed arrivo a Valmadrera(LC) alle 8:12  \n  \nRientro da Valmadrera con treno nel pomeriggio (vi è un treno ogni ora). \nIl costo dei biglietti del treno al momento di pubblicazione della presente circolare è di euro 6.10 € a tratta \n  \nPer chi ci vuol raggiungerci in auto: l’appuntamento è alla stazione di  Valmadrera (Lc) ore 8:15 \n  \nQuote di partecipazione: \n\nSoci EDELWEISS o EDELWEISS+CAI 8€\nSoci CAI 10 €\n\nPossibilità di partecipazioni ai soli soci EDELWEISS non soci CAI pagando un’extra di euro 12\,95 per assicurazione infortuni CAI e soccorso alpino valida solo per il giorno dell’uscita. \nLa quota NON comprende il viaggio in treno. \n  \nModalità d’iscrizione: \n\nPer e-mail: info@edelweisscai.it\nIn sede il lunedì dalle 17:00 alle 20:00 o il mercoledì dalle 17:00 alle 21:30\nTelefonando al 02 36589745 (negli orari di apertura o via WhatsApp)\n\nPagamenti: preferibili i pagamenti in sede\, possibili anche con POS\, oppure con BB utilizzando il seguente IBAN IT35X0503401693000000003707 conto intestato a G.S.A. EDELWEISS A.P.S. SOTTOSEZIONE CAI MI inviando una copia della contabile a info@edelweisscai.it.Rinunce: verrà applicato il regolamento gite in vigore visibile in sede o sul sito internet: https://www.edelweisscai.it/regolamenti/\nPer comunicazioni urgenti: cell. 3343934611. \nLa sottosezione Edelweiss declina ogni responsabilità per danni a persone o cose conseguenti a eventuali incidenti durante la gita \nSCARICA PDF
URL:https://www.edelweisscai.it/eventi/escursionismo-invernale-sasso-malascarpa-lombardia/
CATEGORIES:Escursionismo
ATTACH;FMTTYPE=image/jpeg:https://www.edelweisscai.it/wp-content/uploads/2026/03/Sasso.Malascarpa-800.jpg
END:VEVENT
END:VCALENDAR