BEGIN:VCALENDAR
VERSION:2.0
PRODID:-//Edelweiss Cai Milano - ECPv6.15.18//NONSGML v1.0//EN
CALSCALE:GREGORIAN
METHOD:PUBLISH
X-WR-CALNAME:Edelweiss Cai Milano
X-ORIGINAL-URL:https://www.edelweisscai.it
X-WR-CALDESC:Eventi per Edelweiss Cai Milano
REFRESH-INTERVAL;VALUE=DURATION:PT1H
X-Robots-Tag:noindex
X-PUBLISHED-TTL:PT1H
BEGIN:VTIMEZONE
TZID:Europe/Rome
BEGIN:DAYLIGHT
TZOFFSETFROM:+0100
TZOFFSETTO:+0200
TZNAME:CEST
DTSTART:20250330T010000
END:DAYLIGHT
BEGIN:STANDARD
TZOFFSETFROM:+0200
TZOFFSETTO:+0100
TZNAME:CET
DTSTART:20251026T010000
END:STANDARD
BEGIN:DAYLIGHT
TZOFFSETFROM:+0100
TZOFFSETTO:+0200
TZNAME:CEST
DTSTART:20260329T010000
END:DAYLIGHT
BEGIN:STANDARD
TZOFFSETFROM:+0200
TZOFFSETTO:+0100
TZNAME:CET
DTSTART:20261025T010000
END:STANDARD
BEGIN:DAYLIGHT
TZOFFSETFROM:+0100
TZOFFSETTO:+0200
TZNAME:CEST
DTSTART:20270328T010000
END:DAYLIGHT
BEGIN:STANDARD
TZOFFSETFROM:+0200
TZOFFSETTO:+0100
TZNAME:CET
DTSTART:20271031T010000
END:STANDARD
END:VTIMEZONE
BEGIN:VEVENT
DTSTART;VALUE=DATE:20260207
DTEND;VALUE=DATE:20260208
DTSTAMP:20260424T133728
CREATED:20260103T073024Z
LAST-MODIFIED:20260206T234212Z
UID:5883-1770422400-1770508799@www.edelweisscai.it
SUMMARY:Escursionismo Invernale - ALPE CETRA - Grigne
DESCRIPTION:ALPE CETRA\nGruppo delle Grigne – Mandello Lario (LC) \nSabato 7 febbraio 2025\n2026 Anno Internazionale dei Pascoli e dei Pastori\nIl percorso escursionistico che collega Mandello all’Alpe Cetra attraversa il versante occidentale delle Grigne\, nel cuore delle Prealpi Lombarde\, offrendo un esempio autentico della tradizione dell’alpeggio lariano\, basata sull’equilibrio tra fondovalle\, maggenghi e pascoli d’alta quota. \nL’escursione parte dalla stazione ferroviaria di Mandello (214m)\, prosegue attraverso stradine secondarie fino alla pittoresca frazione di Somana (350m). \nOra con sentiero 15 giungiamo alla chiesa di Santa Maria (664m)\, in posizione molto panoramica sul lago di Lecco. Sovrastati dalla Grigna\, si risale quindi\, con alcuni saliscendi\, fino all’Alpe Era (832m)\, un insieme di baite storiche in una conca verde e soleggiata\, per proseguire poi fino all’Alpe Cetra (1093m)\, tipico alpeggio prealpino caratterizzato da edifici in pietra utilizzati storicamente per la monticazione estiva del bestiame.  \nIl ritorno avviene per la stessa strada. \nQuesti sentieri hanno inoltre un profondo valore storico legato alla Resistenza partigiana.  \nInfatti\, l’Alpe Era ospitò il distaccamento del Battaglione Moncodeno della brigata “Cacciatori delle Grigne. \nDislivello totale in salita/discesa: Gruppo Unico 950m↑↓ – quota massima 1050m \nDurata complessiva dell’escursione: 7h (esclusa sosta pranzo) \nSviluppo lineare: 15.5 km \nPercorso: Andata e Ritorno \nDifficoltà: E (Escursionistico) \nEquipaggiamento base: scarponi\, giacca a vento o mantella\, pile bastoncini e borraccia. Pranzo al sacco. \nAltamente accomandate bacchette e scarponcini alti dato l’ultimo tratto scivoloso e con possibile presenza di chiazze di neve. \nL’escursione verrà effettuata in TRENO \nOgni partecipante dovrà premunirsi in autonomia del biglietto di A/R del treno \n  \nOrari e ritrovo per escursione: ritrovo a Milano Centrale ore 7:10 al binario \nPartenza da Milano Centrale con treno RE 94024 delle ore 7:20 per Tirano con arrivo alle ore 8:14 a Mandello \nRientro da Mandello con treno nel pomeriggio (vi è un treno ogni mezz’ora). \nIl costo dei biglietti del treno al momento di pubblicazione della presente circolare è di euro 6.10 € a tratta \n  \nQuote di partecipazione: \n\nSoci EDELWEISS o EDELWEISS+CAI8 €\nSoci CAI10 €\n\n  \nPossibilità di partecipazioni ai soli soci EDELWEISS non soci CAI pagando un’extra di euro 12\,95 per assicurazione infortuni CAI e soccorso alpino valida solo per il giorno dell’uscita. \n  \nLa quota NON comprende il viaggio in treno. \n  \nModalità d’iscrizione: \n\nPer e-mail: info@edelweisscai.it\nIn sede il lunedì dalle 17:00 alle 20:00 o il mercoledì dalle 17:00 alle 21:30\nTelefonando al 02 36589745 (negli orari di apertura o via WhatsApp)\n\nPagamenti: preferibili i pagamenti in sede\, possibili anche con POS\, oppure con BB utilizzando il seguente IBAN IT35X0503401693000000003707 conto intestato a G.S.A. EDELWEISS A.P.S. SOTTOSEZIONE CAI MI inviando una copia della contabile a info@edelweisscai.it. \nRinunce: verrà applicato il regolamento gite in vigore visibile in sede o sul sito internet: https://www.edelweisscai.it/regolamenti/\nPer comunicazioni urgenti: cell. 3343934611. \nLa sottosezione Edelweiss declina ogni responsabilità per danni a persone o cose conseguenti a eventuali incidenti durante la gita \n  \nscarica PDF
URL:https://www.edelweisscai.it/eventi/escursionismo-invernale-alpe-cetra-grigne/
CATEGORIES:Escursionismo
ATTACH;FMTTYPE=image/webp:https://www.edelweisscai.it/wp-content/uploads/2026/01/AlpeCetra.webp
END:VEVENT
BEGIN:VEVENT
DTSTART;VALUE=DATE:20260221
DTEND;VALUE=DATE:20260222
DTSTAMP:20260424T133728
CREATED:20260208T190643Z
LAST-MODIFIED:20260212T125021Z
UID:6062-1771632000-1771718399@www.edelweisscai.it
SUMMARY:Escursionismo Invernale - SAN FRUTTUOSO - Liguria
DESCRIPTION:SAN FRUTTUOSO\nParco Naturale di Portofino – Levante Ligure \nSabato 21 febbraio 2025\n  \nIl percorso ha inizio dalla località di San Rocco (221m)\, che si raggiunge in circa 45 minuti dalla stazione di Camogli (GE). Dal piazzale di San Rocco la vista spazia sul Golfo Paradiso e sulla costa tra Camogli e Genova. Da qui ci si dirige verso Punta Chiappa per poi deviare con una salita decisa per guadagnare la Sella Toca (451m)\, situata sul contrafforte che scende dal Monte di Portofino verso l’estremità sud-occidentale del promontorio. Il sentiero prosegue ancora in piano\, immerso nella vegetazione\, fino al crocevia delle Pietre Strette (464m). Subito prima di giungere alle Pietre Strette\, si imbocca a destra l’antica mulattiera per San Fruttuoso. La mulattiera porta infine sulla spalla dove sorge la cinquecentesca Torre Doria. Scendendo a destra\, in breve si raggiunge l’abbazia di San Fruttuoso. Il rientro avverrà per la stessa strada. \n  \nDislivello totale in salita/discesa: Gruppo Unico 1125m↑↓ – quota massima 486mm \nDurata complessiva dell’escursione: 7h (esclusa sosta pranzo) \nSviluppo lineare: 14.5 km \nPercorso: Andata e Ritorno \nDifficoltà: E (Escursionistico) \nEquipaggiamento base: scarponi\, giacca a vento o mantella\, pile bastoncini e borraccia. Pranzo al sacco. \n  \nL’escursione verrà effettuata in TRENO \nOgni partecipante dovrà premunirsi in autonomia del biglietto di A/R del treno \n  \nOrari e ritrovo per escursione: ritrovo a Milano Rogoredo ore 7:50 al binario \nPartenza: da Milano Rogoredo con treno 3063 delle ore 8:05 per Sestri Levante con arrivo alle ore 10:45 a Camogli San Fruttuoso. \nRientro: da Camogli San Fruttuoso con treno nel pomeriggio\, con cambio a Genova Principe. \nIl costo dei biglietti del treno al momento di pubblicazione della presente circolare è di euro 15.10 € per tratta. \n  \nQuote di partecipazione: \n\nSoci EDELWEISS o EDELWEISS+CAI 8 €\nSoci CAI 10 €\n\n  \nPossibilità di partecipazioni ai soli soci EDELWEISS non soci CAI pagando un’extra di euro 12\,95 per assicurazione infortuni CAI e soccorso alpino valida solo per il giorno dell’uscita. \n  \nLa quota NON comprende il viaggio in treno. \n  \nModalità d’iscrizione: \n\nPer e-mail: info@edelweisscai.it\nIn sede il lunedì dalle 17:00 alle 20:00 o il mercoledì dalle 17:00 alle 21:30\nTelefonando al 02 36589745 (negli orari di apertura o via WhatsApp)\n\nPagamenti: preferibili i pagamenti in sede\, possibili anche con POS\, oppure con BB utilizzando il seguente IBAN IT35X0503401693000000003707 conto intestato a G.S.A. EDELWEISS A.P.S. SOTTOSEZIONE CAI MI inviando una copia della contabile a info@edelweisscai.it. \nRinunce: verrà applicato il regolamento gite in vigore visibile in sede o sul sito internet: https://www.edelweisscai.it/regolamenti/\nPer comunicazioni urgenti: cell. 3343934611. \nLa sottosezione Edelweiss declina ogni responsabilità̀ per danni a persone o cose conseguenti a eventuali incidenti durante la gita \n  \nSCARICA PDF
URL:https://www.edelweisscai.it/eventi/6062/
CATEGORIES:Escursionismo,Evidenza Home
ATTACH;FMTTYPE=image/jpeg:https://www.edelweisscai.it/wp-content/uploads/2026/02/Il_Parco_Portofino1_d0_d0.jpg
END:VEVENT
BEGIN:VEVENT
DTSTART;VALUE=DATE:20260228
DTEND;VALUE=DATE:20260301
DTSTAMP:20260424T133728
CREATED:20260131T180027Z
LAST-MODIFIED:20260204T224845Z
UID:6021-1772236800-1772323199@www.edelweisscai.it
SUMMARY:Ciaspole - PUNTA LERETTA - Val d'Aosta
DESCRIPTION:CIASPOLE – PUNTA LERETTA \nValle del Lys – Val d’Aosta\nSabato 28 febbraio 2026\nItinerario panoramico nella Riserva Naturale del Monte Mars\, che ci porterà alla cima est della Leretta\, sul confine tra Valle d’Aosta e Piemonte\, in vista del Monviso e del Cervino. \nDal parcheggio di Pian Coumarial (AO) (1440m) si segue la strada a bordo della pista di fondo (percorso verde). In breve\, si perviene a un evidente bivio: si svolta a destra in direzione sud. \nSi continua sulla strada\, superando le baite Vercosa; proseguendo si incontra un bivio: itinerario verde a sinistra e rosso a destra; si segue quest’ultimo fino all’Alpe Leretta. \nQui si abbandona la strada e si prende la buona traccia a sinistra sul costone della Leretta. La traccia si fa ripida nel bosco fino ad uscire su un traverso da cui si scorge la vetta. Si passa nei pressi di un affioramento roccioso (questa è la vera Punta Leretta 1997m). Si prosegue sul lato ovest con qualche saliscendi e con un ultimo strappo ripido si raggiunge la più evidente quota 2050m (vetta tradizionale). \nProseguendo sempre sulla cresta in direzione del monte Mars con una brevissima discesa si raggiunge il Pian Dou Juc (baita); qui si devia sul versante nord scendendo verso le baite del Crest\, che non si raggiungono\, ma con percorso non obbligato (direzione nord-est) si scende fino a incrociare una sterrata. \nSi piega a sinistra sulla sterrata e si incontra dopo poco l’itinerario verde che conduce alle baite Creus. Proseguendo la discesa in una bella pineta si raggiunge nuovamente Pian Coumarial. \nDislivello totale in salita/discesa: Gruppo Unico 610m↑↓ \nQuota massima 2050m \nTipologia: Anello \nDurata complessiva dell’escursione: 5h30 (esclusa sosta pranzo) \nEquipaggiamento base: abbigliamento e calzature invernali\, ghette\, racchette da neve\, bastoncini e borraccia. Consigliato thermos con bevanda calda. Pranzo al sacco. \n  \nAttrezzatura aggiuntiva obbligatoriamente richiesta: ARTVA\, pala e sonda. \n  \nCOMUNICARE IN SEGRETERIA\, ALL’ATTO DELL’ISCRIZIONE\, SE IN POSSESSO DI ARTVA\, PALA E SONDA E SE SI DISPONE DI AUTO (e quanti posto oltre l’autista). \nEventuale utilizzo di ARTVA\, pala e sonda versando un contributo di 10 € \n  \nL’escursione verrà effettuata con auto proprie \nOrario e punto di ritrovo suggerito per raggiungere il punto di partenza dell’escursione: \nPiazzale Lotto (ex-Lido) ore 6.50. Partenza ore 7:00 \nViaggio con auto proprie: Le spese di viaggio verranno suddivise tra i partecipanti \nPunto di partenza dell’escursione: Pian Coumarial (AO) bar Ristoro ore 9.20 \nQuote di partecipazione: \n\nSoci EDELWEISS o EDELWEISS+CAI 8 €\nSoci CAI 10 €\n\n(ISCRIZIONI ENTRO IL MERCOLEDì PRECEDENTE L’ESCURSIONE) \n  \nPossibilità di partecipazione ai soli soci EDELWEISS pagando un’extra di euro 12\,95 per assicurazione infortuni CAI e soccorso alpino valida solo per il giorno dell’uscita \n  \nModalità d’iscrizione: \n\nPer e-mail: info@edelweisscai.it\nIn sede il lunedì dalle 17:30 alle 20:00 o il mercoledì dalle 17:00 alle 21:30\nTelefonando al 02 36589745 (negli orari di apertura o via WhatsApp)\n\nPagamenti: preferibili i pagamenti in sede\, possibili anche con POS\, oppure con BB utilizzando il seguente IBAN IT35X0503401693000000003707 conto intestato a G.S.A. EDELWEISS A.P.S. SOTTO SEZIONE CAI MI inviando una copia della contabile a info@edelweisscai.it. \nRinunce: verrà applicato il regolamento gite in vigore visibile in sede o sul sito internet https://www.edelweisscai.it/regolamenti/\nPer comunicazioni urgenti: cell. 3343934611. \nLa sottosezione Edelweiss declina ogni responsabilità̀ per danni a persone o cose conseguenti a eventuali incidenti durante la gita. \nSCARICA PDF
URL:https://www.edelweisscai.it/eventi/ciaspole-punta-leretta-alpi-biellesi/
CATEGORIES:Escursionismo,Racchette da neve
ATTACH;FMTTYPE=image/jpeg:https://www.edelweisscai.it/wp-content/uploads/2026/01/PuntaLeretta.jpg
END:VEVENT
END:VCALENDAR