BEGIN:VCALENDAR
VERSION:2.0
PRODID:-//Edelweiss Cai Milano - ECPv6.15.18//NONSGML v1.0//EN
CALSCALE:GREGORIAN
METHOD:PUBLISH
X-WR-CALNAME:Edelweiss Cai Milano
X-ORIGINAL-URL:https://www.edelweisscai.it
X-WR-CALDESC:Eventi per Edelweiss Cai Milano
REFRESH-INTERVAL;VALUE=DURATION:PT1H
X-Robots-Tag:noindex
X-PUBLISHED-TTL:PT1H
BEGIN:VTIMEZONE
TZID:Europe/Rome
BEGIN:DAYLIGHT
TZOFFSETFROM:+0100
TZOFFSETTO:+0200
TZNAME:CEST
DTSTART:20240331T010000
END:DAYLIGHT
BEGIN:STANDARD
TZOFFSETFROM:+0200
TZOFFSETTO:+0100
TZNAME:CET
DTSTART:20241027T010000
END:STANDARD
BEGIN:DAYLIGHT
TZOFFSETFROM:+0100
TZOFFSETTO:+0200
TZNAME:CEST
DTSTART:20250330T010000
END:DAYLIGHT
BEGIN:STANDARD
TZOFFSETFROM:+0200
TZOFFSETTO:+0100
TZNAME:CET
DTSTART:20251026T010000
END:STANDARD
BEGIN:DAYLIGHT
TZOFFSETFROM:+0100
TZOFFSETTO:+0200
TZNAME:CEST
DTSTART:20260329T010000
END:DAYLIGHT
BEGIN:STANDARD
TZOFFSETFROM:+0200
TZOFFSETTO:+0100
TZNAME:CET
DTSTART:20261025T010000
END:STANDARD
END:VTIMEZONE
BEGIN:VEVENT
DTSTART;VALUE=DATE:20251115
DTEND;VALUE=DATE:20251116
DTSTAMP:20260424T182103
CREATED:20251103T203902Z
LAST-MODIFIED:20251104T051614Z
UID:5679-1763164800-1763251199@www.edelweisscai.it
SUMMARY:ESCURSIONISMO: uscita sociale culturale di fine anno - Val Curone
DESCRIPTION:Volpedo e il Quarto Stato\nVolpedo – Val Curone – Alessandria\nSabato 15 novembre 2025\n  \nIn concomitanza\, dopo oltre un secolo\, con la prima mostra monografica a Milano su Pelizza da Volpedo alla GAM (https://www.gam-milano.com/mostre/200/pellizza-da-volpedo-i-capolavori) riproponiamo  un percorso dedicato all’artista del celebre Quarto Stato in uno dei Borghi più belli d’Italia\, cioè Volpedo nei pressi di Tortona (AL) (https://borghipiubelliditalia.it/borgo/volpedo/). \nLa mattina percorreremo un percorso lungo gli ambienti agresti che ispirarono il poeta percorrendo il sentiero 150 dove sono stati collocati diversi pannelli illustrativi che riportano riproduzioni di alcune opere dell’artista\, collocate nei punti esatti dove furono realizzate. \nFaremo poi una sosta pranzo presso il ristorante “le Vinaie” nella vicina fazione di Monleale con un pasto a base di piatti e vino locale. \nNel pomeriggio visiteremo\, accompagnati dai volontari locali\, lo studio del pittore fatto costruire da Pellizza nel 1888\, dopo aver deciso di vivere e operare nel paese natale\, pur restando in contatto con le grandi correnti artistiche internazionali\, la pieve romanica di San Pietro del X secolo e il borgo stesso ove dieci opere sono collocate in punti selezionati\, a diretto confronto con gli scorci di paesaggio che le hanno ispirate. \n  \nDislivello totale in salita/discesa: Gruppo Unico 150 m↑↓ – quota massima 320 m \nDurata complessiva dell’escursione: 2h (esclusa soste) \nSviluppo lineare: 6 km \nTipo di percorso: anello \nDifficoltà: E (Escursionistico) \nEquipaggiamento base: scarponi\, giacca a vento o mantella\, pile\, bastoncini e borraccia. \nPranzo al ristorante “Le Vinaie”: menu fisso antipasto/bis di primi/dolce/caffe e vino a 30€. \nPer la visita guidata nel pomeriggio si chiede un contributo volontario. \nL’escursione verrà effettuata con pullman al raggiungimento di un numero minimo di iscritti. \nGli iscritti saranno aggiornati dell’eventuale non raggiungimento del numero minimo entro il giovedì precedente l’escursione. \n Orari per escursione: \nFERMATA LOTTO ore 6:50 in P.le Lotto davanti al Lido con partenza alle 7:00 \nQuote di partecipazione: \nSoci Edelweiss+CAI: \n\nda 30 a 40 partecipanti 33 €\nda 41 a 54 partecipanti 30 €\n\nSoci CAI*: \n\nda 30 a 40 partecipanti 36 €\nda 41 a 54 partecipanti 33 €\n\n*La quota deve essere pagata anticipatamente in sede o con BB \nPossibilità di partecipazione ai soci EDELWEISS non soci CAI versando (entro il mercoledì precedente l’escursione) 12.95 € aggiuntive rispetto alla quota giornaliera per assicurazione CAI e soccorso alpino. \n Modalità d’iscrizione: \n\nPer e-mail: info@edelweisscai.it\nIn sede il lunedì dalle 17:30 alle 20:00 o il mercoledì dalle 17:30 alle 22:00\nTelefonando al 02 36589745 (negli orari di apertura o via WhatsApp)\n\nPagamenti: preferibili i pagamenti in sede\, possibili anche con POS\, oppure con BB utilizzando il seguente IBAN IT35X0503401693000000003707 inviando una copia della contabile a info@edelweisscai.it. \nRinunce: verrà applicato il regolamento gite in vigore visibile in sede o sul sito internet https://www.edelweisscai.it/regolamenti/\nPer comunicazioni urgenti: cell. 3343934611. \nLa sottosezione Edelweiss declina ogni responsabilità per danni a persone o cose conseguenti a eventuali incidenti durante la gita. \n  \nSCARICA IL PDF
URL:https://www.edelweisscai.it/eventi/escursionismo-uscita-sociale-culturale-di-fine-anno-val-curone/
CATEGORIES:Escursionismo
ATTACH;FMTTYPE=image/gif:https://www.edelweisscai.it/wp-content/uploads/2025/11/150.12.gif
END:VEVENT
END:VCALENDAR