BEGIN:VCALENDAR
VERSION:2.0
PRODID:-//Edelweiss Cai Milano - ECPv6.15.18//NONSGML v1.0//EN
CALSCALE:GREGORIAN
METHOD:PUBLISH
X-WR-CALNAME:Edelweiss Cai Milano
X-ORIGINAL-URL:https://www.edelweisscai.it
X-WR-CALDESC:Eventi per Edelweiss Cai Milano
REFRESH-INTERVAL;VALUE=DURATION:PT1H
X-Robots-Tag:noindex
X-PUBLISHED-TTL:PT1H
BEGIN:VTIMEZONE
TZID:Europe/Rome
BEGIN:DAYLIGHT
TZOFFSETFROM:+0100
TZOFFSETTO:+0200
TZNAME:CEST
DTSTART:20240331T010000
END:DAYLIGHT
BEGIN:STANDARD
TZOFFSETFROM:+0200
TZOFFSETTO:+0100
TZNAME:CET
DTSTART:20241027T010000
END:STANDARD
BEGIN:DAYLIGHT
TZOFFSETFROM:+0100
TZOFFSETTO:+0200
TZNAME:CEST
DTSTART:20250330T010000
END:DAYLIGHT
BEGIN:STANDARD
TZOFFSETFROM:+0200
TZOFFSETTO:+0100
TZNAME:CET
DTSTART:20251026T010000
END:STANDARD
BEGIN:DAYLIGHT
TZOFFSETFROM:+0100
TZOFFSETTO:+0200
TZNAME:CEST
DTSTART:20260329T010000
END:DAYLIGHT
BEGIN:STANDARD
TZOFFSETFROM:+0200
TZOFFSETTO:+0100
TZNAME:CET
DTSTART:20261025T010000
END:STANDARD
END:VTIMEZONE
BEGIN:VEVENT
DTSTART;VALUE=DATE:20250913
DTEND;VALUE=DATE:20250914
DTSTAMP:20260425T023132
CREATED:20250825T043323Z
LAST-MODIFIED:20250903T150358Z
UID:5472-1757721600-1757807999@www.edelweisscai.it
SUMMARY:ESCURSIONISMO: Hochlicht (3184m) - Alpi Pennine
DESCRIPTION:Hochlicht – Alta Luce (3184 m)\nAlpi Pennine – Val d’Aosta\n13 settembre 2025\nSpettacolare escursione di grande soddisfazione e grandi panorami sul Ghiacciaio del Lys e sulle cime vicine. \nDal parcheggio di Staffal (1813 m) si segue il segnavia 7\, sulla sinistra orografica del Lys\, e raggiunta quota 2155\, al limite della morena inferiore del ghiacciaio\, si prende a destra per il sentiero 7c. \nSi sale con una serie prolungata di piccoli tornanti fino all’Alpe Salza Inferiore (2320 m)\, quindi si prosegue nel Vallone di Salza fino al Colle di Salza (2882 m) dove\, al bivio\, si volta verso nord\, sempre sul sentiero 7c che sale\, inizialmente più ripido\, per poi addolcirsi in un pianoro e\, superando una grande pietraia\, conduce alla vetta (3185 m). \nPer il rientro si ritorna al Colle di Salza dove si può decidere se ripercorrere tutto il tragitto di andata o scendere all’Alpe di Lavetz (sentiero 7b)\, da dove si gode della vista della cascata del Leish\, fino a Staffal. \n  \n  \n  \nDislivello totale in salita/discesa: Gruppo Unico 1380 m↑↓ \nDurata complessiva dell’escursione: Gruppo Unico 7h30 \nPercorso e difficoltà: Gruppo Unico EE \nPercorso \nEquipaggiamento base: scarponi\, giacca a vento o mantella\, pile\, bastoncini e borraccia. Pranzo al sacco. \n  \nL’escursione verrà effettuata con auto proprie. È prevista una sosta colazione lungo la strada. \nOrario e punto di ritrovo suggerito per raggiungere il punto di partenza dell’escursione: \nPiazzale Lotto\, di fronte al Lido (MM1 – MM5 Lotto) ore 6.50. Partenza ore 7:00 \nCosti di viaggio: Le spese di viaggio verranno suddivise tra i partecipanti \nPunto di partenza dell’escursione: Staffal (AO) \n  \nQuote di partecipazione: \n\nSoci EDELWEISS o EDELWEISS+CAI8 €\nSoci CAI10 €\n\n  \nPossibilità di partecipazione ai soci EDELWEISS non soci CAI versando (entro il mercoledì precedente l’escursione) 12.95 € aggiuntive rispetto alla quota giornaliera per assicurazione CAI e soccorso alpino. \nISCRIZIONI ENTRO IL MERCOLEDI’ PRECEDENTE L’ESCURSIONE \n  \nCOMUNICARE IN SEGRETERIA\, ALL’ATTO DELL’ISCRIZIONE\, SE SI DISPONE DI AUTO \n  \nModalità d’iscrizione: \n\nPer e-mail: info@edelweisscai.it\nIn sede il lunedì dalle 17:30 alle 20:00 o il mercoledì dalle 17:30 alle 22:00\nTelefonando al 02 36589745 (negli orari di apertura o via WhatsApp)\n\nPagamenti: preferibili i pagamenti in sede\, possibili anche con POS\, oppure con BB utilizzando il seguente IBAN IT35X0503401693000000003707 inviando una copia della contabile a info@edelweisscai.it. \nRinunce: verrà applicato il regolamento gite in vigore visibile in sede o sul sito internet: https://www.edelweisscai.it/regolamenti/\nPer comunicazioni urgenti: cell. 3343934611. \nLa sottosezione Edelweiss declina ogni responsabilità per danni a persone o cose conseguenti a eventuali incidenti durante la gita.\nSCARICA PDF
URL:https://www.edelweisscai.it/eventi/escursionismo-hochclicht-3184m-alpi-pennine/
CATEGORIES:Escursionismo,Evidenza Home
ATTACH;FMTTYPE=image/jpeg:https://www.edelweisscai.it/wp-content/uploads/2025/08/Hochlicht.jpg
END:VEVENT
END:VCALENDAR