BEGIN:VCALENDAR
VERSION:2.0
PRODID:-//Edelweiss Cai Milano - ECPv6.15.18//NONSGML v1.0//EN
CALSCALE:GREGORIAN
METHOD:PUBLISH
X-ORIGINAL-URL:https://www.edelweisscai.it
X-WR-CALDESC:Eventi per Edelweiss Cai Milano
REFRESH-INTERVAL;VALUE=DURATION:PT1H
X-Robots-Tag:noindex
X-PUBLISHED-TTL:PT1H
BEGIN:VTIMEZONE
TZID:Europe/Rome
BEGIN:DAYLIGHT
TZOFFSETFROM:+0100
TZOFFSETTO:+0200
TZNAME:CEST
DTSTART:20240331T010000
END:DAYLIGHT
BEGIN:STANDARD
TZOFFSETFROM:+0200
TZOFFSETTO:+0100
TZNAME:CET
DTSTART:20241027T010000
END:STANDARD
BEGIN:DAYLIGHT
TZOFFSETFROM:+0100
TZOFFSETTO:+0200
TZNAME:CEST
DTSTART:20250330T010000
END:DAYLIGHT
BEGIN:STANDARD
TZOFFSETFROM:+0200
TZOFFSETTO:+0100
TZNAME:CET
DTSTART:20251026T010000
END:STANDARD
BEGIN:DAYLIGHT
TZOFFSETFROM:+0100
TZOFFSETTO:+0200
TZNAME:CEST
DTSTART:20260329T010000
END:DAYLIGHT
BEGIN:STANDARD
TZOFFSETFROM:+0200
TZOFFSETTO:+0100
TZNAME:CET
DTSTART:20261025T010000
END:STANDARD
END:VTIMEZONE
BEGIN:VEVENT
DTSTART;VALUE=DATE:20250705
DTEND;VALUE=DATE:20250706
DTSTAMP:20260425T150717
CREATED:20250607T064944Z
LAST-MODIFIED:20250607T155932Z
UID:5373-1751673600-1751759999@www.edelweisscai.it
SUMMARY:ESCURSIONISMO: Valle d'Aosta - Testa Grigia
DESCRIPTION:Testa grigia \nChampoluc (AO) – Val d’Ayas\nSABATO 5 LUGLIO 2025\n  \nDopo oltre 10 anni Edelweiss ritorna su una delle montagne simbolo della Valle d’Aosta che con i suoi 3314 m domina sia la valle D’Ayas che la valle del Lys nonché dona stupendi panorami su tutto il gruppo del Monte Rosa e sul Cervino. \nI due gruppi partiranno insieme prendendo la telecabina che collega il centro di Champoluc con il villaggio Walser di Crest a quota 1980 m. \nDal piazzale i due gruppi\, tramite il sentiero 1 dell’Alta Via\, percorreranno la Comba de Cuneaz fino a quota 2676 m in coincidenza con il sentiero che porta al lago di Pinter. Infine\, superando gli ultimi metri di dislivello nel vallone detritico si arriverà al Col Pinter (2776 m). \nIl gruppo B potrà far ritorno alla telecabina per la stessa via dell’andata con una breve deviazione verso il lago Pinter (2689 m). \nIl gruppo A invece dal Colle piegherà decisamente in direzione nord per raggiungere il vicino Bivacco Lateltin e poi sempre su sentiero 11A\, fino alla vetta (3314 m). \nIl sentiero è escursionistico fino al Colle Pinter per poi diventare\, nella parte di cresta\, un sentiero EE con salti di rocce\, catene e una cengia esposta ma attrezzata. \n  \nDislivello totale in salita/discesa:  \nGruppo A 1324 m↑↓ quota massima 3314 m – Gruppo B 786 m↑↓ quota massima 2776 m \nDurata complessiva dell’escursione: Gruppo A 7h – Gruppo B 6h (esclusa sosta pranzo) \nTipo di percorso: Andata e ritorno su stesso sentiero per entrambi i Gruppi. \nDifficoltà: Gruppo A EE (Escursionisti Esperti) – Gruppo B E (Escursionistico) \nEquipaggiamento base: scarponi\, giacca a vento o mantella\, pile bastoncini e borraccia. Pranzo al sacco. \n  \nL’escursione verrà effettuata con pullman al raggiungimento di un numero minimo di iscritti. \nGli iscritti saranno aggiornati dell’eventuale non raggiungimento del numero minimo entro il giovedì precedente l’escursione. \nOrari per escursione:  \nFERMATA LOTTO ore 6:50 in P.le Lotto davanti al Lido con partenza alle 7:00 \n  \nQuote di partecipazione: \nSoci Edelweiss+CAI: \n\nda 30 a 40 partecipanti 33 €\nda 41 a 54 partecipanti 30 €\n\nSoci CAI*: \n\nda 30 a 40 partecipanti 36 €\nda 41 a 54 partecipanti 33 €\n\n*La quota deve essere pagata anticipatamente in sede o con BB \nil costo della cabinovia è 11 euro   \nPossibilità di partecipazione ai soci EDELWEISS non soci CAI versando (entro il mercoledì precedente l’escursione) 12.95 € aggiuntive rispetto alla quota giornaliera per assicurazione CAI e soccorso alpino. \n  \nModalità d’iscrizione: \n\nPer e-mail: info@edelweisscai.it\nIn sede il lunedì dalle 17:30 alle 20:00 o il mercoledì dalle 17:30 alle 22:00\nTelefonando al 02 36589745 (negli orari di apertura o via WhatsApp)\n\nPagamenti: preferibili i pagamenti in sede\, possibili anche con POS\, oppure con BB utilizzando il seguente IBAN IT35X0503401693000000003707 inviando una copia della contabile a info@edelweisscai.it. \nRinunce: verrà applicato il regolamento gite in vigore visibile in sede o sul sito internet https://www.edelweisscai.it/regolamenti/\nPer comunicazioni urgenti: cell. 3343934611. \nLa sottosezione Edelweiss declina ogni responsabilità per danni a persone o cose conseguenti a eventuali incidenti durante la gita \n  \nSCARICA PDF
URL:https://www.edelweisscai.it/eventi/escursionismo-valle-daosta/
CATEGORIES:Escursionismo,Evidenza Home
ATTACH;FMTTYPE=image/png:https://www.edelweisscai.it/wp-content/uploads/2025/06/TestaGrigia.png
END:VEVENT
BEGIN:VEVENT
DTSTART;VALUE=DATE:20250712
DTEND;VALUE=DATE:20250713
DTSTAMP:20260425T150717
CREATED:20250614T075726Z
LAST-MODIFIED:20250706T214907Z
UID:5387-1752278400-1752364799@www.edelweisscai.it
SUMMARY:ESCURSIONISMO: Giro 5 rifugi - Alta Valle Formazza
DESCRIPTION:Giro dei 5 Rifugi\n(2025 Anno internazionale della conservazione dei ghiacciai)\nAlta Val Formazza (VB) – Piemonte\nSabato 12 luglio 2025\n  \nUn percorso di straordinaria bellezza: la cornice è quella dell’Alta Valle Formazza\, al cospetto di cime maestose\, come il Blinnenhorn (3373 m)\, l’Hohsandhorn (3182 m)\, la Punta d’Arbola (3236 m). Ghiacciai e laghi alpini hanno permesso un importante sfruttamento idroelettrico\, che ancora oggi\, con i grandi invasi artificiali\, caratterizza i paesaggi dell’alta valle. \nL’escursione chiamata Giro dei 5 rifugi o Giro dei rifugi alti in Val Formazza tocca il rifugio Mores (2505 m)\, rifugio Somma (2464 m)\, rifugio Claudio e Bruno (2710 m)\, rifugio 3A (2960 m) e il rifugio Città di Busto (2480 m). Questa escursione\, riservata ad escursionisti allenati\, offre un panorama esclusivo sui ghiacciai dell’Arbola e dei Sabbioni. \nPartendo dal posteggio sotto la Diga di Morasco (1815 m) si sale alla diga costeggiando il lago e si prosegue in direzione Alpe Bettelmatt (2110 m). Da qui con ripido sentiero si risale fino al baitello del pastore e poi con saliscendi si attraversano praterie di alta quota e detriti fino al Rifugio Mores e al Lago dei Sabbioni. Si prosegue a sinistra con grandiosa vista sull’Arbola e sull’Hosand e si risale al rifugio Claudio Bruno. Da qui con ultima ripida salita in ambiente di alta montagna si raggiunge il rifugio 3A. Dal rifugio è possibile scendere direttamente alla Piana dei Camosci lungo i nevai che ricoprono i resti del Ghiacciaio dei Camosci e si raggiunge il rifugio Città di Busto. Dal rifugio un comodo e ampio sentiero a tornanti si torna all’Alpe Bettelmatt\, zona di produzione dell’omonimo e rinomato formaggio\, e quindi si rientra a costeggiare il Lago di Morasco fino al punto di partenza. \nLe Nazioni Unite hanno designato il 2025 come Anno internazionale della conservazione dei ghiacciai per evidenziarne l’importanza; infatti\, sono fondamentali per regolare il clima globale e fornire acqua dolce\, essenziale per miliardi di persone. Fino agli anni ’70 la fronte del ghiacciaio entrava nel lago dei Sabbioni e si potevano osservare blocchi di ghiaccio galleggiare nelle acque del lago… \n  \nDislivello totale in salita/discesa: Gruppo Unico 1.300 m↑↓\, quota max: 2.960 m \nDurata complessiva dell’escursione: Gruppo Unico 8 h (esclusa sosta pranzo) \nSviluppo lineare: Gruppo Unico 19 km \nPercorso e difficoltà: Gruppo Unico ad anello EE (Escursionisti Esperti) \nEquipaggiamento base: scarponi\, giacca a vento o mantella\, pile\, bastoncini e borraccia. Pranzo al sacco. \n  \nL’escursione verrà effettuata con auto proprie \nOrario e punto di ritrovo suggerito per raggiungere il punto di partenza dell’escursione: \nPiazzale Lotto\, di fronte al Lido (MM1 – MM5 Lotto) ore 6.50. Partenza ore 7:00 \nCosti di viaggio: Le spese di viaggio verranno suddivise tra i partecipanti\, tranne gli autisti delle auto. \nPunto di partenza dell’escursione: Riale – Diga di Morasco (VB) 9h30 circa. \n  \nQuote di partecipazione: \n\nSoci EDELWEISS o EDELWEISS+CAI 8 €\nSoci CAI 10 €\n\n  \nPossibilità di partecipazione ai soci EDELWEISS non soci CAI versando (entro il mercoledì precedente l’escursione) 12.95 € aggiuntive rispetto alla quota giornaliera per assicurazione CAI e soccorso alpino. \nISCRIZIONI ENTRO IL MERCOLEDI’ PRECEDENTE L’ESCURSIONE \nCOMUNICARE IN SEGRETERIA\, ALL’ATTO DELL’ISCRIZIONE\, SE SI DISPONE DI AUTO \n  \nModalità d’iscrizione: \n\nPer e-mail: info@edelweisscai.it\nIn sede il lunedì dalle 17:30 alle 20:00 o il mercoledì dalle 17:30 alle 22:00\nTelefonando al 02 36589745 (negli orari di apertura o via WhatsApp)\n\nPagamenti: preferibili i pagamenti in sede\, possibili anche con POS\, oppure con BB utilizzando il seguente IBAN IT35X0503401693000000003707 inviando una copia della contabile a info@edelweisscai.it. \nRinunce: verrà applicato il regolamento gite in vigore visibile in sede o sul sito internet: https://www.edelweisscai.it/regolamenti/\nPer comunicazioni urgenti: cell. 3343934611. \nLa sottosezione Edelweiss declina ogni responsabilità \n per danni a persone o cose conseguenti a eventuali incidenti durante la gita. \n  \nSCARICA PDF
URL:https://www.edelweisscai.it/eventi/escursionismo-alta-valle-formazza/
CATEGORIES:Escursionismo,Evidenza Home
ATTACH;FMTTYPE=image/jpeg:https://www.edelweisscai.it/wp-content/uploads/2025/06/5Rifugi.jpeg
END:VEVENT
BEGIN:VEVENT
DTSTART;TZID=Europe/Rome:20250726T070000
DTEND;TZID=Europe/Rome:20250802T200000
DTSTAMP:20260425T150717
CREATED:20250318T221723Z
LAST-MODIFIED:20250602T193215Z
UID:5123-1753513200-1754164800@www.edelweisscai.it
SUMMARY:Trekking VIA ALPINA 13
DESCRIPTION: Valli Occitane e Parco delle Alpi Marittime \n sabato 26 luglio – sabato 02 agosto 2025 \n Sabato 26 luglio: da Milano a Chiappera (CN) \nSi parte da Milano con pulmino privato per raggiungere la Val Maira\, nella località di Chiappera (1650 m)\, dove pernotteremo al Rifugio Campo Base. Lasciato il materiale al rifugio\, faremo un’escursione con zaino leggero intorno alla Rocca Provenzale\, caratteristico corno roccioso che domina la conca terminale della Val Maira. \nRitrovo per la partenza: Piazza Belfanti\, Milano –  angolo Via Spezia (distributore ENI) h 7 \nSviluppo: 10 km Dislivello: D+ 700 m D- 700 m Durata: 4h \nPernottamento: Rifugio Campo Base \nDomenica 27 luglio: Da Chiappera\, a mezzacosta\, si raggiungono le sorgenti del Torrente Maira\, salendo quindi nel bosco verso il Colle Ciarbonet (2206 m)\, caratterizzato da vaste pietraie. Con molti tornanti si scende sul fondo valle del Torrente Unerzio\, toccando il rifugio omonimo e proseguendo fino a Chialvetta (1493 m). \nSviluppo: 15 km Dislivello: D+ 660 m D- 785 m Durata: 6h \nPernottamento: Posto Tappa Osteria della Gardetta \nLunedì 28 luglio: da Chialvetta (CN) a Pontebernardo (CN) \nLa prima parte di questa lunga tappa sale al Passo della Gardetta (2437 m)\, percorrendo\, da Chialvetta il Vallone dell’Unerzio e aggirando quindi la Rocca Limburny. Dal passo\, circondato da postazioni fortificate diroccate\, si continua a salire fino al Passo Rocca Brancia (2620 m). La successiva discesa raggiunge la rotabile della Valle Stura di Demonte. Seguendo la strada verso valle si scende a Pontebernardo (1324 m). \nSviluppo: 18 km Dislivello: D+ 1115 m D- 1280 m Durata: 7h30 \nPernottamento: Posto tappa Le Barricate \nMartedì 29 luglio: da Pontebernardo (CN) a rifugio Migliorero \nDa Pontebernardo\, per la rotabile militare si raggiunge il Passo Sottano delle Scolettas (2225 m)\, scendendo in breve al Rifugio Zanotti (2130 m). Si percorre poi il Vallone di Schiantalà fino al Passo di Rostagno (2560 m). La ripida discesa che segue termina al rifugio Migliorero (2090 m). \nSviluppo: 14 km Dislivello: D+ 1440 m D- 655 m Durata: 6h30 \nPernottamento: rifugio Migliorero \nMercoledì 30 luglio: da Rifugio Migliorero a Sant’Anna di Vinadio (CN) \nSi affronta subito la salita verso il Passo Laroussa (2470 m). Scesi a San Bernolfo (1680 m)\, si risale poi il versante opposto della montagna valicando i passi Passo della Sommetta (2200 m) e Passo di Tesina (2400 m) per giungere poi al posto tappa di Sant’Anna di Vinadio (2015 m)\, nei pressi dell’omonimo lago. \nSviluppo: 15 km Dislivello: D+ 1370 m D- 1450 m Durata: 6h30 \nPernottamento: Santuario di Sant’Anna \nGiovedì 31 luglio: da Sant’Anna di Vinadio a rifugio Questa \nDal Santuario di Sant’Anna di Vinadio si raggiunge il lago del Colle di S. Anna\, abbandonando la strada per proseguire in cresta\, sul confine italo francese\, fino ad incontrare la strada del Colle della Lombarda (2351 m).  Qui faremo una breve deviazione in territorio francese sul GR52 per rientrare in Italia alla Bassa del Druos (2628m)\, entrando nel Parco delle Alpi Marittime! Raggiunto il Lago di Valscura si prosegue fino al Lago del Claus per poi risalire al rifugio Questa (2375 m)\, nei pressi del lago delle Portette. \nSviluppo: 19 km Dislivello: D+ 1165 m D- 805 m Durata: 8h \nPernottamento: Rifugio Emilio Questa \nVenerdì 01 agosto: da Rifugio Questa a rifugio Morelli Buzzi \nDal Rifugio Questa si scende all’incantevole Piano del Valasco (1760 m)\, in una zona dove rimangono le affascinanti opere viarie militari e la bella Casa Reale di Caccia. Percorrendo il Vallone del Falasco si raggiungono le Terme di Valdieri (1380 m). Ci immettiamo quindi nel Vallone di Lourousa e per ripidi pendii boscosi si raggiunge il rifugio Morelli-Buzzi (2350 m). \nSviluppo: 16 km Dislivello: D+ 1005 m D- 1030 m Durata: 6h30 \nPernottamento: rifugio Morelli Buzzi \nSabato 02 agosto: da rifugio Morelli Buzzi a Lago delle Rovine (CN) \nDal rifugio Morelli-Buzzi si risale la pietraia del vallone Lourousa fino al Colle del Chiapous (2526 m)\, da dove un sentiero ripido scende al Lago del Chiotas e al \nrifugio Genova Figari (2100 m). \nDa qui si scende al lago delle Rovine (1530 m)\, dove verremo recuperati dal pulmino privato. \nRientro a Milano nel pomeriggio/sera a Piazza Belfanti. \nSviluppo: 8 km Dislivello: D+ 216 m D- 1020 m Durata: 3h \n  \n Il trekking\, pur non presentando difficoltà tecniche particolari\, richiede impegno fisico e un buon allenamento a lunghe camminate con lo zaino in spalla. \nAccompagnatori: Maurizio Henin – Guia Strada \n Quota di partecipazione: € 730 soci Edelweiss+CAI \n€ 750 soci CAI \nLa quota comprende: \nI trasporti come indicato nel programma\, la mezza pensione nei rifugi e negli alberghi\, l’assicurazione\, l’assistenza degli organizzatori. \n  \nIscrizioni: riservate ai soci CAI Edelweiss o ai soci CAI\, previo versamento di un acconto/caparra di € 200\, entro una settimana dall’iscrizione. \n  \nSaldo entro 23 giugno 2025.  \n  \nL’iscrizione può avvenire: via mail a info@edelweisscai.it o in sede il lunedì dalle 17:30 alle 20 e il mercoledì dalle 17:30 alle 22:00 o telefonando allo 02 36589745. \nIl pagamento dell’acconto e del saldo può essere fatto in sede o con bonifico bancario \n(IBAN IT 35 X 05034 01693 000000003707) ; Causale Via Alpina 13 \nNumero partecipanti: minimo 8 – massimo 13 \nRiunione informativa: 23 giugno 2025 alle ore 20.45 presso la sede Edelweiss. \nTutti i partecipanti sono vivamente pregati di partecipare alla riunione. \n 
URL:https://www.edelweisscai.it/eventi/trekking-via-alpina-13/
CATEGORIES:Escursionismo,Trekking
ATTACH;FMTTYPE=image/webp:https://www.edelweisscai.it/wp-content/uploads/2025/03/Gardetta.webp
END:VEVENT
END:VCALENDAR