BEGIN:VCALENDAR
VERSION:2.0
PRODID:-//Edelweiss Cai Milano - ECPv6.15.18//NONSGML v1.0//EN
CALSCALE:GREGORIAN
METHOD:PUBLISH
X-WR-CALNAME:Edelweiss Cai Milano
X-ORIGINAL-URL:https://www.edelweisscai.it
X-WR-CALDESC:Eventi per Edelweiss Cai Milano
REFRESH-INTERVAL;VALUE=DURATION:PT1H
X-Robots-Tag:noindex
X-PUBLISHED-TTL:PT1H
BEGIN:VTIMEZONE
TZID:Europe/Rome
BEGIN:DAYLIGHT
TZOFFSETFROM:+0100
TZOFFSETTO:+0200
TZNAME:CEST
DTSTART:20240331T010000
END:DAYLIGHT
BEGIN:STANDARD
TZOFFSETFROM:+0200
TZOFFSETTO:+0100
TZNAME:CET
DTSTART:20241027T010000
END:STANDARD
BEGIN:DAYLIGHT
TZOFFSETFROM:+0100
TZOFFSETTO:+0200
TZNAME:CEST
DTSTART:20250330T010000
END:DAYLIGHT
BEGIN:STANDARD
TZOFFSETFROM:+0200
TZOFFSETTO:+0100
TZNAME:CET
DTSTART:20251026T010000
END:STANDARD
BEGIN:DAYLIGHT
TZOFFSETFROM:+0100
TZOFFSETTO:+0200
TZNAME:CEST
DTSTART:20260329T010000
END:DAYLIGHT
BEGIN:STANDARD
TZOFFSETFROM:+0200
TZOFFSETTO:+0100
TZNAME:CET
DTSTART:20261025T010000
END:STANDARD
END:VTIMEZONE
BEGIN:VEVENT
DTSTART;VALUE=DATE:20250406
DTEND;VALUE=DATE:20250407
DTSTAMP:20260425T192909
CREATED:20250322T092642Z
LAST-MODIFIED:20250401T043343Z
UID:5149-1743897600-1743983999@www.edelweisscai.it
SUMMARY:LIGURIA: escursionismo nel Parco del Beigua (meta modificata)
DESCRIPTION:Monte Reixa\nParco del Beigua – Liguria\nDOMENICA 6 APRILE 2025\n  \n(Causa sentiero inagibile si è reso necessario modificare la meta dell’escursione del 6 aprile)\nLa prima escursione della stagione escursionistica 2025 ci porta in uno degli angoli più interessanti della Liguria dal punto di vista escursionistico perché\, a poca distanza da Genova\, il Parco del Beigua è la più vasta area naturale protetta della regione \nDal passo del Faiallo (1060 m) si scende lungo il versante Sud Est fino al passo della Gava (750 m) da cui poi\, lungo la “direttissima” saliamo alla cima del monte Reixa (1183 m) da cui poi si rientra con giro ad anello al passo del Faiallo. \nDislivello totale in salita/discesa: \nGruppo Unico 450 m↑↓  quota massima 1177 m \nDurata complessiva dell’escursione:  \nGruppo Unico 6h \nTipo di percorso:  \nGruppo Unico: Giro ad anello \nDifficoltà: \nGruppo A Unico E (Escursionistico) \nEquipaggiamento base: scarponi\, giacca a vento o mantella\, pile\, bastoncini e borraccia. Pranzo al sacco. \n  \nL’escursione verrà effettuata con pullman al raggiungimento di un numero minimo di iscritti. \nGli iscritti saranno aggiornati dell’eventuale non raggiungimento del numero minimo entro il giovedì precedente l’escursione. \n  \nOrari per escursione:  \nFERMATA LOTTO ore 6:50 in P.le Lotto davanti al Lido con partenza alle 7:00 \nFERMATA BELFANTI ore 7:10 in piazza Belfanti angolo via Spezia con partenza alle 7:15 \n  \nQuote di partecipazione: \nSoci Edelweiss+CAI: \n\nda 30 a 40 partecipanti 33 €\nda 41 a 54 partecipanti 30 €\n\nSoci CAI*: \n\nda 30 a 40 partecipanti 36 €\nda 41 a 54 partecipanti 33 €\n\n*La quota deve essere pagata anticipatamente in sede o con BB \nPossibilità di partecipazione ai soci EDELWEISS non soci CAI versando (entro il mercoledì precedente l’escursione) 12.95 € aggiuntive rispetto alla quota giornaliera per assicurazione CAI e soccorso alpino. \n  \nModalità d’iscrizione: \n\nPer e-mail: info@edelweisscai.it\nIn sede il lunedì dalle 17:30 alle 20:00 o il mercoledì dalle 17:30 alle 22:00\nTelefonando al 02 36589745 (negli orari di apertura o via WhatsApp)\n\nPagamenti: preferibili i pagamenti in sede\, possibili anche con POS\, oppure con BB utilizzando il seguente IBAN IT35X0503401693000000003707 inviando una copia della contabile a info@edelweisscai.it. \nRinunce: verrà applicato il regolamento gite in vigore visibile in sede o sul sito internet https://www.edelweisscai.it/regolamenti/\nPer comunicazioni urgenti: cell. 3343934611. \nLa sottosezione Edelweiss declina ogni responsabilità̀ per danni a persone o cose conseguenti a eventuali incidenti durante la gita \n  \nSCARICA PDF
URL:https://www.edelweisscai.it/eventi/liguria-escursionismo-nel-parco-del-beigua/
CATEGORIES:Escursionismo,Evidenza Home
ATTACH;FMTTYPE=image/jpeg:https://www.edelweisscai.it/wp-content/uploads/2025/03/san-gioachin-scaled-1.jpg
END:VEVENT
BEGIN:VEVENT
DTSTART;VALUE=DATE:20250412
DTEND;VALUE=DATE:20250413
DTSTAMP:20260425T192909
CREATED:20250403T161609Z
LAST-MODIFIED:20250419T104211Z
UID:5179-1744416000-1744502399@www.edelweisscai.it
SUMMARY:LAGO DI GARDA: escursionismo al Monte Cas
DESCRIPTION:Guerra e Pace\nCampione del Garda – Lombardia\n12 aprile 2025\nOggi andremo a Campione del Garda (BS) per una piacevole escursione sul lago di Garda\, con panorami mozzafiato sul lago\, e dove incontreremo alcune postazioni della linea difensiva Cadorna a difesa del Regno dei Savoia contro l’invadenza dell’Impero Austroungarico di Francesco Giuseppe. Partendo dal parcheggio nel paese di Campione del Garda\, saliremo per un sentiero a picco sul lago in un tratto che affianca le strutture idrauliche che servivano in passato al cotonificio del paese in funzione fino al 1981.\nContinuando la salita si potrà godere di vari scorci panoramici arrivando al paese di Prabione e di qui\, dopo una breve pausa\, risaliremo le pendici del monte Cas.\nLungo il percorso potremo osservare gallerie e postazioni scavate nella roccia espressione dell’architettura militare difensiva che servivano come rifugi e postazioni durante la Prima guerra mondiale. Al termine del sentiero arriveremo sulla vetta del monte Cas (779 m) dove godremo di un panorama a 180° sul lago e sul monte Baldo. Il percorso del ritorno passa dalla forra di San Michele che prende il nome dal torrente omonimo. Risaliremo ancora un piccolo tratto fino al paese di Pregasio dove imboccheremo il sentiero di ritorno (sul lato opposto del sentiero di andata)\, sempre a picco sul lago\, fino a rientrare a Campione del Garda. \nDislivello totale in salita/discesa: Gruppo Unico 712 m↑↓ – quota massima 779 m per visitare la forra di S.Michele + 200 m↑↓\nDurata complessiva dell’escursione: Gruppo Unico 6h (esclusa sosta pranzo)\nSviluppo lineare: Gruppo Unico 8 km per visitare la forra di S.Michele 11 km\nPercorso e difficoltà: Gruppo Unico EE\nEquipaggiamento base: scarponi\, giacca a vento o mantella\, pile\, bastoncini e borraccia. Colazione al sacco\nRaccomandata pila frontale per i passaggi in galleria. Consigliato Casco per la prima parte del percorso \nL’escursione verrà effettuata con auto proprie\nOrario e punto di ritrovo suggerito per raggiungere il punto di partenza dell’escursione:\nPiazzale Lotto\, di fronte al Lido (MM1 – MM5 Lotto) ore 6.50. Partenza ore 7:00\nCosti di viaggio: Le spese di viaggio verranno suddivise tra i partecipanti\nPunto di partenza dell’escursione: Campione del Garda – Parcheggio a pagamento\nVia Monsignor Giacomo Tavernini\, 527\, 25010 Campione BS \nQuote di partecipazione:\n● Soci EDELWEISS o EDELWEISS+CAI 8 €\n● Soci CAI 10 € \nPossibilità di partecipazione ai soci EDELWEISS non soci CAI versando (entro il mercoledì precedente l’escursione) 12.95 € aggiuntive rispetto alla quota giornaliera per assicurazione CAI e soccorso alpino.\nISCRIZIONI ENTRO IL MERCOLEDI’ PRECEDENTE L’ESCURSIONE \nCOMUNICARE IN SEGRETERIA\, ALL’ATTO DELL’ISCRIZIONE SE SI DISPONE DI AUTO \nModalità d’iscrizione:\n● Per e-mail: info@edelweisscai.it\n● In sede il lunedì dalle 17:30 alle 20:00 o il mercoledì dalle 17:30 alle 22:00\n● Telefonando al 02 36589745 (negli orari di apertura o via WhatsApp)\nPagamenti: preferibili i pagamenti in sede\, possibili anche con POS\, oppure con BB utilizzando il seguente IBAN IT35X0503401693000000003707 inviando una copia della contabile a info@edelweisscai.it.\nRinunce: verrà applicato il regolamento gite in vigore visibile in sede o sul sito internet: https://www.edelweisscai.it/regolamenti/\nPer comunicazioni urgenti: cell. 3343934611 dal Venerdì prima dell’escursione .\nLa sottosezione Edelweiss declina ogni responsabilità̀ per danni a persone o cose conseguenti a eventuali incidenti durante la gita. \n 
URL:https://www.edelweisscai.it/eventi/12-aprile-2025-monte-cas-campione-del-garda-lombardia-bs/
CATEGORIES:Escursionismo,Evidenza Home
ATTACH;FMTTYPE=image/webp:https://www.edelweisscai.it/wp-content/uploads/2025/03/MonteCas.webp
END:VEVENT
END:VCALENDAR