BEGIN:VCALENDAR
VERSION:2.0
PRODID:-//Edelweiss Cai Milano - ECPv6.15.18//NONSGML v1.0//EN
CALSCALE:GREGORIAN
METHOD:PUBLISH
X-WR-CALNAME:Edelweiss Cai Milano
X-ORIGINAL-URL:https://www.edelweisscai.it
X-WR-CALDESC:Eventi per Edelweiss Cai Milano
REFRESH-INTERVAL;VALUE=DURATION:PT1H
X-Robots-Tag:noindex
X-PUBLISHED-TTL:PT1H
BEGIN:VTIMEZONE
TZID:Europe/Rome
BEGIN:DAYLIGHT
TZOFFSETFROM:+0100
TZOFFSETTO:+0200
TZNAME:CEST
DTSTART:20240331T010000
END:DAYLIGHT
BEGIN:STANDARD
TZOFFSETFROM:+0200
TZOFFSETTO:+0100
TZNAME:CET
DTSTART:20241027T010000
END:STANDARD
BEGIN:DAYLIGHT
TZOFFSETFROM:+0100
TZOFFSETTO:+0200
TZNAME:CEST
DTSTART:20250330T010000
END:DAYLIGHT
BEGIN:STANDARD
TZOFFSETFROM:+0200
TZOFFSETTO:+0100
TZNAME:CET
DTSTART:20251026T010000
END:STANDARD
BEGIN:DAYLIGHT
TZOFFSETFROM:+0100
TZOFFSETTO:+0200
TZNAME:CEST
DTSTART:20260329T010000
END:DAYLIGHT
BEGIN:STANDARD
TZOFFSETFROM:+0200
TZOFFSETTO:+0100
TZNAME:CET
DTSTART:20261025T010000
END:STANDARD
END:VTIMEZONE
BEGIN:VEVENT
DTSTART;VALUE=DATE:20250201
DTEND;VALUE=DATE:20250202
DTSTAMP:20260426T000544
CREATED:20250113T203016Z
LAST-MODIFIED:20250201T105244Z
UID:4805-1738368000-1738454399@www.edelweisscai.it
SUMMARY:APPENNINO LIGURE: Escursione al Monte Cordona
DESCRIPTION:Sabato 1 febbraio 2025\nAndiamo in Liguria a ripercorrere un tracciato della rete di sentieri detti “di Colombo” che portavano dall’entroterra al porto di Genova i naviganti in cerca di imbarco. \n Partendo dalla chiesa di San Siro di Genova Nervi alle ore 09:15 faremo un’escursione con una bella vista sul golfo Paradiso che ha il suo limite con il promontorio di Portofino. Dopo aver parcheggiato in prossimità della chiesa di San Siro saliremo dalla SS1 Aurelia per via Crocifisso e Via Croce di ferro. \nLa salita inizia su ripide scale e dopo mezz’ora si passa per la Chiesa di San Rocco di Nervi.  Seguendo i segnali si va dritto fino ad un ulteriore bivio che ci porta sui di una sella (456 m) il Passo della Crocetta con vista verso il Monte di Portofino\, Bogliasco e tutto il golfo Paradiso. \nDi qui il gruppo B potrà ridiscendere per rientrare a Genova Nervi seguendo un altro versante del promontorio salito. \nIl gruppo A prosegue su sentiero seguendo la cresta priva di alberatura significativa che ci lascia ammirare l’ampio panorama sul mare fino a risalire in vetta in prossimità di un boschetto di pini marittimi evidentemente piantumati da mani umane per nulla spontanei. \nQui ci fermeremo per la nostra pausa pranzo in vetta del monte Cordona 802 m. Il sentiero di discesa è più agevole con alcune biforcazioni scritte su massi\, fino a raggiungere su carrareccia la parte abitata. Di qui raggiungeremo le nostre auto per rientrare a Milano. \n  \nDislivello totale in salita/discesa: Gruppo B 456m↑↓\, ; Gruppo A 800 m ↑↓\, quota max: 802 m \nDurata complessiva dell’escursione: GR\,B 4h30’;  Gr.A 6h30’ (esclusa sosta pranzo) . \nSviluppo lineare : Gruppo B 9Km ; Gruppo A 11Km  \nPercorso e difficoltà: E (Escursionistico) \nEquipaggiamento base: scarponi\, giacca a vento o mantella\, pile\, bastoncini e borraccia. Colazione al sacco \n L’escursione verrà effettuata con auto proprie \nPunto di ritrovo suggerito per raggiungere il punto di partenza dell’escursione: Piazzale Belfanti\, presso la stazione ENI\, all’angolo con Via Spezia\, ore 6.50. Partenza ore 7:00 \nRitrovo a Genova Nervi alla chiesa di San Siro V.Camillo Campostano 4 alle h9;15 in prossimità di Viale G. Franchini. \nPossibilità di Parcheggio a pagamento 2€/h presso il Parcheggio “Le Streghe” V.Donato Somma\, 42/R\, Ge. \nE’ possibile raggiungere la località anche in treno RV n°3013  delle 6\,25 da Milano Centrale con Cambio a Genova P.Principe su treno Rn°32091 ed arrivo a Genova Nervi h9;03 di qui si raggiunge facilmente la chiesa di S. Siro Via Camillo Campostano n° 4 alle h9;15; Rientro h17;00 (A/R 30€) \nViaggio con auto proprie: Le spese di viaggio verranno suddivise tra i partecipanti (circa 28€ + eventuale costo parcheggio 4h/persona) \nPunto di partenza dell’escursione: Chiesa di San Siro a Genova Nervi V.Camillo Campostano 4 alle h9;15 \n  \nQuota di partecipazione:  \nSoci EDELWEISS+CAI 8 € \nSoci CAI 10 € \nPossibilità di partecipazione ai soli soci EDELWEISS pagando un’extra di euro 12\,95 per assicurazione infortuni CAI e soccorso alpino valida solo per il giorno dell’uscita (ISCRIZIONI ENTRO IL MERCOLEDI’ PRECEDENTE L’ESCURSIONE) \n  \nModalità d’iscrizione: \n\nPer e-mail: info@edelweisscai.it\nIn sede il lunedì dalle 17:30 alle 20:00 o il mercoledì dalle 17:30 alle 22:00\nTelefonando al 02 36589745 (negli orari di apertura o via WhatsApp)\nIscrizioni riservate unicamente ai soci CAI. Portare sempre con sé la tessera CAI\n\nRinunce: verrà applicato il regolamento gite in vigore visibile in sede o sul sito internet https://www.edelweisscai.it/regolamenti/. \nPer comunicazioni urgenti: cell. 3343934611. \n  \nLa sottosezione Edelweiss declina ogni responsabilità per danni a persone o cose conseguenti a eventuali incidenti durante la gita.\n 
URL:https://www.edelweisscai.it/eventi/appennino-ligure-escursione-al-monte-cordona/
CATEGORIES:Escursionismo
ATTACH;FMTTYPE=image/jpeg:https://www.edelweisscai.it/wp-content/uploads/2025/01/cordona-monte-da-nervi-a-pieve-ligure_a267.jpg
END:VEVENT
BEGIN:VEVENT
DTSTART;VALUE=DATE:20250208
DTEND;VALUE=DATE:20250209
DTSTAMP:20260426T000544
CREATED:20250112T224051Z
LAST-MODIFIED:20250201T105537Z
UID:4764-1738972800-1739059199@www.edelweisscai.it
SUMMARY:MONTE SPLUGA: Ciaspolata in Val Febbraro
DESCRIPTION:8 Febbraio 2025\nUN’ESPERIENZA TRA NATURA E STORIA \nLa Val Febbraro\, con i suoi suggestivi angoli\, cascate ghiacciate\, alpeggi incantati e il torrente che l’attraversa\, è una destinazione ideale per un’escursione invernale con le ciaspole. Il paesaggio naturale invita alla contemplazione\, offrendo anche spunti di riflessione storica e culturale. \nL’escursione parte dal borgo di Isola (1253 m)\, nel comune di Madesimo. Da qui\, si sale verso la chiesetta quattrocentesca dedicata ai santi Martino e Giorgio\, per poi proseguire verso il primo e forse più ripido tratto in salita che porta al ponte sul torrente Febbraro (1487 m) e all’ingresso della valle. \nDurante il percorso\, potremo visitare l’alpeggio di Cà Raseri\, con le sue caratteristiche baite in stile “carden“\, e ammirare la cascata ghiacciata di Borghetto\, una delle principali attrattive della valle. \nProseguendo\, attraverseremo un bosco di conifere per raggiungere l’Alpe Borghetto (1897 m)\, un luogo tranquillo e panoramico con vista sulle cime circostanti\, tra cui il Pizzo Emet\, il Monte Mater e il Pizzo Stella. \n  \nDislivello totale in salita/discesa: gruppo unico 700↑↓ m\, quota massima raggiunta 2000 m \nDurata complessiva dell’escursione: 6h (esclusa sosta pranzo). \nPercorso e difficoltà: percorso andata e ritorno con sviluppo di 10km circa \nEquipaggiamento base: abbigliamento e calzature invernali\, ghette\, racchette da neve\, bastoncini e borraccia \nColazione al sacco. \nL’attrezzatura aggiuntiva obbligatoriamente richiesta è composta da: ARTVA\, pala e sonda. \nCOMUNICARE IN SEGRETERIA\, ALL’ATTO DELL’ISCRIZIONE\, SE IN POSSESSO DI ARTVA\, PALA E SONDA E SE SI DISPONE DI AUTO. \nEventuale utilizzo di ARTVA\, pala e sonda versando un contributo di 10 €. \n  \nL’escursione verrà effettuata con auto proprie \nOrario e punto di ritrovo suggerito per raggiungere il punto di partenza dell’escursione: \nPiazzale Lotto\, di fronte al Lido (MM1 – MM5 Lotto) ore 6.50. Partenza ore 7:00 \nViaggio con auto proprie: Le spese di viaggio verranno suddivise tra i partecipanti \nPunto di partenza dell’escursione: Isola (SO) \nQuota di partecipazione:  \nSoci EDELWEISS o EDELWEISS+CAI 8 € \nSoci CAI 10 € \nPossibilità di partecipazione ai soli soci EDELWEISS pagando un’extra di euro 12\,95 per assicurazione infortuni CAI e soccorso alpino valida solo per il giorno dell’uscita (ISCRIZIONI ENTRO IL MERCOLEDI’ PRECEDENTE L’ESCURSIONE) \nModalità d’iscrizione: \n\nPer e-mail: info@edelweisscai.it\nIn sede il lunedì dalle 17:30 alle 20:00 o il mercoledì dalle 17:30 alle 22:00\nTelefonando al 02 36589745 (negli orari di apertura o via WhatsApp)\nIscrizioni riservate unicamente ai soci CAI. Portare sempre con sé la tessera CAI\n\nPagamenti: preferibili i pagamenti in sede\, possibili anche con POS\, oppure con BB utilizzando il seguente IBAN IT35X0503401693000000003707 inviando una copia della contabile a info@edelweisscai.it. \nRinunce: verrà applicato il regolamento gite in vigore visibile in sede o sul sito internet https://www.edelweisscai.it/regolamenti/\nPer comunicazioni urgenti: cell. 3343934611. \n  \n\n\n\n\nLa sottosezione Edelweiss declina ogni responsabilità per danni a persone o cose conseguenti a eventuali incidenti durante la gita.\n\nSCARICA PDF
URL:https://www.edelweisscai.it/eventi/monte-spluga-ciaspolata-in-val-febbraro/
CATEGORIES:Escursionismo,Racchette da neve
ATTACH;FMTTYPE=image/png:https://www.edelweisscai.it/wp-content/uploads/2025/01/Schermata-2025-01-11-alle-08.35.09.png
END:VEVENT
BEGIN:VEVENT
DTSTART;VALUE=DATE:20250222
DTEND;VALUE=DATE:20250223
DTSTAMP:20260426T000544
CREATED:20250131T173030Z
LAST-MODIFIED:20250218T124845Z
UID:4944-1740182400-1740268799@www.edelweisscai.it
SUMMARY:VAL VIGEZZO: ciaspolata al monte Zicher
DESCRIPTION:Dove la Neve è Polverosa\nVal Vigezzo – Piemonte\n Sabato 22 FEBBRAIO 2025\nAndiamo a Domodossola (VCO) e da lì saliamo per la Val Vigezzo fino a Caraveggia\, famoso per i suoi innumerevoli camini in pietra che svettano sopra i tetti in beole delle case\, per risalire all’Alpe di Blitz e raggiungere il parcheggio al termine della strada (1217 m). Percorreremo la classica ciaspolata Vigezzina con salita per ampi pendii\, per godere un meraviglioso panorama del Vigezzo e le sue cime con il gruppo del Monte Rosa che fa da sfondo\, verso est-sud/est l’imponente parete del Gridone o Limidario\, e verso sud le cime della Val Grande: Monte Zeda\, Laurasca\, Pizzo Ragno. Raggiunto l’omonimo Oratorio di Blitz (m 1270) la salita affronta una rada faggeta a monte della chiesa salendo in direzione nord e rintracciando il sentiero estivo che conduce all’Alpe Pragrande (1457 m). Passato il gruppo di rustici\, si risale la dorsale ancora in direzione nord uscendo sui prati dell’Alpe Oro (1560 m). Al limitare del bosco\, quota di circa 1700 metri\, in ambiente ormai più aperto\, inizia il tratto con maggiore pendenza. Si lascia il sentiero estivo per salire direttamente in direzione Nord verso l’anticima dello Zicher (1967 m). In questo ottimo punto panoramico pranzeremo e osserveremo un tratto del Lago Maggiore. Per la discesa ripercorriamo a ritroso la traccia di salita fino alla chiesetta del Blitz incontriamo alcuni rifugi prima di raggiunger il parcheggio. \n  \nDislivello totale in salita/discesa: gruppo unico 700↑↓ m\, quota massima raggiunta 1967 m. \nDurata complessiva dell’escursione: 5 h (esclusa sosta pranzo). \nPercorso e difficoltà: percorso andata e ritorno con sviluppo di 7km circa. \nEquipaggiamento base: abbigliamento e calzature invernali\, ghette\, racchette da neve\, bastoncini e borraccia. Colazione al sacco. \nL’attrezzatura aggiuntiva obbligatoriamente richiesta è composta da: ARTVA\, pala e sonda. \nCOMUNICARE IN SEGRETERIA\, ALL’ATTO DELL’ISCRIZIONE\, SE IN POSSESSO DI ARTVA\, PALA E SONDA E SE SI DISPONE DI AUTO. \nEventuale utilizzo di ARTVA\, pala e sonda versando un contributo di 10 €. \n  \nL’escursione verrà effettuata con auto proprie \nPunto di ritrovo suggerito per raggiungere il punto di partenza dell’escursione  \nPiazzale Lotto\, di fronte al Lido (MM1 – MM5 Lotto) ore 6.50. Partenza ore 7:00 \nViaggio con auto proprie: Le spese di viaggio verranno suddivise tra i partecipanti \nPunto di partenza dell’escursione: Alpe Blitz (VCO) \n  \nQuota di partecipazione:  \nSoci EDELWEISS o EDELWEISS+CAI 8 € \nSoci CAI 10 € \nPossibilità di partecipazione ai soli soci EDELWEISS pagando un’extra di euro 12\,95 per assicurazione infortuni CAI e soccorso alpino valida solo per il giorno dell’uscita \n(ISCRIZIONI ENTRO IL MERCOLEDI’ PRECEDENTE L’ESCURSIONE) \n  \nModalità d’iscrizione:  \n\nPer e-mail: info@edelweisscai.it\nIn sede il lunedì dalle 17:30 alle 20:00 o il mercoledì dalle 17:30 alle 22:00\nTelefonando al 02 36589745 (negli orari di apertura o via WhatsApp)\nIscrizioni riservate unicamente ai soci CAI. Portare sempre con sé la tessera CAI\n\n  \nPagamenti: preferibili i pagamenti in sede\, possibili anche con POS\, oppure con BB utilizzando il seguente IBAN IT35X0503401693000000003707 inviando una copia della contabile a info@edelweisscai.it. \n  \nRinunce: verrà applicato il regolamento gite in vigore visibile in sede o sul sito internet https://www.edelweisscai.it/regolamenti/\nPer comunicazioni urgenti: cell. 3343934611. \nLa sottosezione Edelweiss declina ogni responsabilità per danni a persone o cose conseguenti a eventuali incidenti durante la gita. \nLa sottosezione Edelweiss declina ogni responsabilità per danni a persone o cose conseguenti a eventuali incidenti durante la gita.\nscarica pdf
URL:https://www.edelweisscai.it/eventi/val-vigezzo-ciaspolata-al-monte-zicher/
CATEGORIES:Escursionismo,Racchette da neve
ATTACH;FMTTYPE=image/jpeg:https://www.edelweisscai.it/wp-content/uploads/2025/01/ziccher-monte-da-blizz_444e.jpg
END:VEVENT
END:VCALENDAR