BEGIN:VCALENDAR
VERSION:2.0
PRODID:-//Edelweiss Cai Milano - ECPv6.15.18//NONSGML v1.0//EN
CALSCALE:GREGORIAN
METHOD:PUBLISH
X-ORIGINAL-URL:https://www.edelweisscai.it
X-WR-CALDESC:Eventi per Edelweiss Cai Milano
REFRESH-INTERVAL;VALUE=DURATION:PT1H
X-Robots-Tag:noindex
X-PUBLISHED-TTL:PT1H
BEGIN:VTIMEZONE
TZID:Europe/Rome
BEGIN:DAYLIGHT
TZOFFSETFROM:+0100
TZOFFSETTO:+0200
TZNAME:CEST
DTSTART:20240331T010000
END:DAYLIGHT
BEGIN:STANDARD
TZOFFSETFROM:+0200
TZOFFSETTO:+0100
TZNAME:CET
DTSTART:20241027T010000
END:STANDARD
BEGIN:DAYLIGHT
TZOFFSETFROM:+0100
TZOFFSETTO:+0200
TZNAME:CEST
DTSTART:20250330T010000
END:DAYLIGHT
BEGIN:STANDARD
TZOFFSETFROM:+0200
TZOFFSETTO:+0100
TZNAME:CET
DTSTART:20251026T010000
END:STANDARD
BEGIN:DAYLIGHT
TZOFFSETFROM:+0100
TZOFFSETTO:+0200
TZNAME:CEST
DTSTART:20260329T010000
END:DAYLIGHT
BEGIN:STANDARD
TZOFFSETFROM:+0200
TZOFFSETTO:+0100
TZNAME:CET
DTSTART:20261025T010000
END:STANDARD
END:VTIMEZONE
BEGIN:VEVENT
DTSTART;VALUE=DATE:20250116
DTEND;VALUE=DATE:20250117
DTSTAMP:20260426T011930
CREATED:20241215T090133Z
LAST-MODIFIED:20250113T233157Z
UID:4657-1736985600-1737071999@www.edelweisscai.it
SUMMARY:Gennaio 2025 - Serate e uscite divulgative sulla frequentazione in sicurezza dell’ambiente innevato
DESCRIPTION:SCARICA IL PDF\nGiovedì 16 gennaio 2025 in sede – h 20:45\nOrganizzazione escursione e metodo 3X3 \nArtva\, pala e sonda: cenni sull’autosoccorso \nAperta a tutti i soci Edelweiss+CAI e CAI\n  \nDomenica 19 gennaio 2025 \nUSCITA PRATICA “SICURI SULLA NEVE 2025” \nPartecipiamo all’iniziativa nazionale promossa dal Soccorso Alpino e dalla sezione CAI FALC di Milano \n(Logistica e località in fase di definizione) \nAperta a tutti i soci Edelweiss+CAI e CAI\n\n\nGiovedì 23 gennaio 2025 in sede – h 20:45\nLa neve dalla formazione alla trasformazione. \nFocus di cartografia e orientamento per l’ambiente innevato. \nAperta a tutti i soci Edelweiss+CAI e CAI\n\n\nSabato 25 gennaio \nUSCITA PRATICA \n(Logistica e località in fase di definizione) \nAperta a tutti i soci Edelweiss+CAI e CAI\n  \nLe serate teoriche sono in sede: Viale Umbria 126. \nNon è necessaria la prenotazione. \nLe uscite pratiche prevedono un numero massimo di partecipanti per ciascuna escursione di 15 persone. \nÈ necessaria la preventiva iscrizione in segreteria. \nDichiarare al momento dell’iscrizione se in possesso di Artva\, pala e sonda. \nPossibilità di affitto di Artva\, pala e sonda al prezzo di 10 euro a giornata \n  \nModalità d’iscrizione: \n\nPer e-mail: info@edelweisscai.it\nIn sede il lunedì dalle 17:30 alle 20:00 o il mercoledì dalle 17:30 alle 22:00\nTelefonando al 02 36589745 (negli orari di apertura o via WhatsApp)\nIscrizioni riservate unicamente ai soci CAI. \n\n  \nPagamenti: preferibili i pagamenti in sede\, possibili anche con POS\, oppure con BB utilizzando il seguente IBAN IT35X0503401693000000003707 inviando una copia della contabile a info@edelweisscai.it. \nRinunce: verrà applicato il regolamento gite in vigore visibile in sede o sul sito internet https://www.edelweisscai.it/regolamenti/.Per comunicazioni urgenti: cell. 3343934611.  \nLa sottosezione Edelweiss declina ogni responsabilità per danni a persone o cose conseguenti a eventuali incidenti durante la gita. \nSCARICA PDF
URL:https://www.edelweisscai.it/eventi/gennaio-2025-serate-e-uscite-divulgative-sulla-frequentazione-in-sicurezza-dellambiente-innevato/
CATEGORIES:Escursionismo,Eventi,Racchette da neve
ATTACH;FMTTYPE=image/jpeg:https://www.edelweisscai.it/wp-content/uploads/2024/12/racchette-da-neve-1440x810-1.jpeg
END:VEVENT
BEGIN:VEVENT
DTSTART;VALUE=DATE:20250119
DTEND;VALUE=DATE:20250120
DTSTAMP:20260426T011930
CREATED:20250109T173121Z
LAST-MODIFIED:20250113T230601Z
UID:4745-1737244800-1737331199@www.edelweisscai.it
SUMMARY:SICURI IN MONTAGNA D'INVERNO 2025
DESCRIPTION:19 gennaio 2025\nMonte Spluga – Lombardia\nNell’ambito del progetto SICURI in MONTAGNA del CNSAS\, Corpo Nazionale del Soccorso\nAlpino e Speleologico\, e dal Club Alpino Italiano parteciperemo alla giornata\nnazionale dedicata alla prevenzione degli incidenti tipici della stagione invernale. L’evento\,\nrinominato da SICURI con la NEVE a SICURI in MONTAGNA d’inverno\, ha come scopo\nprincipale quello di accrescere la consapevolezza dei rischi e dei limiti personali nella\nfrequentazione dell’ambiente montano in ambiente invernale o innevato. Una giornata\ninsolita\, in compagnia e sotto la direzione del Soccorso Alpino e dei titolati della Scuola di\nAlpinismo e Scialpinismo della FALC\, dove avremo modo di provare l’autosoccorso in valanga\ne la gestione delle emergenze in ambiente invernale.\nLa giornata\, ancora in fase di definizione da parte del CNSAS\, prevede diverse “stazioni”\ndove verranno effettuate esercitazioni sulla gestione delle emergenze. Il programma\ncompleto sarà disponibile\, e comunicato agli iscritti\, nel momento della definizione da parte\ndegli organizzatori CNSAS e CAI FALC. \nEquipaggiamento: adeguato abbigliamento ed equipaggiamento da escursionismo\ninvernale\, ARTVA\, pala\, sonda\, ciaspole e bastoncini. Pranzo libero al sacco. In ogni caso è\nconsigliato un thermos con bevande calde. \nCOMUNICARE IN SEGRETERIA\, ALL’ATTO DELL’ISCRIZIONE\, SE IN POSSESSO DI ARTVA\,\nPALA E SONDA E SE SI DISPONE DI AUTO. \nPossibilità avere in uso di Artva\, pala e sonda con un contributo di 10 euro a giornata\nOrari per escursione e modalità viaggio: partenza ore 6.30 (si suggerisce di ritrovarsi\npresso il parcheggio di Piazza Monte Titano (MM2 Lambrate). Viaggio con auto proprie e\ndestinazione\, attualmente prevista\, Monte Spluga (SO).\nQuota di partecipazione : NESSUNO\nLe spese di viaggio verranno suddivise tra i partecipanti. \nModalità d’iscrizione:\n● Per e-mail: info@edelweisscai.it\n● In sede il lunedì dalle 17:30 alle 20:00 o il mercoledì dalle 17:30 alle 22:00\n● Telefonando al 02 36589745 (negli orari di apertura o via WhatsApp) )\n● Iscrizioni riservate unicamente ai soci CAI. Portare sempre con sé la tessera CAI \nRinunce: verrà applicato il regolamento gite in vigore visibile in sede o sul sito internet\nhttps://www.edelweisscai.it/regolamenti/. \nPer comunicazioni urgenti: cell. 3343934611. \nLa sottosezione Edelweiss declina ogni responsabilità per danni a persone o cose conseguenti a eventuali incidenti durante la gita. \nSCARICA PDF
URL:https://www.edelweisscai.it/eventi/sicuri-in-montagna-dinverno-2025/
CATEGORIES:Escursionismo,Racchette da neve
ATTACH;FMTTYPE=image/jpeg:https://www.edelweisscai.it/wp-content/uploads/2025/01/autosoccorso.jpg
END:VEVENT
BEGIN:VEVENT
DTSTART;VALUE=DATE:20250125
DTEND;VALUE=DATE:20250126
DTSTAMP:20260426T011930
CREATED:20250115T233132Z
LAST-MODIFIED:20250116T232239Z
UID:4829-1737763200-1737849599@www.edelweisscai.it
SUMMARY:PASSO DEL MALOJA: Seconda uscita didattica
DESCRIPTION:Sabato 25 gennaio 2025\nPasso del Maloja – Engadina (CH)\nLa seconda giornata informativa sulla sicurezza in ambiente innevato ci porta sulle nevi svizzere\, in particolare al Passo del Maloja (1815 m) dove avremo modo di poter percorrere il sentiero del Cavloc\, facile escursione per raggiungere il Lago di Cavloc (1907 m). \nL’escursione sarà comunque caratterizzata da momenti formativi sull’osservazione del manto nevoso e il continuo confronto tra l’ambiente circostante\, la relativa cartografia e la corretta scelta dell’itinerario. \nLa destinazione potrebbe subire variazioni in base alle condizioni nivometereologiche e di percorribilità delle strade. \n  \nDislivello: 250 m \nDurata escursione: 6 ore compresi i momenti didattici e le pause \nEquipaggiamento: adeguato abbigliamento ed equipaggiamento da escursionismo invernale\, artva\, pala\, sonda\, ciaspole e bastoncini. Pranzo libero al sacco. E’ consigliato un thermos con bevande calde. \nPossibilità avere in uso di artva\, pala e sonda con un contributo di 10 euro a giornata. \nPortare con sé documento valido per l’espatrio. \nCOMUNICARE IN SEGRETERIA\, ALL’ATTO DELL’ISCRIZIONE\, SE IN POSSESSO DI ARTVA\, PALA E SONDA E SE SI DISPONE DI AUTO. \nEventuale utilizzo di ARTVA\, pala e sonda versando un contributo di 10 €. \n  \nL’escursione verrà effettuata con auto proprie  \nOrario e Punto di ritrovo suggerito per raggiungere il punto di partenza dell’escursione: presso il parcheggio di Piazza Monte Titano (MM2 Lambrate).            Ore 6.50. Partenza ore 7:00. \nDestinazione attualmente prevista: Passo del Maloja – Engadina (CH) \n  \nQuote di partecipazione: 8 euro SOCI EDELWEIS+CAI \n10 euro SOCI CAI \nLa quota comprende: assicurazione e le spese di segreteria \nModalità d’iscrizione:\n● Per e-mail: info@edelweisscai.it\n● In sede il lunedì dalle 17:30 alle 20:00 o il mercoledì dalle 17:30 alle 22:00\n● Telefonando al 02 36589745 (negli orari di apertura o via WhatsApp) )\nIscrizioni riservate unicamente ai soci EDELWEISS+CAI e ai SOCI CAI. Portare sempre con sé la tessera CAI \n  \nRinunce: verrà applicato il regolamento gite in vigore visibile in sede o sul sito internet\nhttps://www.edelweisscai.it/regolamenti/ \nPer comunicazioni urgenti: cell. 3343934611. \nLa sottosezione Edelweiss declina ogni responsabilità per danni a persone o cose conseguenti a eventuali incidenti durante la gita. \n  \nSCARICA PDF
URL:https://www.edelweisscai.it/eventi/passo-del-maloja-seconda-uscita-didattica/
CATEGORIES:Escursionismo,Racchette da neve
ATTACH;FMTTYPE=image/jpeg:https://www.edelweisscai.it/wp-content/uploads/2025/01/WW_380_DSC9607_g.jpg
END:VEVENT
END:VCALENDAR