BEGIN:VCALENDAR
VERSION:2.0
PRODID:-//Edelweiss Cai Milano - ECPv6.15.18//NONSGML v1.0//EN
CALSCALE:GREGORIAN
METHOD:PUBLISH
X-ORIGINAL-URL:https://www.edelweisscai.it
X-WR-CALDESC:Eventi per Edelweiss Cai Milano
REFRESH-INTERVAL;VALUE=DURATION:PT1H
X-Robots-Tag:noindex
X-PUBLISHED-TTL:PT1H
BEGIN:VTIMEZONE
TZID:Europe/Rome
BEGIN:DAYLIGHT
TZOFFSETFROM:+0100
TZOFFSETTO:+0200
TZNAME:CEST
DTSTART:20250330T010000
END:DAYLIGHT
BEGIN:STANDARD
TZOFFSETFROM:+0200
TZOFFSETTO:+0100
TZNAME:CET
DTSTART:20251026T010000
END:STANDARD
BEGIN:DAYLIGHT
TZOFFSETFROM:+0100
TZOFFSETTO:+0200
TZNAME:CEST
DTSTART:20260329T010000
END:DAYLIGHT
BEGIN:STANDARD
TZOFFSETFROM:+0200
TZOFFSETTO:+0100
TZNAME:CET
DTSTART:20261025T010000
END:STANDARD
BEGIN:DAYLIGHT
TZOFFSETFROM:+0100
TZOFFSETTO:+0200
TZNAME:CEST
DTSTART:20270328T010000
END:DAYLIGHT
BEGIN:STANDARD
TZOFFSETFROM:+0200
TZOFFSETTO:+0100
TZNAME:CET
DTSTART:20271031T010000
END:STANDARD
END:VTIMEZONE
BEGIN:VEVENT
DTSTART;TZID=Europe/Rome:20260520T204500
DTEND;TZID=Europe/Rome:20260520T220000
DTSTAMP:20260425T145954
CREATED:20260319T075048Z
LAST-MODIFIED:20260319T075048Z
UID:6212-1779309900-1779314400@www.edelweisscai.it
SUMMARY:Rassegna Cinema di Montagna: LA BICICLETTA E IL BADILE (2022)
DESCRIPTION:20.5.2026\nore 20\,45 in sede Edelweiss\nIn viaggio come Hermann Buhl \nIl 6 luglio 1952 Hermann Buhl partì da Innsbruck in bicicletta e in un week-end realizzò la prima salita in solitaria del Pizzo Badile\, la cima più alta della Val Bregaglia\, impiegando 4 ore e 30 minuti. Il lunedì mattina era al lavoro. Quell’impresa fece la storia dell’alpinismo.\nDa lì parte il documentario della rodata coppia registica Valtellina-Panseri\, presenti anche in veste di alpinisti e al tempo stesso ciclisti\, che hanno deciso di ripercorre lo stesso percorso di Buhl sempre in bici e nello stesso tempo\, percorrendo come Buhl la stessa via Cassin\, aperta e inaugurata dal lecchese nel 1937.\nPresente anche Kriemhild Buhl\, figlia di Hermann\, con un ricordo del padre\, primo salitore in solitaria del Nanga Parbat\, fino alla morte sul Chogolisa\, ma anche della madre\, vedova a soli trent’anni con tre figlie piccole da crescere.
URL:https://www.edelweisscai.it/eventi/rassegna-cinema-di-montagna-la-bicicletta-e-il-badile-2022/
CATEGORIES:Culturali,Eventi,Evidenza Home
ATTACH;FMTTYPE=image/jpeg:https://www.edelweisscai.it/wp-content/uploads/2026/03/badile.jpg
END:VEVENT
END:VCALENDAR