BEGIN:VCALENDAR
VERSION:2.0
PRODID:-//Edelweiss Cai Milano - ECPv6.15.18//NONSGML v1.0//EN
CALSCALE:GREGORIAN
METHOD:PUBLISH
X-WR-CALNAME:Edelweiss Cai Milano
X-ORIGINAL-URL:https://www.edelweisscai.it
X-WR-CALDESC:Eventi per Edelweiss Cai Milano
REFRESH-INTERVAL;VALUE=DURATION:PT1H
X-Robots-Tag:noindex
X-PUBLISHED-TTL:PT1H
BEGIN:VTIMEZONE
TZID:Europe/Rome
BEGIN:DAYLIGHT
TZOFFSETFROM:+0100
TZOFFSETTO:+0200
TZNAME:CEST
DTSTART:20250330T010000
END:DAYLIGHT
BEGIN:STANDARD
TZOFFSETFROM:+0200
TZOFFSETTO:+0100
TZNAME:CET
DTSTART:20251026T010000
END:STANDARD
BEGIN:DAYLIGHT
TZOFFSETFROM:+0100
TZOFFSETTO:+0200
TZNAME:CEST
DTSTART:20260329T010000
END:DAYLIGHT
BEGIN:STANDARD
TZOFFSETFROM:+0200
TZOFFSETTO:+0100
TZNAME:CET
DTSTART:20261025T010000
END:STANDARD
BEGIN:DAYLIGHT
TZOFFSETFROM:+0100
TZOFFSETTO:+0200
TZNAME:CEST
DTSTART:20270328T010000
END:DAYLIGHT
BEGIN:STANDARD
TZOFFSETFROM:+0200
TZOFFSETTO:+0100
TZNAME:CET
DTSTART:20271031T010000
END:STANDARD
END:VTIMEZONE
BEGIN:VEVENT
DTSTART;TZID=Europe/Rome:20260325T204500
DTEND;TZID=Europe/Rome:20260325T223000
DTSTAMP:20260425T022115
CREATED:20260319T072717Z
LAST-MODIFIED:20260319T073146Z
UID:6202-1774471500-1774477800@www.edelweisscai.it
SUMMARY:Rassegna Cinema di Montagna: LA GRANDE CONQUISTA (1938)
DESCRIPTION:25 marzo 2026\nore 20\,45 in sede Edelweiss\nIl più famoso film di montagna di Luis Trenker. La storia romanzata della conquista del Cervino nel 1865 e della rivalità tra i due grandi protagonisti di quell’impresa\, Carrel e Whymper\, i quali diedero vita alla prima vera competizione finalizzata alla conquista delle più alte vette delle Alpi. Il film\, girato dal vero nel 1937\, ebbe vasta risonanza di critica e successo di pubblico. \nRegia: Luis Trenker \n 
URL:https://www.edelweisscai.it/eventi/rassegna-cinema-di-montagna-la-grande-conquista-1938/
CATEGORIES:Culturali,Eventi,Evidenza Home
ATTACH;FMTTYPE=image/png:https://www.edelweisscai.it/wp-content/uploads/2026/03/cervino-film.png
END:VEVENT
END:VCALENDAR