BEGIN:VCALENDAR
VERSION:2.0
PRODID:-//Edelweiss Cai Milano - ECPv6.15.18//NONSGML v1.0//EN
CALSCALE:GREGORIAN
METHOD:PUBLISH
X-WR-CALNAME:Edelweiss Cai Milano
X-ORIGINAL-URL:https://www.edelweisscai.it
X-WR-CALDESC:Eventi per Edelweiss Cai Milano
REFRESH-INTERVAL;VALUE=DURATION:PT1H
X-Robots-Tag:noindex
X-PUBLISHED-TTL:PT1H
BEGIN:VTIMEZONE
TZID:Europe/Rome
BEGIN:DAYLIGHT
TZOFFSETFROM:+0100
TZOFFSETTO:+0200
TZNAME:CEST
DTSTART:20240331T010000
END:DAYLIGHT
BEGIN:STANDARD
TZOFFSETFROM:+0200
TZOFFSETTO:+0100
TZNAME:CET
DTSTART:20241027T010000
END:STANDARD
BEGIN:DAYLIGHT
TZOFFSETFROM:+0100
TZOFFSETTO:+0200
TZNAME:CEST
DTSTART:20250330T010000
END:DAYLIGHT
BEGIN:STANDARD
TZOFFSETFROM:+0200
TZOFFSETTO:+0100
TZNAME:CET
DTSTART:20251026T010000
END:STANDARD
BEGIN:DAYLIGHT
TZOFFSETFROM:+0100
TZOFFSETTO:+0200
TZNAME:CEST
DTSTART:20260329T010000
END:DAYLIGHT
BEGIN:STANDARD
TZOFFSETFROM:+0200
TZOFFSETTO:+0100
TZNAME:CET
DTSTART:20261025T010000
END:STANDARD
END:VTIMEZONE
BEGIN:VEVENT
DTSTART;VALUE=DATE:20250408
DTEND;VALUE=DATE:20250409
DTSTAMP:20260425T210231
CREATED:20250315T224924Z
LAST-MODIFIED:20250322T122952Z
UID:5109-1744070400-1744156799@www.edelweisscai.it
SUMMARY:Sentieri Urbani percorsi d'arte a.....Milano - MOSTRA ART DECO'
DESCRIPTION:8 aprile 2025\nUna grande mostra per celebrare lo “Stile 1925” o Art Déco a 100 anni da l’Exposition Internationale des Arts Décoratifs et Industriels Modernes di Parigi\, l’evento che segnò l’affermazione di un gusto innovativo diffusosi in Europa nel primo dopoguerra. \nUn gusto elegante\, raffinato\, dalle forme geometriche e dalle linee pulite e simmetriche che permea ogni campo artistico: dall’architettura al design d’interni\, dalla moda alla gioielleria\, fino alle arti visive. Uno stile che muove dal Liberty e dall’ispirazione alla natura tradotta con una moderna stilizzazione. \nDi sala in sala\, in un percorso di circa 250 opere fra vetri\, porcellane\, maioliche\, dipinti\, sculture decorative\, disegni\, tessuti\, arredi\, abiti haute couture\, accessori\, gioielli\, vetrate e mosaici\, frame cinematografici e fotografie storiche\, sarà come tuffarsi nei “folli Anni Venti”.\nSarà come vivere il clima e le atmosfere di un’epoca irripetibile e affascinante\, di una società che si lasciava alle spalle la tragedia della grande guerra\, ignara di ben altre tragedie che si sarebbero manifestate. \nLUOGO D’INCONTRO: Piazza del Duomo 12 all’ingresso di Palazzo Reale alle ore 15.15. La visita inizierà alle ore 15.30 \nQuota di partecipazione: Euro 26 a persona.. \nLa quota comprende: visita guidata di 1:30 ore circa con guida turistica laureata in storia dell’arte e microfonaggio. \nAtt.:  l’auricolare non è incluso\, preghiamo pertanto i partecipanti di portare il proprio con attacco “Jack” diversamente lo si dovrà acquistare in mostra. \nNumero minimo di partecipanti 10\, massimo 25. \nIscrizioni: entro il 26. 03.25 riservate ai soci G.S.A. Edelweiss\, in sede il lunedì dalle 17:30 alle 20:00\, il mercoledì dalle 17:30 alle 22:00 oppure telefonando negli orari di segreteria tel. 0236589745 o con email a INFO@EDELWEISSCAI.IT \nL’iscrizione sará confermata al pagamento della quota di partecipazione che dovrá pervenire entro il 26.3.25 che potrá essere fatta in sede oppure con BB utilizzando il seguente \nIBAN: IT35X0503401693000000003707 Art Dèco \nIN CASO DI MANCATA PARTECIPAZIONE LA QUOTA NON POTRA’ ESSERE RIMBORSATA \nSCARICA IL PDF
URL:https://www.edelweisscai.it/eventi/sentieri-urbani-percorsi-darte-a-milano-mostra-art-deco/
CATEGORIES:Culturali,Eventi
ATTACH;FMTTYPE=image/jpeg:https://www.edelweisscai.it/wp-content/uploads/2025/03/art-deco.jpg
END:VEVENT
END:VCALENDAR