BEGIN:VCALENDAR
VERSION:2.0
PRODID:-//Edelweiss Cai Milano - ECPv6.15.18//NONSGML v1.0//EN
CALSCALE:GREGORIAN
METHOD:PUBLISH
X-ORIGINAL-URL:https://www.edelweisscai.it
X-WR-CALDESC:Eventi per Edelweiss Cai Milano
REFRESH-INTERVAL;VALUE=DURATION:PT1H
X-Robots-Tag:noindex
X-PUBLISHED-TTL:PT1H
BEGIN:VTIMEZONE
TZID:Europe/Rome
BEGIN:DAYLIGHT
TZOFFSETFROM:+0100
TZOFFSETTO:+0200
TZNAME:CEST
DTSTART:20230326T010000
END:DAYLIGHT
BEGIN:STANDARD
TZOFFSETFROM:+0200
TZOFFSETTO:+0100
TZNAME:CET
DTSTART:20231029T010000
END:STANDARD
BEGIN:DAYLIGHT
TZOFFSETFROM:+0100
TZOFFSETTO:+0200
TZNAME:CEST
DTSTART:20240331T010000
END:DAYLIGHT
BEGIN:STANDARD
TZOFFSETFROM:+0200
TZOFFSETTO:+0100
TZNAME:CET
DTSTART:20241027T010000
END:STANDARD
BEGIN:DAYLIGHT
TZOFFSETFROM:+0100
TZOFFSETTO:+0200
TZNAME:CEST
DTSTART:20250330T010000
END:DAYLIGHT
BEGIN:STANDARD
TZOFFSETFROM:+0200
TZOFFSETTO:+0100
TZNAME:CET
DTSTART:20251026T010000
END:STANDARD
END:VTIMEZONE
BEGIN:VEVENT
DTSTART;VALUE=DATE:20241212
DTEND;VALUE=DATE:20241213
DTSTAMP:20260426T040102
CREATED:20240927T173249Z
LAST-MODIFIED:20241111T215403Z
UID:4307-1733961600-1734047999@www.edelweisscai.it
SUMMARY:Sentieri urbani...percorsi d'arte Mostra EDWARD MUNCH IL GRIDO INTERIORE
DESCRIPTION:12 DICEMBRE 2024\n“Non dipingerò più interni con uomini che leggono e donne che ricamano. Dipingerò la vita di persone che respirano\, sentono\, soffrono e amano.” E. Munch \nIn queste parole l’essenza dell’arte di Edvard Munch\, il voler esprimere le profonde emozioni interiori\, spesso segnate da inquietudine e angoscia che sono le sue e\, più in generale\, quelle dell’esistenza dell’uomo. \nAttraverso 100 opere\, prestate eccezionalmente dal Munch Museum di Oslo\, ed esposte a Palazzo Reale\, percorreremo la sua vita\, il suo cammino segnato da grandi dolori che lo hanno trascinato ai limiti della follia: la perdita prematura della madre e della sorella\, la tragica morte del padre\, la tormentata relazione con la fidanzata Tulla Larsen… \nMunch è l’artista che ha aperto la via all’Espressissimo e le sue tele \ngridano la sua sofferenza… i volti senza sguardo\, i paesaggi stralunati\, l’uso potente del colore sono messaggi universali del malessere esistenziale che affligge ogni essere umano. \nIn questo sta la grandezza che ha reso Munch uno degli artisti più iconici del Novecento. \nLuogo d’incontro: Atrio Palazzo Reale alle ore 14:30. La visita inizierà alle ore 14.45. \nQuota di partecipazione: Euro 27\,00 \nLa quota comprende: visita guidata di 1:30 circa con guida turistica laureata in storia dell’arte\, biglietto d’ingresso\, microfonaggio e spese di organizzazione. \nN.B.: in mostra vengono fornite le radio ma non gli auricolari\, è pertanto necessario portare i propri con cavo minijack 3\,5 mm. Diversamente si devono acquistare in mostra al costo di € 1\,00 cadauno: \n Numero minimo di partecipanti 10\, massimo 25. \nIscrizioni: entro il 28.11.24 riservate ai soci G.S.A. Edelweiss\, in sede il lunedì dalle 17:30 alle 20:00\, il mercoledì dalle 17:30 alle 22:00 oppure telefonando negli orari di segreteria tel. 0236589745 o con email a INFO@EDELWEISSCAI.IT \nL’iscrizione sará confermata al pagamento della quota di partecipazione che dovrá pervenire entro IL 6.12.24 che potrá essere fatta in sede oppure con BB utilizzando il seguente IBAN: IT35X0503401693000000003707 Munch 12.12.24 \nIN CASO DI MANCATA PARTECIPAZIONE LA QUOTA NON POTRA’ ESSERE RIMBORSATA \nSCARICA IL PDF
URL:https://www.edelweisscai.it/eventi/sentieri-urbani-percorsi-darte-mostra-edward-munch-il-grido-interiore/
CATEGORIES:Culturali
ATTACH;FMTTYPE=image/jpeg:https://www.edelweisscai.it/wp-content/uploads/2024/09/MUNCH.jpg
END:VEVENT
END:VCALENDAR