BEGIN:VCALENDAR
VERSION:2.0
PRODID:-//Edelweiss Cai Milano - ECPv6.15.18//NONSGML v1.0//EN
CALSCALE:GREGORIAN
METHOD:PUBLISH
X-ORIGINAL-URL:https://www.edelweisscai.it
X-WR-CALDESC:Eventi per Edelweiss Cai Milano
REFRESH-INTERVAL;VALUE=DURATION:PT1H
X-Robots-Tag:noindex
X-PUBLISHED-TTL:PT1H
BEGIN:VTIMEZONE
TZID:Europe/Rome
BEGIN:DAYLIGHT
TZOFFSETFROM:+0100
TZOFFSETTO:+0200
TZNAME:CEST
DTSTART:20230326T010000
END:DAYLIGHT
BEGIN:STANDARD
TZOFFSETFROM:+0200
TZOFFSETTO:+0100
TZNAME:CET
DTSTART:20231029T010000
END:STANDARD
BEGIN:DAYLIGHT
TZOFFSETFROM:+0100
TZOFFSETTO:+0200
TZNAME:CEST
DTSTART:20240331T010000
END:DAYLIGHT
BEGIN:STANDARD
TZOFFSETFROM:+0200
TZOFFSETTO:+0100
TZNAME:CET
DTSTART:20241027T010000
END:STANDARD
BEGIN:DAYLIGHT
TZOFFSETFROM:+0100
TZOFFSETTO:+0200
TZNAME:CEST
DTSTART:20250330T010000
END:DAYLIGHT
BEGIN:STANDARD
TZOFFSETFROM:+0200
TZOFFSETTO:+0100
TZNAME:CET
DTSTART:20251026T010000
END:STANDARD
END:VTIMEZONE
BEGIN:VEVENT
DTSTART;VALUE=DATE:20241207
DTEND;VALUE=DATE:20241208
DTSTAMP:20260426T040103
CREATED:20241127T172355Z
LAST-MODIFIED:20241129T154140Z
UID:4586-1733529600-1733615999@www.edelweisscai.it
SUMMARY:PRIMA DIFFUSA DEL TEATRO ALLA SCALA IN EDELWEISS
DESCRIPTION:7.12.24 – Ore 18\,00\nLa forza del destino – Di G. Verdi\nCari Soci\, \nè con piacere che vi informiamo che la nostra sede è stata scelta\, nell’ambito del Municipio 4\,  come sede della Prima Diffusa\, della serata inaugurale della stagione del Teatro alla Scala\, organizzata dal Comune di Milano e Edison. \nSarà pertanto possibile assistere alla visione dell’opera sul grande schermo posto nel nostro salone. \nIngresso libero: sino ad esaurimento dei posti disponibili \nÈ consigliata la prenotazione via email info@edelweisscai.it \nL’evento è aperto anche ai non soci \n  \nLa forza del destino è un’opera di Giuseppe Verdi\, basata su un dramma spagnolo di Ángel de Saavedra\, è incentrata su un destino inesorabile che travolge i protagonisti. \nL’opera inizia con la storia d’amore tra Leonora e Don Alvaro\, un giovane di origini nobili e sconosciute. Quando Don Alvaro accidentalmente uccide il padre di Leonora\, il Marchese di Calatrava\, mentre cerca di fuggire con lei\, si scatena una serie di eventi tragici. Don Carlo\, fratello di Leonora\, giura vendetta contro Don Alvaro per la morte del padre. Nel corso dell’opera\, Don Alvaro e Don Carlo si incontrano e si scontrano ripetutamente \nAlla fine\, il destino inesorabile si compie: Don Carlo scopre il nascondiglio di Leonora e\, durante il duello con Don Alvaro\, viene ferito mortalmente. Leonora viene anch’essa ferita e muore tra le braccia di Don Alvaro\, che disperato invoca la pace eterna. \nL’opera esplora temi di destino\, vendetta e redenzione\, con una musica potente e drammatica che riflette le emozioni intense dei personaggi. \nIn scena un cast che vanta nomi noti ed amati\, con Anna Netrebko nel ruolo di Leonora\, Ludovic Tézier come Don Carlo e Brian Jagde nel ruolo di Don Alvaro. \nOrchestra e coro          Teatro alla Scala \nDirettore                           Riccardo Chailly \nRegia                                  Leo Muscato \nScene                                Federica Parolini \nCostumi                           Silvia Aymonino \nLuci                                    Alessandro Verazzi \nRiccardo Chailly inaugura la Stagione 2024/2025 con una nuova produzione de La forza del destino\, il suo nono titolo verdiano alla Scala\, con la regia di Leo Muscato e\, ancora una volta\, una distribuzione di straordinario prestigio. \n Durata spettacolo 3 ore e 47 minuti circa inclusi intervalli \nPRIMO e SECONDO ATTO 80’ \nIntervallo 25’ \nTERZO ATTO 60’ \nIntervallo 25’ \nQUARTO ATTO 37’ \nFine \n  \n  \n 
URL:https://www.edelweisscai.it/eventi/prima-diffusa-del-teatro-alla-scala-in-edelweiss/
CATEGORIES:Culturali,Evidenza Home
ATTACH;FMTTYPE=image/jpeg:https://www.edelweisscai.it/wp-content/uploads/2024/11/prima-diffusa.jpg
END:VEVENT
END:VCALENDAR