BEGIN:VCALENDAR
VERSION:2.0
PRODID:-//Edelweiss Cai Milano - ECPv6.15.18//NONSGML v1.0//EN
CALSCALE:GREGORIAN
METHOD:PUBLISH
X-WR-CALNAME:Edelweiss Cai Milano
X-ORIGINAL-URL:https://www.edelweisscai.it
X-WR-CALDESC:Eventi per Edelweiss Cai Milano
REFRESH-INTERVAL;VALUE=DURATION:PT1H
X-Robots-Tag:noindex
X-PUBLISHED-TTL:PT1H
BEGIN:VTIMEZONE
TZID:Europe/Rome
BEGIN:DAYLIGHT
TZOFFSETFROM:+0100
TZOFFSETTO:+0200
TZNAME:CEST
DTSTART:20250330T010000
END:DAYLIGHT
BEGIN:STANDARD
TZOFFSETFROM:+0200
TZOFFSETTO:+0100
TZNAME:CET
DTSTART:20251026T010000
END:STANDARD
BEGIN:DAYLIGHT
TZOFFSETFROM:+0100
TZOFFSETTO:+0200
TZNAME:CEST
DTSTART:20260329T010000
END:DAYLIGHT
BEGIN:STANDARD
TZOFFSETFROM:+0200
TZOFFSETTO:+0100
TZNAME:CET
DTSTART:20261025T010000
END:STANDARD
BEGIN:DAYLIGHT
TZOFFSETFROM:+0100
TZOFFSETTO:+0200
TZNAME:CEST
DTSTART:20270328T010000
END:DAYLIGHT
BEGIN:STANDARD
TZOFFSETFROM:+0200
TZOFFSETTO:+0100
TZNAME:CET
DTSTART:20271031T010000
END:STANDARD
END:VTIMEZONE
BEGIN:VEVENT
DTSTART;TZID=Europe/Rome:20260212T143000
DTEND;TZID=Europe/Rome:20260212T170000
DTSTAMP:20260424T225609
CREATED:20260116T144836Z
LAST-MODIFIED:20260116T144836Z
UID:5984-1770906600-1770915600@www.edelweisscai.it
SUMMARY:Sentieri Urbani ....percorsi d'arte a Milano - PALAZZO CITTERIO
DESCRIPTION:scarica il pdf\nPalazzo Citterio: la grande Brera e le collezioni del novecento \nGiovedì 12 febbraio 2026 \nRecentemente aperto al pubblico PALAZZO CITTERIO rappresenta la tappa finale della Grande Brera: un progetto visionario che risale agli Anni ’70 grazie agli illuminati soprintendenti Gian Alberto Dell’Acqua e Franco Russoli. \nLa sede è un nobile palazzo del Settecento\, nelle cui sale\, che in parte conservano ancora tracce di decorazioni antiche\, sono esposti dipinti e sculture soprattutto del XX secolo\, con una introduzione di fine Ottocento con Fiumana di Pellizza da Volpedo\, Previati\, Boldini. \nSeguono\, la Collezione Jesi\, cuore del museo\, che esplora le tendenze più significative delle correnti artistiche del Novecento\, da Boccioni a Modigliani\, da Morandi a Picasso\, Carrà\, De Pisis\, e l’eterogenea collezione del critico e studioso Lamberto Vitali\, fatta di oggetti antichi e moderni: vasi egizi\, monili micenei\, mosaici medievali\, dipinti … \nAccanto a questi ricchi nuclei\, alcune chicche come gli Autoritratti minimi di grandi artisti del Novecento appartenuta allo scrittore\, sceneggiatore e artista\, Cesare Zavattini e le 23 Fantasie di Mario Mafai\, visionaria serie di figurazioni di violenta e grottesca denuncia degli orrori della guerra: un passato che è ancora così drammaticamente attuale! \nLUOGO D’INCONTRO: Via Brera 14\, davanti a Palazzo Citterio alle ore 14:45. L’ingresso avrà luogo alle ore 15:00. \nQuota di partecipazione: Euro 26\,00 a persona ridotto a € 14\,00 per per gli abbonati Musei Lombardia.  \nLa quota comprende: visita guidata di 2:00 ore circa con guida turistica laureata in storia dell’arte e microfonaggio. E’ consigliato utilizzare un proprio auricolare con cavo minijack  3\,5 mm.  \nNumero minimo di partecipanti 12\, massimo 14. \nIscrizioni: entro il  1 febbraio 2026 riservate ai soci G.S.A. Edelweiss\, in sede il lunedì dalle 17:00 alle 20:00\, il mercoledì dalle 17:00 alle 21:30 oppure telefonando negli orari di segreteria tel. 0236589745 o con email a INFO@EDELWEISSCAI.IT \nL’iscrizione sará confermata al pagamento della quota di partecipazione che dovrá pervenire entro il 1.2.2026 che potrá essere fatto in sede oppure con BB utilizzando il seguente \nIBAN: IT35X0503401693000000003707 Palazzo Citterio \nCONTO INTESTATO A G.S.A. EDELWEISS A.P.S. SOTTOSEZIONE CAI Milano \nIN CASO DI MANCATA PARTECIPAZIONE LA QUOTA NON POTRA’ ESSERE RIMBORSATA
URL:https://www.edelweisscai.it/eventi/sentieri-urbani-percorsi-darte-a-milano-palazzo-citterio/
CATEGORIES:Culturali,Eventi
ATTACH;FMTTYPE=image/jpeg:https://www.edelweisscai.it/wp-content/uploads/2026/01/palazzo-citterio.jpg
END:VEVENT
BEGIN:VEVENT
DTSTART;TZID=Europe/Rome:20260225T203000
DTEND;TZID=Europe/Rome:20260225T220000
DTSTAMP:20260424T225609
CREATED:20260116T145610Z
LAST-MODIFIED:20260206T234436Z
UID:5988-1772051400-1772056800@www.edelweisscai.it
SUMMARY:SERATE IN SEDE….. con i film della Cineteca CAI - TRA LE DUE GUERRE - Un alpinismo servo del potere?
DESCRIPTION:Serate organizzate dalla Biblioteca dell’Edelweiss con lo scopo di invitare alla lettura e di promozione culturale nel quartiere \n 25 febbraio 2026 \nOre 20\,45 in sede Edelweiss \nTRA LE DUE GUERRE\nUn alpinismo servo del potere? \nTra gli anni ’30 e la guerra\, l’alpinismo europeo non è solo sport: diventa linguaggio pubblico\, terreno di prestigio nazionale e\, spesso\, materiale perfetto per la propaganda. I regimi (non solo in Italia) cercano nell’“uomo di vetta” un modello di disciplina\, virilità\, obbedienza e conquista: lo sport\, in quell’epoca\, viene pensato anche come “funzione di Stato” e le istituzioni alpine non restano impermeabili.\nDentro questo quadro\, le scelte individuali non sono mai tutte uguali: c’è chi aderisce con convinzione\, chi “sta al gioco” per poter scalare\, ottenere mezzi\, visibilità e libertà di movimento\, e chi invece matura un dissenso che diventa azione. \nLe immagini e i racconti che vedremo (Comici\, Cassin\, Mary Varale\, Castiglioni) permettono di porci qualche domanda su libertà\, ribellione e anticonformismo.\n4 febbraio 2026                                                                               25 febbraio 2026\nEmilio comici in arrampicata   (23’)                                       Oltre il confine: la storia  di Ettore Castiglio (66′)                  \nIl primo amore non si scorda mai (15’)                            \nCon le spalle nel vuoto. Vita di Mary Varale (30’) \n 
URL:https://www.edelweisscai.it/eventi/serate-in-sede-con-i-film-della-cineteca-cai-tra-le-due-guerre-un-alpinismo-servo-del-potere/
CATEGORIES:Culturali,Eventi,Evidenza Home
ATTACH;FMTTYPE=image/jpeg:https://www.edelweisscai.it/wp-content/uploads/2026/01/biblio-tra-le-due-guerre.jpg
END:VEVENT
END:VCALENDAR