BEGIN:VCALENDAR
VERSION:2.0
PRODID:-//Edelweiss Cai Milano - ECPv6.15.18//NONSGML v1.0//EN
CALSCALE:GREGORIAN
METHOD:PUBLISH
X-WR-CALNAME:Edelweiss Cai Milano
X-ORIGINAL-URL:https://www.edelweisscai.it
X-WR-CALDESC:Eventi per Edelweiss Cai Milano
REFRESH-INTERVAL;VALUE=DURATION:PT1H
X-Robots-Tag:noindex
X-PUBLISHED-TTL:PT1H
BEGIN:VTIMEZONE
TZID:Europe/Rome
BEGIN:DAYLIGHT
TZOFFSETFROM:+0100
TZOFFSETTO:+0200
TZNAME:CEST
DTSTART:20240331T010000
END:DAYLIGHT
BEGIN:STANDARD
TZOFFSETFROM:+0200
TZOFFSETTO:+0100
TZNAME:CET
DTSTART:20241027T010000
END:STANDARD
BEGIN:DAYLIGHT
TZOFFSETFROM:+0100
TZOFFSETTO:+0200
TZNAME:CEST
DTSTART:20250330T010000
END:DAYLIGHT
BEGIN:STANDARD
TZOFFSETFROM:+0200
TZOFFSETTO:+0100
TZNAME:CET
DTSTART:20251026T010000
END:STANDARD
BEGIN:DAYLIGHT
TZOFFSETFROM:+0100
TZOFFSETTO:+0200
TZNAME:CEST
DTSTART:20260329T010000
END:DAYLIGHT
BEGIN:STANDARD
TZOFFSETFROM:+0200
TZOFFSETTO:+0100
TZNAME:CET
DTSTART:20261025T010000
END:STANDARD
END:VTIMEZONE
BEGIN:VEVENT
DTSTART;TZID=Europe/Rome:20251211T143000
DTEND;TZID=Europe/Rome:20251211T161500
DTSTAMP:20260425T034439
CREATED:20251121T173921Z
LAST-MODIFIED:20251205T130211Z
UID:5722-1765463400-1765469700@www.edelweisscai.it
SUMMARY:Sentieri....urbani a Milano - Mostra Pelizza da Volpedo
DESCRIPTION:SCARICA PDF\n11 Dicembre 2025\nNon è più tempo di fare dell’arte per l’arte\, ma dell’arte per la società. \n          Giuseppe Pellizza da Volpedo \n Una dichiarazione di intenti che rappresenta la consapevolezza da parte degli artisti della necessità di essere partecipi\, non semplici spettatori\, dei grandi cambiamenti della società di fine Ottocento. Giuseppe Pellizza da Volpedo\, toccato dai movimenti di protesta\, dai rivolgimenti sociali nelle città\, come nelle campagne\, è uno dei primi che con la sua opera racconta e denuncia. Il Quarto Stato\, opera sofferta portata a termine dopo dieci anni\, preceduta da Ambasciatori della fame e da Fiumana\, ne è l’icona più celebre e potente. Nella mostra retrospettiva alla GAM dedicata a Pellizza si parlerà di questo\, ma anche della vita e del percorso artistico di un pittore partito dalla campagna di Volpedo\, giunto a Milano per studiare all’Accademia di Brera\, approdato a Roma e a Firenze per completare la propria formazione. Pellizza abbracciò da subito la tematica verista\, dapprima dipingendo con colori pastosi e a macchie\, per poi votarsi alla nuova tecnica divisionista con la quale ottenere particolari effetti di luce\, perfettamente rispondenti alla temperie simbolista di fine secolo. Dopo varie esperienze\, viaggi\, incontri\, successi e delusioni\, concluse tragicamente il suo cammino nel 1907 togliendosi la vita nel suo studio di Volpedo\, non ancora quarantenne.  \nLUOGO D’INCONTRO: ingresso GAM c/o Villa Belgiojoso Bonaparte in via Palestro\, 16 alle ore 14:30 La visita inizierà alle ore 14:45. \nQuota di partecipazione: Euro 26 a persona.  \nLa quota comprende: visita guidata di 2:00 ore circa con guida turistica laureata in storia dell’arte\, biglietto d’ingresso e microfonaggio.  E’consigliabile utilizzare un proprio auricolare con cavo minijack 3\,5 mm. \nN.B. Il biglietto della mostra non dà accesso alla GAM\, ma solo alla sala del Quarto Stato \nNumero minimo di partecipanti 12\, massimo 25. \nIscrizioni: entro l’ 2.12.25 riservate ai soci G.S.A. Edelweiss e CAI  in sede il lunedì dalle 17:30 alle 20:00\, il mercoledì dalle 17:30 alle 22:00 oppure telefonando negli orari di segreteria tel. 0236589745 o con email a INFO@EDELWEISSCAI.IT \nL’iscrizione sará confermata al pagamento della quota di partecipazione che dovrá pervenire entro il giorno \n2 Dicembre 2025 \nche potrá essere effettuato in sede oppure con BB utilizzando il seguente \nIBAN: IT35X0503401693000000003707 Pelizza da Volpedo. \nConto intestato a G.S.A. EDELWEISS A.P.S. SOTTOSEZIONE CAI MILANO \nIN CASO DI MANCATA PARTECIPAZIONE LA QUOTA NON POTRA’ ESSERE RIMBORSATA
URL:https://www.edelweisscai.it/eventi/sentieri-urbani-a-milano-mostra-pelizza-da-volpedo/
CATEGORIES:Culturali
ATTACH;FMTTYPE=image/jpeg:https://www.edelweisscai.it/wp-content/uploads/2025/11/pelizza-volpedo.jpg
END:VEVENT
END:VCALENDAR