BEGIN:VCALENDAR
VERSION:2.0
PRODID:-//Edelweiss Cai Milano - ECPv6.15.18//NONSGML v1.0//EN
CALSCALE:GREGORIAN
METHOD:PUBLISH
X-ORIGINAL-URL:https://www.edelweisscai.it
X-WR-CALDESC:Eventi per Edelweiss Cai Milano
REFRESH-INTERVAL;VALUE=DURATION:PT1H
X-Robots-Tag:noindex
X-PUBLISHED-TTL:PT1H
BEGIN:VTIMEZONE
TZID:Europe/Rome
BEGIN:DAYLIGHT
TZOFFSETFROM:+0100
TZOFFSETTO:+0200
TZNAME:CEST
DTSTART:20240331T010000
END:DAYLIGHT
BEGIN:STANDARD
TZOFFSETFROM:+0200
TZOFFSETTO:+0100
TZNAME:CET
DTSTART:20241027T010000
END:STANDARD
BEGIN:DAYLIGHT
TZOFFSETFROM:+0100
TZOFFSETTO:+0200
TZNAME:CEST
DTSTART:20250330T010000
END:DAYLIGHT
BEGIN:STANDARD
TZOFFSETFROM:+0200
TZOFFSETTO:+0100
TZNAME:CET
DTSTART:20251026T010000
END:STANDARD
BEGIN:DAYLIGHT
TZOFFSETFROM:+0100
TZOFFSETTO:+0200
TZNAME:CEST
DTSTART:20260329T010000
END:DAYLIGHT
BEGIN:STANDARD
TZOFFSETFROM:+0200
TZOFFSETTO:+0100
TZNAME:CET
DTSTART:20261025T010000
END:STANDARD
END:VTIMEZONE
BEGIN:VEVENT
DTSTART;VALUE=DATE:20251106
DTEND;VALUE=DATE:20251107
DTSTAMP:20260425T062841
CREATED:20250925T221512Z
LAST-MODIFIED:20251102T172035Z
UID:5582-1762387200-1762473599@www.edelweisscai.it
SUMMARY:Sentieri urbani : VILLA NECCHI CAMPIGLI
DESCRIPTION:6.11.25\nVilla Necchi Campiglio\, donata al FAI dalle sorelle Necchi\, fu costruita negli Anni Trenta ed è un prototipo dell’abitare della buona borghesia imprenditoriale di primo Novecento. Già di per sé costruire una villa\, tipologia architettonica prettamente legata alla natura\, in città è qualcosa di eccezionale\, come eccezionale è l’architetto che l’ha progettata e costruita\, Piero Portaluppi su richiesta delle sorelle Nedda e Gigina Necchi e di Antonio Campiglio\, marito di quest’ultima. Eccezionale anche la disponibilità economica messa in campo\,  Portaluppi ha infatti realizzato una sobria e misurata architettura all’esterno di impronta razionalista\, che cela la sontuosità e ricercatezza nei suoi grandi spazi interni\, il tutto immerso in un lussureggiante giardino dotato di campo da tennis e piscina. \nLUOGO D’INCONTRO: via Mozart 14 all’ingresso della villa alle ore 14:45 La visita inizierà alle ore 15:00 \nQuota di partecipazione:      Euro 28 a persona ridotta ad Euro 13 per i soci FAI. \nLa quota comprende: visita guidata di 2:00 ore circa con guida turistica laureata in storia dell’arte\, biglietto d’ingresso e microfonaggio.  E’possibile utilizzare un proprio auricolare con cavo minijack 3\,5 mm. \nNumero minimo di partecipanti 12\, massimo 15. \nIscrizioni: entro il 22.10.25 riservate ai soci G.S.A. Edelweiss e CAI \, in sede il lunedì dalle 17:30 alle 20:00\, il mercoledì dalle 17:30 alle 22:00 oppure telefonando negli orari di segreteria tel. 0236589745 o con email a info@edelweisscai.it \nL’iscrizione sará confermata al pagamento della quota di partecipazione che dovrá essere versata  entro il 22.10.25 in sede oppure con BB utilizzando il seguente  IBAN: IT35X0503401693000000003707     Causale Villa Necchi. \n IN CASO DI MANCATA PARTECIPAZIONE LA QUOTA NON POTRA’ ESSERE RIMBORSATA \nSCARICA PDF
URL:https://www.edelweisscai.it/eventi/sentieri-urbani-villa-necchi-campigli/
CATEGORIES:Culturali
ATTACH;FMTTYPE=image/jpeg:https://www.edelweisscai.it/wp-content/uploads/2025/09/Villa-necchi-campiglio.jpg
END:VEVENT
BEGIN:VEVENT
DTSTART;TZID=Europe/Rome:20251117T204500
DTEND;TZID=Europe/Rome:20251117T220000
DTSTAMP:20260425T062841
CREATED:20250924T070531Z
LAST-MODIFIED:20251113T222806Z
UID:5557-1763412300-1763416800@www.edelweisscai.it
SUMMARY:Serata in sede: BASILICATA COAST TO COAST
DESCRIPTION:    Lunedì 17 novembre 2025 alle ore 20\,45 \nla sezione CAI Lagonegro presenterà: \nL’omonimo e celebre film di Rocco Papaleo del 2010 ha ispirato un itinerario\, percorribile a piedi o in bicicletta\, che attraversa la Lucania da una costa all’altra\, dalle spiagge sassose di Maratea sul mar Tirreno fino a quelle sabbiose di Nova Siri sulla costa ionica\, attraversando luoghi di grande bellezza naturalistica e paesaggistica\, primo fra tutti il Parco Nazionale del Pollino. \nEdelweiss è lieta di ospitare Vincenzo Gulfo\, Presidente Cai di Lagonegro e Pompeo Limongi\, Responsabile Progetto Percorso Basilicata Coast to Coast\, che ci illustreranno il progetto da poco diventato una realtà. \nAl termine della serata seguirà una degustazione di prodotti lucani. \nLUOGO D’INCONTRO: G.S.A. Edelweiss Cai Milano\, viale Umbria 126 alle ore 20.45 \nISCRIZIONI: entro il 16 novembre 2025 riservate ai soci G.S.A. Edelweiss\, in sede il lunedì dalle 17:30 alle 20:00\, il mercoledì dalle 17:30 alle 22:00 oppure telefonando negli orari di segreteria tel. 0236589745 o con email a INFO@EDELWEISSCAI.IT \n  \nscarica pdf\n  \n 
URL:https://www.edelweisscai.it/eventi/serata-in-sede-basilicata-coast-to-coast/
CATEGORIES:Culturali
ATTACH;FMTTYPE=image/jpeg:https://www.edelweisscai.it/wp-content/uploads/2025/09/COAST-TO-COAST.jpg
END:VEVENT
BEGIN:VEVENT
DTSTART;TZID=Europe/Rome:20251127T151500
DTEND;TZID=Europe/Rome:20251127T170000
DTSTAMP:20260425T062841
CREATED:20251102T180411Z
LAST-MODIFIED:20251121T143822Z
UID:5674-1764256500-1764262800@www.edelweisscai.it
SUMMARY:Sentieri Urbani: ARMANI PRIVE’ 2005-2025 - Vent'anni di alta moda
DESCRIPTION:SCARICA IL PDF \n“L’Alta Moda rappresenta il sogno\, l’espressione della creatività e dell’immaginazione più pure” (G. Armani) \nCon queste parole si apre\, presso l’Armani Silos\, la nuova esposizione di meravigliosi abiti di uno degli stilisti più apprezzati al mondo: Giorgio Armani Privé 2005-2025. Vent’anni di Alta Moda.\nPresentata per la prima volta nel 2005 a Parigi\, capitale della haute couture\, ora arricchita con le creazioni degli ultimi anni\, la collezione Giorgio Armani Privé si distingue come una nuova interpretazione dello stile Armani\, complementare e alternativa rispetto al prêt-à-porter\, ma accomunata a quest’ultimo dalla ricerca di una sigla lineare\, elegante e rarefatta. Armani ci fa sognare\, ci fa spaziare in mondi liberi dove le sue creazioni spiccano il volo\, dove la fantasia del creatore si esprime alla massima potenza\, dove tutto è etereo\, eppure così concreto … Ogni abito nasce nel pensiero e nell’inesauribile vena creativa di Armani\, ma si concretizza grazie all’incredibile lavoro manuale di sarte e ricamatrici che con dedizione e grande perizia danno vita a qualcosa di unico\, di prezioso come un’opera d’arte.\nLungo i tre piani espositivi del Silos\, ogni abito racconta di sé e ci ammalia\, ci incanta. Sono creazioni di Alta Moda senza tempo\, trapunte di perle\, gemme fulgide\, balze architettoniche\, ori\, ricami\, armonie e geometrie\, fatte di tessuti preziosi\, leggeri\, avvolgenti… \nLUOGO D’INCONTRO: Via Borgognone da Fossano 40 all’ingresso di Armani Silos alle ore 15:45 La visita inizierà alle ore 16:00. \nQuota di partecipazione: Euro 25 a persona ridotta ad Euro 13 per gli over 65. \nLa quota comprende: visita guidata di 1:30 ore circa con guida turistica laureata in storia dell’arte\, biglietto d’ingresso e microfonaggio.  E’possibile utilizzare un proprio auricolare con cavo minijack 3\,5 mm. \nNumero minimo di partecipanti 12\, massimo 25. \nIscrizioni: entro l’ 11.11.25 riservate ai soci G.S.A. Edelweiss\, in sede il lunedì dalle 17:30 alle 20:00\, il mercoledì dalle 17:30 alle 22:00 oppure telefonando negli orari di segreteria tel. 0236589745 o con email a INFO@EDELWEISSCAI.IT \nL’iscrizione sará confermata al pagamento della quota di partecipazione che dovrá pervenire entro il giorno 11.11.25 che potrá essere fatta in sede oppure con BB utilizzando il seguente \nIBAN: IT35X0503401693000000003707 intestato a G.S.A. EDELWEISS A.P.S. causale  Armani Privè.  \nIN CASO DI MANCATA PARTECIPAZIONE LA QUOTA NON POTRA’ ESSERE RIMBORSATA \n 
URL:https://www.edelweisscai.it/eventi/sentieri-urbani-armani-prive-2005-2025-ventanni-di-alta-moda/
CATEGORIES:Culturali
ATTACH;FMTTYPE=image/jpeg:https://www.edelweisscai.it/wp-content/uploads/2025/11/armani-prive.jpg
END:VEVENT
END:VCALENDAR