BEGIN:VCALENDAR
VERSION:2.0
PRODID:-//Edelweiss Cai Milano - ECPv6.15.18//NONSGML v1.0//EN
CALSCALE:GREGORIAN
METHOD:PUBLISH
X-WR-CALNAME:Edelweiss Cai Milano
X-ORIGINAL-URL:https://www.edelweisscai.it
X-WR-CALDESC:Eventi per Edelweiss Cai Milano
REFRESH-INTERVAL;VALUE=DURATION:PT1H
X-Robots-Tag:noindex
X-PUBLISHED-TTL:PT1H
BEGIN:VTIMEZONE
TZID:Europe/Rome
BEGIN:DAYLIGHT
TZOFFSETFROM:+0100
TZOFFSETTO:+0200
TZNAME:CEST
DTSTART:20240331T010000
END:DAYLIGHT
BEGIN:STANDARD
TZOFFSETFROM:+0200
TZOFFSETTO:+0100
TZNAME:CET
DTSTART:20241027T010000
END:STANDARD
BEGIN:DAYLIGHT
TZOFFSETFROM:+0100
TZOFFSETTO:+0200
TZNAME:CEST
DTSTART:20250330T010000
END:DAYLIGHT
BEGIN:STANDARD
TZOFFSETFROM:+0200
TZOFFSETTO:+0100
TZNAME:CET
DTSTART:20251026T010000
END:STANDARD
BEGIN:DAYLIGHT
TZOFFSETFROM:+0100
TZOFFSETTO:+0200
TZNAME:CEST
DTSTART:20260329T010000
END:DAYLIGHT
BEGIN:STANDARD
TZOFFSETFROM:+0200
TZOFFSETTO:+0100
TZNAME:CET
DTSTART:20261025T010000
END:STANDARD
END:VTIMEZONE
BEGIN:VEVENT
DTSTART;TZID=Europe/Rome:20250211T144500
DTEND;TZID=Europe/Rome:20250211T170000
DTSTAMP:20260426T000543
CREATED:20250126T231356Z
LAST-MODIFIED:20250207T205319Z
UID:4908-1739285100-1739293200@www.edelweisscai.it
SUMMARY:Sentieri Urbani ... SANTUARIO SANTA MARIA ALLA FONTANA
DESCRIPTION:11.2.2025\nSanta Maria alla Fontana è un gioiello rinascimentale: una chiesa di una bellezza inaspettata\, forse non a tutti conosciuta\, un tempo invece santuario mariano che raccolse pellegrini e devoti intorno alla sua fonte d’acqua miracolosa. La chiesa fu voluta dal governatore francese\, Charles d’Amboise\, nel 1507\, che qui trovò guarigione dalla cecità bagnandosi con fede con l’acqua benedetta di quella fonte. Nacque così una chiesa raccolta nella naturale depressione del terreno\, ma allo stesso tempo accogliente ed aperta per favorire il passaggio dei pellegrini\, specialmente dei malati\, che potevano trovare conforto nella farmacia/sacrestia annessa\, e anche alloggio in alcune costruzioni adiacenti. Un edificio che per secoli accolse fedeli e malati\, diventando\, insieme alla Ca’ Granda e al Lazzaretto\, uno dei tre capisaldi su cui si articolava la struttura sanitaria della città. Oggi la chiesa si presenta con il suo volto rinascimentale\, non intaccato da trasformazioni moderne: la pianta centrale dall’armonioso rigore classico\, l’ispirazione all’ideale perfezione di quei valori portati nella Milano sforzesca da Leonardo e da Bramante\, i suoi muri dal caldo colore del cotto\, gli affreschi di scuola leonardesca… E poi naturalmente\, la fonte presso la quale ancora ci si accosta nella speranza di un miracolo! \n  \nLUOGO D’INCONTRO: all’ingresso della Chiesa in via Genova Thaon di Revel 8 alle ore 14:45. La visita inizierà alle ore 15:00. \nQuota di partecipazione: Euro 17 a persona. \nLa quota comprende: visita guidata di 2:00 ore circa con guida turistica laureata in storia dell’arte\, microfonaggio e un’offerta alla Chiesa. \nNumero minimo di partecipanti 10\, massimo 25. \n  \nIscrizioni: entro il 6.2.25 riservate ai soci G.S.A. Edelweiss\, in sede il lunedì dalle 17:30 alle 20:00\, il mercoledì dalle 17:30 alle 22:00 oppure telefonando negli orari di segreteria tel. 0236589745 o con email a INFO@EDELWEISSCAI.IT \nL’iscrizione sará confermata al pagamento della quota di partecipazione che dovrá pervenire entro il 6.2.25 che potrá essere fatta in sede oppure con BB utilizzando il seguente \nIBAN: IT35X0503401693000000003707  S. Maria alla Fontana \n  \nIN CASO DI MANCATA PARTECIPAZIONE LA QUOTA NON POTRA’ ESSERE RIMBORSATA \nSCARICA PDF\n  \n 
URL:https://www.edelweisscai.it/eventi/sentieri-urbani-santuario-santa-maria-alla-fontana/
CATEGORIES:Culturali
ATTACH;FMTTYPE=image/jpeg:https://www.edelweisscai.it/wp-content/uploads/2025/01/Santa-Maria-alla-fontana.jpg
END:VEVENT
BEGIN:VEVENT
DTSTART;TZID=Europe/Rome:20250227T210000
DTEND;TZID=Europe/Rome:20250227T223000
DTSTAMP:20260426T000543
CREATED:20250207T223841Z
LAST-MODIFIED:20250210T152816Z
UID:4988-1740690000-1740695400@www.edelweisscai.it
SUMMARY:Incontro con Grazia Pitruzzella - Autrice della Guida Sentiero Italia - Sicilia
DESCRIPTION:27 febbraio 2025\nORE 21\,00 – sede Edelweiss – Viale Umbria 126 \nDa Trapani a Messina\, 37 tappe lungo il sentiero Italia CAI in Sicilia\, un percorso di 630 km edito da Idea Montagna in collaborazione con il Club Alpino Italiano\, ci verranno raccontate dalla sua autrice: Grazia Pitruzzella che Edelweiss Cai è lieta di ospitare\, in sede\, giovedì 27 febbraio 2025. \nIl Sentiero Italia CAI è un unico sentiero che collega tutte le 20 regioni italiane. Parte da Santa Teresa di Gallura\, in Sardegna\, e\, dopo aver attraversato le isole e l’intero crinale appenninico\, percorre le Alpi da ovest a est fino ad approdare a Trieste\, dove si conclude. Il tutto con ben 7600 km e 510 tappe! \nIdea Montagna descrive\, tramite una collana dedicata\, tutte le tappe di questo sentiero.
URL:https://www.edelweisscai.it/eventi/incontro-con-grazia-pitruzzella-autrice-della-guida-sentiero-italia-sicilia/
CATEGORIES:Culturali,Eventi,Evidenza Home
ATTACH;FMTTYPE=image/jpeg:https://www.edelweisscai.it/wp-content/uploads/2025/02/Sentiero-italia.jpg
END:VEVENT
END:VCALENDAR