BEGIN:VCALENDAR
VERSION:2.0
PRODID:-//Edelweiss Cai Milano - ECPv6.15.18//NONSGML v1.0//EN
CALSCALE:GREGORIAN
METHOD:PUBLISH
X-WR-CALNAME:Edelweiss Cai Milano
X-ORIGINAL-URL:https://www.edelweisscai.it
X-WR-CALDESC:Eventi per Edelweiss Cai Milano
REFRESH-INTERVAL;VALUE=DURATION:PT1H
X-Robots-Tag:noindex
X-PUBLISHED-TTL:PT1H
BEGIN:VTIMEZONE
TZID:Europe/Rome
BEGIN:DAYLIGHT
TZOFFSETFROM:+0100
TZOFFSETTO:+0200
TZNAME:CEST
DTSTART:20230326T010000
END:DAYLIGHT
BEGIN:STANDARD
TZOFFSETFROM:+0200
TZOFFSETTO:+0100
TZNAME:CET
DTSTART:20231029T010000
END:STANDARD
BEGIN:DAYLIGHT
TZOFFSETFROM:+0100
TZOFFSETTO:+0200
TZNAME:CEST
DTSTART:20240331T010000
END:DAYLIGHT
BEGIN:STANDARD
TZOFFSETFROM:+0200
TZOFFSETTO:+0100
TZNAME:CET
DTSTART:20241027T010000
END:STANDARD
BEGIN:DAYLIGHT
TZOFFSETFROM:+0100
TZOFFSETTO:+0200
TZNAME:CEST
DTSTART:20250330T010000
END:DAYLIGHT
BEGIN:STANDARD
TZOFFSETFROM:+0200
TZOFFSETTO:+0100
TZNAME:CET
DTSTART:20251026T010000
END:STANDARD
END:VTIMEZONE
BEGIN:VEVENT
DTSTART;VALUE=DATE:20241119
DTEND;VALUE=DATE:20241120
DTSTAMP:20260426T051308
CREATED:20240927T172234Z
LAST-MODIFIED:20241106T125736Z
UID:4304-1731974400-1732060799@www.edelweisscai.it
SUMMARY:Sentieri urbani...percorsi d'arte LA CHIESA DI SANT'ANTONIO ABATE
DESCRIPTION:La chiesa di Sant’Antonio Abate si trova in una piccola via a pochi passi dal Duomo. Essendo incastrata tra le case ed essendo la sua facciata pressochè anonima\, dall’esterno è a mala pena riconoscibile come chiesa. L’interno\, al contrario si nasconde un mondo di meraviglie sconosciute ai più ed escluso dagli itinerari turistici canonici. \nLa chiesa risale al trecento ma il suo interno è stato completamente rifatto tra il cinquecento ed il seicento in stile barocco. Appartenne ai monaci Antoniani\, noti soprattutto perché curavano l’herpes zoster utilizzando il grasso dei maiali. Venne poi affidata ai Chierici Teatini che ne promossero la ristrutturazione grazie a numerosi lasciti invitando i più famosi artisti lombardi dell’epoca a dipingere al suo interno come Gian Battista Crespi\, Ludovico Carracci\, Giulio Procaccini e Guglielmo Caccia. Stupendi sono anche il campanile quattrocentesco ed il chiostro di ispirazione bramantesca. \nLe decorazioni\, i dipinti e la maestosità dell’edificio rendono questa chiesa unica e di forte impatto e già all’epoca venne definita come uno dei più preziosi gioielli di Milano.  Da qualche anno è stata dichiarata monumento nazionale italiano per la preziosità delle sue ricchezze ed il suo valore storico. \nLa chiesa di Sant’Antonio Abate è aperta solo in orari limitati grazie ai volontari del TCI. \nLUOGO D’INCONTRO: all’ingresso della chiesa in via Sant’Antonio 5 alle ore 13:40. La visita inizierà alle ore 14.00. I volontari TCI hanno accettato\, in via straordinaria\, di tenere aperta la chiesa nel pomeriggio per la nostra visita ma è necessario essere puntuali. \nQuota di partecipazione: Euro 15\,00 a persona \nLa quota comprende: visita guidata di 2:00 ore circa con guida turistica laureata in storia dell’arte\, costi per accensione luci e spese di organizzazione. \nNumero minimo di partecipanti 10\, massimo 25. \nIscrizioni: entro il 15.11.24 riservate ai soci G.S.A. Edelweiss\, in sede il lunedì dalle 17:30 alle 20:00\, il mercoledì dalle 17:30 alle 22:00 oppure telefonando negli orari di segreteria tel. 0236589745 o con email a INFO@EDELWEISSCAI.IT \nL’iscrizione sará confermata al pagamento della quota di partecipazione che dovrá pervenire entro il 15.11.24 che potrá essere fatta in sede oppure con BB utilizzando il seguente \nIBAN: IT35X0503401693000000003707 Chiesa di Sant’Antonio Abate 19.11.24 \n IN CASO DI MANCATA PARTECIPAZIONE LA QUOTA NON POTRA’ ESSERE RIMBORSATA \nScarica il pdf
URL:https://www.edelweisscai.it/eventi/sentieri-urbani-percorsi-darte-la-chiesa-di-santantonio-abate/
CATEGORIES:Culturali
ATTACH;FMTTYPE=image/jpeg:https://www.edelweisscai.it/wp-content/uploads/2024/09/santantonio-abate.jpg
END:VEVENT
END:VCALENDAR