BEGIN:VCALENDAR
VERSION:2.0
PRODID:-//Edelweiss Cai Milano - ECPv6.15.18//NONSGML v1.0//EN
CALSCALE:GREGORIAN
METHOD:PUBLISH
X-WR-CALNAME:Edelweiss Cai Milano
X-ORIGINAL-URL:https://www.edelweisscai.it
X-WR-CALDESC:Eventi per Edelweiss Cai Milano
REFRESH-INTERVAL;VALUE=DURATION:PT1H
X-Robots-Tag:noindex
X-PUBLISHED-TTL:PT1H
BEGIN:VTIMEZONE
TZID:Europe/Rome
BEGIN:DAYLIGHT
TZOFFSETFROM:+0100
TZOFFSETTO:+0200
TZNAME:CEST
DTSTART:20230326T010000
END:DAYLIGHT
BEGIN:STANDARD
TZOFFSETFROM:+0200
TZOFFSETTO:+0100
TZNAME:CET
DTSTART:20231029T010000
END:STANDARD
BEGIN:DAYLIGHT
TZOFFSETFROM:+0100
TZOFFSETTO:+0200
TZNAME:CEST
DTSTART:20240331T010000
END:DAYLIGHT
BEGIN:STANDARD
TZOFFSETFROM:+0200
TZOFFSETTO:+0100
TZNAME:CET
DTSTART:20241027T010000
END:STANDARD
BEGIN:DAYLIGHT
TZOFFSETFROM:+0100
TZOFFSETTO:+0200
TZNAME:CEST
DTSTART:20250330T010000
END:DAYLIGHT
BEGIN:STANDARD
TZOFFSETFROM:+0200
TZOFFSETTO:+0100
TZNAME:CET
DTSTART:20251026T010000
END:STANDARD
END:VTIMEZONE
BEGIN:VEVENT
DTSTART;VALUE=DATE:20241008
DTEND;VALUE=DATE:20241009
DTSTAMP:20260426T063713
CREATED:20240927T165437Z
LAST-MODIFIED:20241004T171035Z
UID:4292-1728345600-1728431999@www.edelweisscai.it
SUMMARY:Sentieri urbani ....percorsi d'arte LA CERTOSA DI GAREGNANO
DESCRIPTION:Fra fede\, storia e leggende \nLa Certosa di Garegnano\, un tempo in aperta campagna\, è uno dei luoghi che ha mantenuto intatto il suo fascino e la sua aura spirituale\, nonostante la città moderna le sia cresciuta tutta intorno in modo caotico. \nLa sua storia affonda le radici nel 1349 quando il vescovo Giovanni Visconti ne promosse la fondazione per “liberarsi” dall’obbligo della preghiera\, imponendo ai monaci di svolgere questo dovere al posto suo. La chiesa nei secoli fu rimaneggiata e il volto che oggi presenta è quello della fine del XVI/XVII secolo\, con classiche reminiscenze e qualche concessione al manierismo. Al suo interno preziosi affreschi rivestono ogni superficie muraria\, tanto da far definire anche la Certosa la “Cappella Sistina” di Milano. \nFra i maestri che hanno contribuito all’impegnativo ciclo decorativo domina Daniele Crespi che\, meglio di altri\, ha saputo trasferire nella sua pittura lo spirito riformato tridentino. Lord Byron rimase affascinato dai suoi affreschi e lo definì “pittore che sa far parlare i morti”. \nStoria\, arte ma anche molte leggende cupe sono legate alla Certosa di Garegnano\, ad esse si presta orecchio con sorridente ironia considerata l’atmosfera di pace che regna in quest’angolo di Milano. \nLuogo d’incontro: all’ingresso della Certosa in via Garegnano 28 (raggiungibile con i tram 12 o 14 fermata V.le Certosa via Gradisca e poi 3 minuti a piedi\, circa 240 metri o con i bus 69 o Z602 fermata Parrocchia di Santa Maria Assunta alla Certosa di Garegnano) alle ore 14:45. La visita inizierà alle ore 15.00. \nQuota di partecipazione:  Euro 13\,00 a persona \nLa quota comprende: visita guidata di 2:00 circa con guida turistica laureata in storia dell’arte e spese di organizzazione. \nNumero minimo di partecipanti 10\, massimo 25. \nIscrizioni: entro il 2.10.24 riservate ai soci G.S.A. Edelweiss\, in sede il lunedì dalle 17:30 alle 20:00\, il mercoledì dalle 17:30 alle 22:00 oppure telefonando negli orari di segreteria tel. 0236589745 o con email a INFO@EDELWEISSCAI.IT \nL’iscrizione sará confermata al pagamento della quota di partecipazione che dovrá pervenire entro il 4.10.24 che potrá essere fatta in sede oppure con BB utilizzando il seguente \nIBAN: IT35X0503401693000000003707 Certosa di Garegnano 8.10.24 \n IN CASO DI MANCATA PARTECIPAZIONE LA QUOTA NON POTRA’ ESSERE RIMBORSATA \nSCARICA IL PDF \n 
URL:https://www.edelweisscai.it/eventi/sentieri-urbani-percorsi-darte-la-certosa-di-garegnano/
CATEGORIES:Culturali
ATTACH;FMTTYPE=image/jpeg:https://www.edelweisscai.it/wp-content/uploads/2024/09/CERTOSA-GAREGNANO.jpg
END:VEVENT
BEGIN:VEVENT
DTSTART;VALUE=DATE:20241010
DTEND;VALUE=DATE:20241014
DTSTAMP:20260426T063713
CREATED:20240723T162509Z
LAST-MODIFIED:20241002T132217Z
UID:3957-1728518400-1728863999@www.edelweisscai.it
SUMMARY:RAVENNA CITTA' DI BELLEZZE - Scrigno d’arte e cultura
DESCRIPTION:Adagiata a pochi km dal Mar Adriatico e sospesa nel cuore della Romagna\, Ravenna è una città d’arte per eccellenza\, un autentico gioiello con alle spalle un glorioso ed antico passato. A partire dagli inizi del V secolo d.C. è stata per tre volte capitale di tre imperi: dell’ Impero Romano d’ Occidente\, di Teodorico Re dei Goti e dell’ Impero di Bisanzio in Europa. La magnificenza di quel periodo ha lasciato in città una grande eredità di monumenti dove si conserva il più ricco patrimonio di mosaici dell’umanità. Otto di questi sono inseriti nella lista del Patrimonio Mondiale dell’UNESCO. Ammirarne le bellezze significa fare un viaggio nel passato e nel future scoprendo una tradizione artistica ed architettonica di valore inestimabile. \nRavenna inoltre conserva le spoglie del Padre della Letteratura Italiana Dante Alighieri. \nUna giornata sarà dedicata alla visita di Faenza\, città d’arte famosa per il MIC\, il museo internazionale delle ceramiche\, e la sua raccolta di arte ceramica più grande del mondo con opere che vanno dai 4.000 anni a.C. ai giorni nostri\, annoverato dall’UNESCO fra i siti promotori di culture di pace. Proseguiremo poi per Brisighella l’incantevole borgo medioevale\, perla del parco regionale della Vena dal Gesso. \nTrekking stanziale con escursioni giornaliere \nPROGRAMMA  \nGiovedì 10 ottobre: ritrovo alla stazione Centrale (orario da comunicare) per prendere il treno per Ravenna dove arriveremo intorno alle 12:00. Transfer a piedi in hotel (circa 800 metri dalla stazione). Pranzo libero. Incontro con la nostra guida alle ore 14:00 per visita alla basilica di San Vitale\, al Mausoleo di Galla Placidia e alla Domus dei Tappeti di Pietra. Cena in ristorante nelle vicinanze dell’hotel e pernottamento in albergo. \nVenerdì 11 ottobre: dopo la colazione in hotel incontro con la guida per la visita a piedi del centro di Ravenna\, della Basilica di Sant’Apollinare Nuovo\, del Battistero Neoniano o degli Ortodossi e della Cappella di Sant’Andrea per concludere nella zona dantesca. Pranzo libero. Primo pomeriggio transfer di circa 20 minuti con bus di linea pubblico a Classe\, incontro con la guida per la visita di Sant’Apollinare in Classe e rientro a Ravenna sempre con bus di linea. Cena in ristorante nelle vicinanze dell’hotel e pernottamento in albergo. \nSabato 12 ottobre: Partenza dall’albergo con bus privato per Faenza la capitale della ceramica. Percorreremo assieme alla nostra guida il MIC\, il museo internazionale delle ceramiche e a seguire visiteremo le maggiori piazze e l’importante duomo dedicato a San Pietro Apostolo. \nPranzo libero \nAlle 14:30 spostamento sempre con bus privato a Brisighella (circa 10km) per visitare il bellissimo borgo dall’inconfondibile profilo caratterizzato da tre speroni rocciosi. \nPasseggeremo nel centro storico ed il suo dedalo di antiche viuzze (tra le quali la particolare Via degli Asini)\, cinte murarie e scale scolpite nel gesso e possibilità di fare la passeggiata a piedi dalla Rocca alla Torre dell’orologio. Valuteremo assieme la salita alla Rocca a piedi\, 370 scalini\, o con bus. \nRientro a Ravenna\, cena e pernottamento \nDomenica 13 ottobre: dopo colazione ed aver affidato i bagagli al deposito dell’albergo\, visita guidata al Mausoleo di Teodorico e Battistero degli Ariani con proseguimento alla sezione dei mosaici contemporanei del MAR (museo d’arte della città). \nTempo libero fino alla partenza per Milano con orario da comunicare. \nOrganizzatore: Gina Ceccarello \nQuota di partecipazione: soci CAI Edelweiss € 490\,00 \nsoci CAI € 510\,00 \nNumero minimo partecipanti: 14 \n Iscrizioni entro il giorno 28 agosto 2024. \nAl raggiungimento del numero minimo di iscrizioni provvederemo all’acquisto dei biglietti del treno e verrà richiesto di versare l’importo relativo agli stessi. \nLa quota comprende: 3 notti in hotel 3* con prima colazione inclusa. 3 cene che includono 1 bottiglia di vino ogni 4 persone e acqua. Guide turistiche\, biglietti d’ingresso ai monumenti Unesco diocesani\, al MAR\, alla Domus dei Tappeti di Pietra\, alla Basilica di Classe\, al Mausoleo di Teodorico\, al Battistero degli Ariani\, al MIC di Faenza e alla Rocca di Brisighella. Tutti i trasferimenti previsti nel programma (trasporto da Ravenna a Classe e rientro e bus privato per Faenza e Brisighella). Tassa di soggiorno. \nLa quota non comprende: Il viaggio di andata e ritorno in treno da Milano a Ravenna (al momento della pubblicazione del programma ca. € 100\,00). Supplemento camera singola di 20\,00 a notte. Tutti i pranzi dei giorni 10\,11\,12 e 13 ottobre. Eventuale salita in bus alla Rocca di Brisighella. Biglietti d’ingresso a musei\, aree archeologiche e siti turistici non inclusi nella quota comprende. \nIscrizioni: riservata ai soci Edelweiss o CAI\, previo versamento di un acconto/caparra di € 250\,00. Saldo entro il 6/09/2023. L’iscrizione può avvenire: via mail a info@edelweisscai.it o in sede il lunedì dalle 18 alle 20 e il mercoledì dalle 18 alle 22:30 o telefonando allo 0255191581. Il pagamento dell’acconto e del saldo può avvenire: in sede o con bonifico bancario (IBAN IT 35X0503401693000000003707). \nRiunione informativa 10/09/2024 alle ore 20:45 in Edelweiss\, alla quale tutti i partecipanti sono vivamente pregati di partecipare. Durante la riunione verrà distribuito il materiale informativo. \nSCARICA IL PDF
URL:https://www.edelweisscai.it/eventi/ravenna-citta-di-bellezze-scrigno-darte-e-cultura/
CATEGORIES:Culturali,Trekking
ATTACH;FMTTYPE=image/jpeg:https://www.edelweisscai.it/wp-content/uploads/2024/07/ravenna1.jpg
END:VEVENT
END:VCALENDAR