BEGIN:VCALENDAR
VERSION:2.0
PRODID:-//Edelweiss Cai Milano - ECPv6.15.18//NONSGML v1.0//EN
CALSCALE:GREGORIAN
METHOD:PUBLISH
X-ORIGINAL-URL:https://www.edelweisscai.it
X-WR-CALDESC:Eventi per Edelweiss Cai Milano
REFRESH-INTERVAL;VALUE=DURATION:PT1H
X-Robots-Tag:noindex
X-PUBLISHED-TTL:PT1H
BEGIN:VTIMEZONE
TZID:Europe/Rome
BEGIN:DAYLIGHT
TZOFFSETFROM:+0100
TZOFFSETTO:+0200
TZNAME:CEST
DTSTART:20250330T010000
END:DAYLIGHT
BEGIN:STANDARD
TZOFFSETFROM:+0200
TZOFFSETTO:+0100
TZNAME:CET
DTSTART:20251026T010000
END:STANDARD
BEGIN:DAYLIGHT
TZOFFSETFROM:+0100
TZOFFSETTO:+0200
TZNAME:CEST
DTSTART:20260329T010000
END:DAYLIGHT
BEGIN:STANDARD
TZOFFSETFROM:+0200
TZOFFSETTO:+0100
TZNAME:CET
DTSTART:20261025T010000
END:STANDARD
BEGIN:DAYLIGHT
TZOFFSETFROM:+0100
TZOFFSETTO:+0200
TZNAME:CEST
DTSTART:20270328T010000
END:DAYLIGHT
BEGIN:STANDARD
TZOFFSETFROM:+0200
TZOFFSETTO:+0100
TZNAME:CET
DTSTART:20271031T010000
END:STANDARD
END:VTIMEZONE
BEGIN:VEVENT
DTSTART;TZID=Europe/Rome:20260704T070000
DTEND;TZID=Europe/Rome:20260711T170000
DTSTAMP:20260425T135050
CREATED:20260321T105841Z
LAST-MODIFIED:20260413T135005Z
UID:6227-1783148400-1783789200@www.edelweisscai.it
SUMMARY:Cicloescursionismo - IL JURA FRANCESE
DESCRIPTION:scarica il pdf\ndal 4 all’11 luglio 2026\nIl Giura francese offre paesaggi spettacolari tra foreste di abeti\, laghi e altipiani.  È ideale per cicloturismo\, mountain bike e bici da strada.  \n PROGRAMMA \n4.7.26:  Ritrovo all’hotel in località La Cure alle ore 15\,00 ca. Il trasferimento sarà effettuato con mezzi propri\, pomeriggio libero. Cena e pernottamento in hotel. \nDal 5.7.26 al 10.7.26: – Attività ciclistiche\, di seguito alcuni esempi di percorsi ma se ne possono creare molti altri. Giorno per giorno decideremo il da farsi anche in base alle condizioni meteo. \nEcco le proposte di percorsi ad anello con partenza prevalentemente da La Cure\, su superfici asfaltate\, sterrati e strade forestali\, adatti sia a MTB che a gravel. \n-Lac des Rousses – Lago di Joux giro ad anello da Les Rousses – 61 km/disl. +470m \n-Lago di Lamoura – Col du Haut Crêt giro ad anello da La Cure – 55 km/disl. +840m \n-Lago di Lamoura giro ad anello da La Cure – 43 km/disl. +650m \n-Colle de la Faucille giro ad anello da Les Rousses – 40 km/disl. +400m \n-Route de la Valserine – Splendida strada forestale giro ad anello da La Cure – 40 km/disl. +660m \n-Vista su Les Rousses – Vista su Prémanon giro ad anello – 40 km/disl. +680m \n11.7.26 – Rientro a Milano \nAccompagnatori: Marco Benzoni – Gigia Marchesi – Cristina Radaelli \nTipo di bici: MTB o Gravel \n  \nQUOTA DI PARTECIPAZIONE: \nSOCI EDELWEISS+ CAI:  € 735 \nSOCI CAI                        :        € 755  \nIscrizioni entro il 10 Maggio 2026 \nLa quota comprende: 7 giorni ½ pensione\, sistemazione in camere doppie o triple\, tassa di soggiorno\, spese di organizzazione\, Assicurazione infortuni\, cartine dei percorsi. \nLa quota non comprende: tutto quanto non indicato nella quota comprende.  \nTRASPORTO: Per raggiungere La Cure si utilizzeranno mezzi propri. \nIscrizioni\, riservate ai soci Edelweiss+CAI e CAI: in sede (il lunedì dalle 17:00 alle 20:00; il mercoledì dalle 17:00 alle 21:30) o telefonando al n° 02 36589745 o con e-mail a info@edelweisscai.it \nL’iscrizione si riterrà confermata solo con il versamento dell’acconto di € 200\, in sede anche con POS o con bonifico bancario: \nutilizzando il  seguente IBAN IT35X0503401693000000003707 conto intestato a G.S.A. EDELWEISS A.P.S. Sottosezione CAI mI inviando una copia della contabile a info@edelweisscai.it \nCausale: SETTIMANA CICLISTICA nel Jura Francese \nSaldo entro il 4 Giugno 2026 \nRiunione informativa alla quale tutti i partecipanti sono pregati di intervenire: Giovedì 4 Giugno 2026   alle ore 20\,45 in Edelweiss. Durante la riunione si dovrà provvedere al saldo. \nDocumenti: Carta identità\, tessera sanitaria\, tessera EDW e/o CAI. \nE’ OBBLIGATORIO L’USO DEL CASCO \nOGNI PARTECIPANTE DOVRA’ AVERE IL PROPRIO MATERIALE PER RIPARAZIONI CAMERA D’ARIA.   \nIl G.S.A. EDELWEISS declina ogni responsabilità per qualsiasi incidente che si dovessero verificare durante le cicloescursioni.
URL:https://www.edelweisscai.it/eventi/cicloescursionismo-il-jura-francese/
CATEGORIES:Cicloescursionismo
ATTACH;FMTTYPE=image/jpeg:https://www.edelweisscai.it/wp-content/uploads/2026/03/jura.jpg
END:VEVENT
END:VCALENDAR