BEGIN:VCALENDAR
VERSION:2.0
PRODID:-//Edelweiss Cai Milano - ECPv6.15.18//NONSGML v1.0//EN
CALSCALE:GREGORIAN
METHOD:PUBLISH
X-ORIGINAL-URL:https://www.edelweisscai.it
X-WR-CALDESC:Eventi per Edelweiss Cai Milano
REFRESH-INTERVAL;VALUE=DURATION:PT1H
X-Robots-Tag:noindex
X-PUBLISHED-TTL:PT1H
BEGIN:VTIMEZONE
TZID:Europe/Rome
BEGIN:DAYLIGHT
TZOFFSETFROM:+0100
TZOFFSETTO:+0200
TZNAME:CEST
DTSTART:20240331T010000
END:DAYLIGHT
BEGIN:STANDARD
TZOFFSETFROM:+0200
TZOFFSETTO:+0100
TZNAME:CET
DTSTART:20241027T010000
END:STANDARD
BEGIN:DAYLIGHT
TZOFFSETFROM:+0100
TZOFFSETTO:+0200
TZNAME:CEST
DTSTART:20250330T010000
END:DAYLIGHT
BEGIN:STANDARD
TZOFFSETFROM:+0200
TZOFFSETTO:+0100
TZNAME:CET
DTSTART:20251026T010000
END:STANDARD
BEGIN:DAYLIGHT
TZOFFSETFROM:+0100
TZOFFSETTO:+0200
TZNAME:CEST
DTSTART:20260329T010000
END:DAYLIGHT
BEGIN:STANDARD
TZOFFSETFROM:+0200
TZOFFSETTO:+0100
TZNAME:CET
DTSTART:20261025T010000
END:STANDARD
END:VTIMEZONE
BEGIN:VEVENT
DTSTART;TZID=Europe/Rome:20250917T080000
DTEND;TZID=Europe/Rome:20250921T170000
DTSTAMP:20260425T053707
CREATED:20250730T170100Z
LAST-MODIFIED:20250830T162041Z
UID:5451-1758096000-1758474000@www.edelweisscai.it
SUMMARY:Cicloescursionismo - LA PARENZANA
DESCRIPTION:SCARICA PDF\nDAL 17 AL 21 SETTEMBRE 2025\nLa Parenzana fu una tratta ferroviaria con binario a scartamento ridotto di 123\,1 km. che dal 1902 al 1935 collegò trentatré località istriane\, da Trieste a Parenzo\, e che oggi si snoderebbe sui territori di tre stati diversi\, Italia (13 km)\, Slovenia (32 km) e Croazia (78 km). Durante i suoi trentatré anni di attività la ferrovia ha contribuito notevolmente allo sviluppo economico di questa parte dell’Istria\, garantendo il trasporto di sia di prodotti alimentari\, che materiali di costruzione e ovviamente anche di passeggeri. Lungo la tratta sono ancor oggi disseminate diverse pietre miliari e cippi di confine recanti la distanza da Trieste e la scritta TPC (Trieste-Parenzo-Canfanaro) a dimostrazione che l’intenzione dei costruttori era di prolungare la tratta che portava da Parenzo a Canfanaro\, dove si sarebbe poi ricongiunta con l’importante tratta ferroviaria che arrivava sino a Pola. \nOggi la Parenzana è la pista ciclopedonale più famosa e più visitata in Istria e la si percorre a partire da Muggia\, in quanto il tratto dalla stazione di Trieste a Muggia è molto trafficato e non adatto alle biciclette. Il percorso attraversa paesi e località ricchi di memoria e di pregi turistici\, ma soprattutto capaci di regalare panorami indimenticabili. \nProgramma \nMercoledì 17.9.25: Trasferimento in treno da Milano a Trieste nel primo pomeriggio \n(vedi oltre per dettagli viaggio) \nCena libera. Pernottamento in ostello (camera multipla).  \nGiovedì 18.9.25: Muggia – Grisignana  km. 62  + 350 m \nPrima colazione libera. Ore 9\,00     trasferimento in traghetto a Muggia dove arriveremo in ca 30’. Inizieremo a pedalare dalla stazione marittima ed attraversando il centro di Muggia andremo ad imboccare la ciclabile e ben presto valicheremo il confine con la Slovenia. Oltre Capodistria il percorso costeggia il mare sino ad Isola d’Istria\, per poi ritornare nell’entroterra sino a Portorose. Raggiungiamo le Saline di Sicciole e dopo pochi chilometri entriamo in Croazia. Iniziamo a salire in direzione di Buje e di Grisignana dove pernotteremo. Il percorso presenta sia tratti asfaltati che sterrati. \nCena libera. Pernottamento in appartamento. \nVenerdì 19.9.25: Grisignana – Parenzo   km. 63    +350 m \nColazione libera. Dopo colazione partenza lungo la ciclabile prevalentemente in discesa. Passeremo per diversi borghi tra i quali Levade\, Montona\, Visignano che avremo modo di visitare. Il nostro percorso continua sino a raggiungere Parenzo dove termina la Parenzana. Il percorso è prevalentemente sterrato. \nCena libera. Pernottamento in pensione con trattamento b&b. \nSabato 20.9.25: Parenzo   giro ad anello di ca 45 km +400 dislivello \nDopo colazione partenza per un giro ad anello che ci porterà a visitare il centro storico di Parenzo\, il lungomare e le colline alle spalle della città coltivate a vigneto e uliveto. Il percorso sarà in parte sterrato ed in parte asfaltato (ca 50/50) \nOre 18\,00 partenza in bus per Trieste. \nCena libera. Pernottamento in ostello. (camera multipla). \nDomenica 21.9.25: Prima colazione libera. Visita della città. \nIn tarda mattinata rientro a Milano in treno. (Vedi oltre dettagli viaggio) \n  \nTipo di bici: MTB\, trekking\, gravel (alcuni tratti sono piuttosto dissestati) \nAccompagnatori: Commissione Cicloescursionismo \nQUOTA DI PARTECIPAZIONE: \n                                                               SOCI EDELWEISS:              Euro   270 \n                                                               SOCI CAI:                             Euro   290 \nLa quota comprende: Pernottamento in camere multiple in ostello il 17 ed il 20.9.25 (senza colazione)\, pernottamento in appartamento il 18.9. (senza colazione)\, pernottamento in pensione b&b per il 19.9.25. \nParcheggio 2 bici 2 notti a Trieste. Traghetto da Trieste a Muggia del 18.9.25. Bus da Parenzo a Trieste del 19.9.25. Tassa di soggiorno. Spese di organizzazione. \nLa quota non comprende: Viaggio in treno a/r da Milano/Trieste/Milano e tutto quanto non indicato nella quota comprende \n  \nIl trasferimento da Milano a Trieste e ritorno verrà effettuato in treno: \nMilano/Trieste \nREG. 2625 delle ore 12\,25 x Verona arr.14\,17 (tempo di cambio 5’) ore 14\,22 RV3499 x Venezia Mestre arr.15\,37. ore 15\,51 Lagune Line x Trieste Centrale arr. Alle 17\,44. (nel caso si perdesse coincidenza a Verona\, c’è un treno dopo ca 20’ \, ma si devono prevedere tempi di percorrenza piu’ lunghi) \nTrieste/Milano \n RV 3440 delle ore 12\,16 x Venezia Mestre arr. 14\,09\, ore 14\,23 RV3496  x Verona arr 15\,38 ore 15\,43 REG.26\,36 x Milano con arrivo alle 17\,35. \nAl momento della pubblicazione del programma\, i costi del treno   ammontano a ca 35 Euro a tratta. \nPER CHI VOLESSE VIAGGIARE CON MEZZI PROPRI IL RITROVO SARA’ ALLA STAZIONE DI TRIESTE ALLE 18 \n Iscrizioni: dal ricevimento della circolare\, telefonando al numero 02 36589745\, oppure in sede il lunedì dalle 17:30 alle 20:00 ed il mercoledì dalle 17:30 alle 22:00\, e/o per email a info@edelweisscai.it. \n Iscrizioni riservate ai soci GSA EDELWEISS+CAI o   ni TASSATIVE entro il 20.8.25 \n  \nL’iscrizione si riterrà confermata solo con il versamento dell’intera quota anche con bonifico bancario: \nIBAN: IT35X0503401693000000003707   Causale: Parenzana \n  \nDocumenti: Carta identità\, tessera sanitaria\, tessera EDW o CAI. \nÈ OBBLIGATORIO L’USO DEL CASCO ED ESSERE MUNITI DI LUCI ANTERIORI E POSTERIORI \nIL BAGAGLIO VERRA’ TRASPORTATO AUTONOMAMENTE SULLA BICICLETTA PER CUI SERVONO LE BORSE DA BICI \nll G.S.A. EDELWEISS declina ogni responsabilità per qualsiasi incidente che si dovesse verificare durante il viaggio.
URL:https://www.edelweisscai.it/eventi/cicloescursionismo-la-parenzana/
CATEGORIES:Cicloescursionismo
ATTACH;FMTTYPE=image/jpeg:https://www.edelweisscai.it/wp-content/uploads/2025/07/Parenzana.jpg
END:VEVENT
END:VCALENDAR