BEGIN:VCALENDAR
VERSION:2.0
PRODID:-//Edelweiss Cai Milano - ECPv6.15.18//NONSGML v1.0//EN
CALSCALE:GREGORIAN
METHOD:PUBLISH
X-WR-CALNAME:Edelweiss Cai Milano
X-ORIGINAL-URL:https://www.edelweisscai.it
X-WR-CALDESC:Eventi per Edelweiss Cai Milano
REFRESH-INTERVAL;VALUE=DURATION:PT1H
X-Robots-Tag:noindex
X-PUBLISHED-TTL:PT1H
BEGIN:VTIMEZONE
TZID:Europe/Rome
BEGIN:DAYLIGHT
TZOFFSETFROM:+0100
TZOFFSETTO:+0200
TZNAME:CEST
DTSTART:20240331T010000
END:DAYLIGHT
BEGIN:STANDARD
TZOFFSETFROM:+0200
TZOFFSETTO:+0100
TZNAME:CET
DTSTART:20241027T010000
END:STANDARD
BEGIN:DAYLIGHT
TZOFFSETFROM:+0100
TZOFFSETTO:+0200
TZNAME:CEST
DTSTART:20250330T010000
END:DAYLIGHT
BEGIN:STANDARD
TZOFFSETFROM:+0200
TZOFFSETTO:+0100
TZNAME:CET
DTSTART:20251026T010000
END:STANDARD
BEGIN:DAYLIGHT
TZOFFSETFROM:+0100
TZOFFSETTO:+0200
TZNAME:CEST
DTSTART:20260329T010000
END:DAYLIGHT
BEGIN:STANDARD
TZOFFSETFROM:+0200
TZOFFSETTO:+0100
TZNAME:CET
DTSTART:20261025T010000
END:STANDARD
END:VTIMEZONE
BEGIN:VEVENT
DTSTART;VALUE=DATE:20250525
DTEND;VALUE=DATE:20250526
DTSTAMP:20260426T033853
CREATED:20250517T161622Z
LAST-MODIFIED:20250523T062518Z
UID:5319-1748131200-1748217599@www.edelweisscai.it
SUMMARY:Alla scoperta della Bassa Bergamasca in bicicletta
DESCRIPTION:25.5.25\nLunghezza Km. 65 km ca  – asfalto e sterrato – dislivello  m.  180 – difficoltà : MC – 4/5 ore ca  \nIl percorso parte dalla stazione di Treviglio e raggiunge lungo percorso ciclabile Caravaggio dove sorge il famoso Santuario dedicato a Santa Maria del Fonte. Da Caravaggio ci dirigiamo poi lungo a Pagazzano dove potremo ammirare il Castello Visconteo con tanto di fossato\, senz’altro uno dei meglio conservati della Bassa Bergamasca. \nLasciato Pagazzano ci dirigiamo a Brignano  dove potremo ammirare il Palazzo Visconteo\, non un castello\, ma un’elegante dimora signorile con due edifici costruiti tra il 500 ed il 700. \nProseguiamo poi in direzione di Ciserano e quindi Boltiere dove entreremo nel Parco del Brembo pedalando in direzione di Brembate dove attraverseremo il fiume Brembo sul ponte Romano con belle vedute sulla parte storica di Brembate. Il nostro itinerario prosegue verso Crespi d’Adda il villaggio del lavoro (patrimonio dell’Unesco)\, realizzato a fine ‘800 dalla famiglia Crespi\, accanto all’opificio furono costruite le case dei lavoratori e le infrastrutture necessarie agli abitanti. Dopo aver percorso le vie del villaggio sosta pranzo nel bar locale. Riprendiamo il ns percorso scendendo verso il fiume Adda e attraversando una passerella ci portiamo sull’altra sponda dell’Adda all’altezza del santuario di Concesa e da qui pedaliamo lungo il Naviglio Martesana sino a loc. Groppello da dove scendiamo al fiume Adda che attraversiamo su un ponte pedonale entrando così a Fara Gera D’Adda. \nSu strade secondarie rientriamo a Treviglio ed attraversando il centro storico raggiungiamo la Stazione Centrale.  \nTipo bici: trekking bike\, MTB\, Gravel . \n  \nRitrovo alla stazione di Treviglio Centrale alle ore 9\,00 \nTreni utili  da Milano: \nPassante S32827 in partenza da Milano Certosa alle 7\,45\, Mi Villapizzone 7\,45\, Mi Lancetti 7\,48\, Mi Porta Garibaldi 7\,55\, Mi Repubblica 7\,58\, Mi Porta Venezia 8\,01\, Mi Dateo 8\,07\, Mi Forlanini 8\,11 Treviglio 8\,50. \nREG10197 x Brescia Mi Greco Pirelli 7\,53\, Mi Lambrate 8\,01\, Pioltello Limito 8\,10\, Treviglio 8\,24 \nRE2617 x Verona: Mi Centrale 8\,25\, Mi Lambrate 8\,33\, Pioltello Limito 8\,40\, Treviglio 8\,54 \n  \nQUOTA DI PARTECIPAZIONE:                       Euro    8\,00   SOCI EDELWEISS+CAI \n:                                            Euro    10\,00   SOCI CAI \nLa quota comprende: assicurazione**\, cartina\, spese di organizzazione \n  \nISCRIZIONE: via email a info@edelweisscai.it  o telefonando allo 02 36589745 negli orari di segreteria \nSi rammenta che per partecipare alle ns iniziative è necessario essere soci Edelweiss+CAI  o CAI \n***Attenzione: l’assicurazione copre solo gli infortuni che dovessero occorrere durante l’effettuazione degli itinerari in bicicletta. \n  \nOgni partecipante dovrà essere munito di 1 camera d’aria + il necessario per la riparazione delle forature \nSi consiglia di portare una giacca antivento e impermeabile e luci anteriori e posteriori da utilizzare in caso di necessità \nÈ OBBLIGATORIO L’USO DEL CASCO \n  \n“Per la spiegazione della scala delle difficoltà vedi \nhttps://www.cai.it/wp-content/uploads/2021/12/allegato-circolare-22_2021-Classificazione-difficolt%C3%A0.pdf \n  \nSCARICA PDF \n 
URL:https://www.edelweisscai.it/eventi/alla-scoperta-della-bassa-bergamasca-in-bicicletta/
CATEGORIES:Cicloescursionismo
ATTACH;FMTTYPE=image/jpeg:https://www.edelweisscai.it/wp-content/uploads/2025/05/brembo-da-brembate.jpg
END:VEVENT
END:VCALENDAR