BEGIN:VCALENDAR
VERSION:2.0
PRODID:-//Edelweiss Cai Milano - ECPv6.15.18//NONSGML v1.0//EN
CALSCALE:GREGORIAN
METHOD:PUBLISH
X-ORIGINAL-URL:https://www.edelweisscai.it
X-WR-CALDESC:Eventi per Edelweiss Cai Milano
REFRESH-INTERVAL;VALUE=DURATION:PT1H
X-Robots-Tag:noindex
X-PUBLISHED-TTL:PT1H
BEGIN:VTIMEZONE
TZID:Europe/Rome
BEGIN:DAYLIGHT
TZOFFSETFROM:+0100
TZOFFSETTO:+0200
TZNAME:CEST
DTSTART:20240331T010000
END:DAYLIGHT
BEGIN:STANDARD
TZOFFSETFROM:+0200
TZOFFSETTO:+0100
TZNAME:CET
DTSTART:20241027T010000
END:STANDARD
BEGIN:DAYLIGHT
TZOFFSETFROM:+0100
TZOFFSETTO:+0200
TZNAME:CEST
DTSTART:20250330T010000
END:DAYLIGHT
BEGIN:STANDARD
TZOFFSETFROM:+0200
TZOFFSETTO:+0100
TZNAME:CET
DTSTART:20251026T010000
END:STANDARD
BEGIN:DAYLIGHT
TZOFFSETFROM:+0100
TZOFFSETTO:+0200
TZNAME:CEST
DTSTART:20260329T010000
END:DAYLIGHT
BEGIN:STANDARD
TZOFFSETFROM:+0200
TZOFFSETTO:+0100
TZNAME:CET
DTSTART:20261025T010000
END:STANDARD
END:VTIMEZONE
BEGIN:VEVENT
DTSTART;VALUE=DATE:20250511
DTEND;VALUE=DATE:20250512
DTSTAMP:20260426T050005
CREATED:20250427T075023Z
LAST-MODIFIED:20250430T185824Z
UID:5258-1746921600-1747007999@www.edelweisscai.it
SUMMARY:IL PO DI PIACENZA E I SUOI ARGINI in bicicletta
DESCRIPTION:11.5.2025\nLunghezza 58 km. ca. dislivello +60 difficoltà a.- TC – h.4 ca \n95% asfalto – 5% sterrato \n  \nDalla stazione di Piacenza raggiungiamo su ciclabile il ponte sul Po della lunghezza di 1542 m. che attraversiamo per raggiungere l’argine sinistro del fiume perfettamente asfaltato. Lo sguardo spazia tra la bella campagna lombarda dove sullo sfondo s’intravedono le montagne ed il fiume sulle cui rive vediamo betulle\, salici e pioppi. Nelle aree golenali possiamo ammirare l’affascinante avifauna composta da ibis\, gli uccelli sacri degli egizi dal lungo becco nero ricurvo\, garzette\, aironi e se siamo fortunati anche cicogne. Dopo ca 26 km raggiungiamo il ponte sul Po che ci ripoterà sull’argine destro dove incontriamo subito il piccolo borgo di San Nazzaro. Si prosegue tra argine e strade golenali sempre immersi nel verde della campagna cosparsa di cascine e piccoli centri ed al 38 km\, a Carolo\, sosta in un’ottima osteria dove avremo modo di assaggiare le specialità piacentine oppure un semplice panino con gli ottimi salumi del posto. \nRiprendiamo la nostra pedalata sempre sull’argine godendo della bella atmosfera del grande fiume. Sullo sfondo il ponte dell’AV ed i campanili di Piacenza che si fanno sempre più vicini ed in men che non si dica\, siamo alla ferrovia che attraversiamo con un insolito sottopasso ed eccoci alla stazione di Piacenza. \n  \nTipo di bicicletta:  Trekking bike o gravel \n  \nRitrovo alla stazione di Piacenza alle 9\,20 \n(per chi arriva in auto nei pressi della stazione c’è un grande parcheggio) \nIl treno utile da Milano è il RE 2457 per Piacenza con partenza alle ore 8\,15 da Milano Centrale\,  con fermata a : Milano Lambrate  alle 8\,21 e Milano Rogoredo alle ore 8\,27\, arrivo a Piacenza alle ore 9\,12\, oppure il REG 10857 per Piacenza con partenza alle ore 7\,40 da Milano Greco Pirelli\, con fermata a Milano Lambrate alle ore 7\,46 e Milano Rogoredo alle ore 7\,59\, arrivo a Piacenza alle 8\,53. \n  \nQUOTA DI PARTECIPAZIONE         Euro    8\,00   SOCI EDELWEISS+CAI \n:                           Euro    10\,00   SOCI CAI \nLa quota comprende: assicurazione**\, cartina\, spese di organizzazione \n  \nISCRIZIONE: via email a info@edelweisscai.it  o telefonando allo 02 36589745 negli orari di segreteria \nSi rammenta che per partecipare alle ns iniziative è necessario essere soci Edelweiss+CAI  o CAI \n  \n***Attenzione: l’assicurazione copre solo gli infortuni che dovessero occorrere durante l’effettuazione degli itinerari in bicicletta. \nOgni partecipante dovrà essere munito di 1 camera d’aria + il necessario per la riparazione delle forature \nSi consiglia di portare una giacca antivento e impermeabile e luci anteriori e posteriori da utilizzare in caso di necessità \nÈ OBBLIGATORIO L’USO DEL CASCO \n“Per la spiegazione della scala delle difficoltà vedi \nhttps://www.cai.it/wp-content/uploads/2021/12/allegato-circolare-22_2021-Classificazione-difficolt%C3%A0.pdf \nSCARICA PDF
URL:https://www.edelweisscai.it/eventi/il-po-di-piacenza-e-i-suoi-argini-in-bicicletta/
CATEGORIES:Cicloescursionismo
ATTACH;FMTTYPE=image/jpeg:https://www.edelweisscai.it/wp-content/uploads/2025/04/po-di-piacenza.jpg
END:VEVENT
END:VCALENDAR