BEGIN:VCALENDAR
VERSION:2.0
PRODID:-//Edelweiss Cai Milano - ECPv6.15.18//NONSGML v1.0//EN
CALSCALE:GREGORIAN
METHOD:PUBLISH
X-WR-CALNAME:Edelweiss Cai Milano
X-ORIGINAL-URL:https://www.edelweisscai.it
X-WR-CALDESC:Eventi per Edelweiss Cai Milano
REFRESH-INTERVAL;VALUE=DURATION:PT1H
X-Robots-Tag:noindex
X-PUBLISHED-TTL:PT1H
BEGIN:VTIMEZONE
TZID:Europe/Rome
BEGIN:DAYLIGHT
TZOFFSETFROM:+0100
TZOFFSETTO:+0200
TZNAME:CEST
DTSTART:20250330T010000
END:DAYLIGHT
BEGIN:STANDARD
TZOFFSETFROM:+0200
TZOFFSETTO:+0100
TZNAME:CET
DTSTART:20251026T010000
END:STANDARD
BEGIN:DAYLIGHT
TZOFFSETFROM:+0100
TZOFFSETTO:+0200
TZNAME:CEST
DTSTART:20260329T010000
END:DAYLIGHT
BEGIN:STANDARD
TZOFFSETFROM:+0200
TZOFFSETTO:+0100
TZNAME:CET
DTSTART:20261025T010000
END:STANDARD
BEGIN:DAYLIGHT
TZOFFSETFROM:+0100
TZOFFSETTO:+0200
TZNAME:CEST
DTSTART:20270328T010000
END:DAYLIGHT
BEGIN:STANDARD
TZOFFSETFROM:+0200
TZOFFSETTO:+0100
TZNAME:CET
DTSTART:20271031T010000
END:STANDARD
END:VTIMEZONE
BEGIN:VEVENT
DTSTART;VALUE=DATE:20260510
DTEND;VALUE=DATE:20260511
DTSTAMP:20260424T144546
CREATED:20260421T211610Z
LAST-MODIFIED:20260421T211610Z
UID:6324-1778371200-1778457599@www.edelweisscai.it
SUMMARY:Cicloturismo - TRA RISAIE E CASTELLI
DESCRIPTION:Lunghezza 68 km – dislivello 110 m. – tempo 4\,30 h ca \n(50% sterrato – 50% asfalto)  \nDalla stazione di Trecate ci inoltriamo quasi subito nelle campagne pedalando su un bello sterrato.  Dopo pochi chilometri superiamo un piccolo ostacolo per continuare a pedalare lungo la roggia e raggiungiamo il piccolo borgo di Villanova con il suo castello. \nSi prosegue pedalando tra le risaie su sterrato ed asfalto accompagnati dal volo di garzette\, aironi ed ibis fino a raggiungere l’imponente castello di Nibbiola. Dopo una breve sosta nella bella piazza\, dove potremo concederci anche un caffè\, continuiamo il nostro percorso che ci porterà a Monticello e poi\, sempre tra le risaie arriveremo al borgo di Vespolate dove sorge un altro castello con torre. \nSosta pranzo con possibilità di degustare un piatto tipico\, vedi nota più sotto*** \nProseguiamo in direzione di Tornaco per poi ritornare a Villanova e quindi abbandonando definitivamente lo sterrato arriveremo a Sozzago ed in breve a Trecate \n.Tipo di bicicletta:  Trekking bike o gravel \nRitrovo alla stazione di TRECATE  9:05 \nTrecate si può raggiungere in treno da Milano (treno passante con partenza da Pioltello diretto a Novara) \nS24622  Pioltello 7:53 – Milano Forlanini 8:03 – Milano Porta Vittoria  8:07 – Milano Dateo 8:10 – \nMilano Porta Venezia 8:13 – Milano Repubblica 8:16 – Milano Porta Garibaldi (sotterraneo) 8:19 – Milano Lancetti 8:22 – Milano Villapizzone 8:25 – Milano Certosa 8:29 – ARRIVO A TRECATE 9:02 \nRitorno: da Trecate 1 treno ogni 30’ alle 26 e alle ’56 di ogni ora. \nQUOTA DI PARTECIPAZIONE:             Euro   8\,00   SOCI EDELWEISS+CAI \nEuro    10\,00   SOCI CAI \nLa quota comprende: assicurazione**\, cartina\, spese di organizzazione \nPotra’ essere pagata in CONTANTI agli accompagnatori il giorno dell’escursione o con BB utilizzando il seguente IBAN  IT35X0503401693000000003707  conto intestato a G.S.A. EDELWEISS SOTTOSEZIONE CAI MILANO \nPRANZO CON PANISCIA\, piatto tipico del novarese\, DOLCE\, ACQUA VINO E CAFFE  20 EURO \nDa prenotare all’atto dell’iscrizione \n  \nISCRIZIONE: via email a info@edelweisscai.it  o telefonando allo 02 36589745 negli orari di segreteria \nLunedì 17-20  Mercoledì 17-21\,30 \nSi rammenta che per partecipare alle ns iniziative è necessario essere soci Edelweiss+CAI  o CAI \n***Attenzione: l’assicurazione copre solo gli infortuni che dovessero occorrere durante l’effettuazione degli itinerari in bicicletta. \nOgni partecipante dovrà essere munito di 1 camera d’aria + il necessario per la riparazione delle forature \nSi consiglia di portare una giacca antivento e impermeabile e luci anteriori e posteriori da utilizzare in caso di necessità \nÈ OBBLIGATORIO L’USO DEL CASCO \n“Per la spiegazione della scala delle difficoltà vedi \nhttps://www.cai.it/wp-content/uploads/2021/12/allegato-circolare-22_2021-Classificazione-difficolt%C3%A0.pdf
URL:https://www.edelweisscai.it/eventi/cicloturismo-tra-risaie-e-castelli/
CATEGORIES:Cicloescursionismo,Evidenza Home
ATTACH;FMTTYPE=image/jpeg:https://www.edelweisscai.it/wp-content/uploads/2026/04/nibbiola.jpg
END:VEVENT
END:VCALENDAR