BEGIN:VCALENDAR
VERSION:2.0
PRODID:-//Edelweiss Cai Milano - ECPv6.15.18//NONSGML v1.0//EN
CALSCALE:GREGORIAN
METHOD:PUBLISH
X-ORIGINAL-URL:https://www.edelweisscai.it
X-WR-CALDESC:Eventi per Edelweiss Cai Milano
REFRESH-INTERVAL;VALUE=DURATION:PT1H
X-Robots-Tag:noindex
X-PUBLISHED-TTL:PT1H
BEGIN:VTIMEZONE
TZID:Europe/Rome
BEGIN:DAYLIGHT
TZOFFSETFROM:+0100
TZOFFSETTO:+0200
TZNAME:CEST
DTSTART:20240331T010000
END:DAYLIGHT
BEGIN:STANDARD
TZOFFSETFROM:+0200
TZOFFSETTO:+0100
TZNAME:CET
DTSTART:20241027T010000
END:STANDARD
BEGIN:DAYLIGHT
TZOFFSETFROM:+0100
TZOFFSETTO:+0200
TZNAME:CEST
DTSTART:20250330T010000
END:DAYLIGHT
BEGIN:STANDARD
TZOFFSETFROM:+0200
TZOFFSETTO:+0100
TZNAME:CET
DTSTART:20251026T010000
END:STANDARD
BEGIN:DAYLIGHT
TZOFFSETFROM:+0100
TZOFFSETTO:+0200
TZNAME:CEST
DTSTART:20260329T010000
END:DAYLIGHT
BEGIN:STANDARD
TZOFFSETFROM:+0200
TZOFFSETTO:+0100
TZNAME:CET
DTSTART:20261025T010000
END:STANDARD
END:VTIMEZONE
BEGIN:VEVENT
DTSTART;VALUE=DATE:20250608
DTEND;VALUE=DATE:20250609
DTSTAMP:20260425T140946
CREATED:20250530T212603Z
LAST-MODIFIED:20250607T115833Z
UID:5347-1749340800-1749427199@www.edelweisscai.it
SUMMARY:MTB - DI QUI' E DI LA' DEL SERIO
DESCRIPTION:Pedalando tra i castelli nel Parco Regionale del Serio \nLunghezza Km 68 km ca  –  pista ciclopedonale\, single track\, 85% Sterrato + 15%  asfalto  \n dislivello  m. 180   ca  – difficoltà MC – Ore 5/5\,30 – senza le soste \n  \nIl fiume Serio caratterizza il paesaggio del Parco Regionale del Serio. Esso si origina dalle Alpi Orobiche\, dove dal bacino naturale del lago del Barbellino (2123 m s.l.m.)\, inizia il suo corso montano che percorre per intero la valle Seriana. \nPartendo da Romano di Lombardia\, bella cittadina con Rocca  ed un interessante centro storico\, raggiungeremo le rive del fiume Serio e da qui lungo la ciclopedonale sterratapedaleremo in direzione di Seriate con alcune deviazioni per il castelli di Malpaga e Cavernago. \nGiunti all’oasi di Seriate attraversiamo il fiume sulla passerella ciclopedonale ed iniziamo a pedalare sull’altra sponda del fiume. Qui il percorso attraversa vasti pascoli (Ciclopedonale dei pascoli) ed il terreno diventa più impegnativo\, alternando tratti di single track e tratti di strada sterrata\, piuttosto sconnessi. \nDopo ca 42 km con un breve deviazione giungiamo a Cologno al Serio dove ci fermeremo per la sosta pranzo. \nRiprendiamo il nostro percorso per raggiungere le rive del Serio che in molti punti sono collassate a causa dell’erosione dell’acqua. \nSi continua a pedalare in un ambiente naturale selvaggio e impegnativo sia per il terreno che per la presenza di rovi sui single track che richiedono molta attenzione. \nRaggiungiamo il ponte sul Serio che ci supereremo per riportarci sulla sponde sinistra del fiume\, percorriamo alcuni km e 60° KM abbandoniamo la sponda del fiume per imboccare una strada dapprima sterrata e poi asfaltata che ci condurrà al piccolo centro di Covo dove ammireremo dei murales.\nPochi km di percorso ciclabile ed in men con non si dica raggiungiamo Romano di Lombardia e la stazione\, da dove prenderemo il primo treno utile per Milano. \nATTENZIONE: il percorso non è difficile\, ma è lungo e per la maggior parte sterrato\, che alla lunga può diventare faticoso\, richiede attenzione nella guida\, in quanto sono presenti\, radici\, sassi grossi che richiedono una certa abilità nel superarli. Sono presenti anche diverse pozzanghere con tratti fangosi (sperando che non piova ancora) \nSI RACCOMANDANO GLI  OCCHIALI \nBicicletta MTB – non adatto a Gravel.                                     \n  \nRitrovo alla stazione di Romano di Lombardia  alle ore 9\,05 (parcheggio vicino alla stazione per chi viene in auto) Treni utili  da Milano: \nREG10917 x Brescia Mi Greco Pirelli 7\,53\, Mi Lambrate 8\,01\, Romano 8\,39 \nRE2617 x Verona: Mi Centrale 8\,25\, Mi Lambrate 8\,33\, Romano 9\,04 \nQUOTA DI PARTECIPAZIONE:     Euro    8\,00   SOCI EDELWEISS+CAI \n:                           Euro    10\,00   SOCI CAI \nLa quota comprende: assicurazione**\, cartina\, spese di organizzazione \nISCRIZIONE: via email a info@edelweisscai.it  o telefonando allo 02 36589745 negli orari di segreteria \nSi rammenta che per partecipare alle ns iniziative è necessario essere soci Edelweiss+CAI  o CAI \n***Attenzione: l’assicurazione copre solo gli infortuni che dovessero occorrere durante l’effettuazione degli itinerari in bicicletta. \nOgni partecipante dovrà essere munito di 1 camera d’aria + il necessario per la riparazione delle forature \nSi consiglia di portare una giacca antivento e impermeabile e luci anteriori e posteriori da utilizzare in caso di necessità \n È OBBLIGATORIO L’USO DEL CASCO \n“Per la spiegazione della scala delle difficoltà vedi:https://www.cai.it/wp-content/uploads/2021/12/allegato-circolare-22_2021-Classificazione-difficolt%C3%A0.pdf
URL:https://www.edelweisscai.it/eventi/mtb-di-qui-e-di-la-del-serio/
CATEGORIES:Cicloescursionismo
ATTACH;FMTTYPE=image/jpeg:https://www.edelweisscai.it/wp-content/uploads/2025/05/SERIO-scaled.jpg
END:VEVENT
BEGIN:VEVENT
DTSTART;TZID=Europe/Rome:20250621T070000
DTEND;TZID=Europe/Rome:20250622T220000
DTSTAMP:20260425T140946
CREATED:20250523T062151Z
LAST-MODIFIED:20250620T133049Z
UID:5338-1750489200-1750629600@www.edelweisscai.it
SUMMARY:ALTOPIANO DEI 7 COMUNI IN MTB
DESCRIPTION:scarica pdf\n21-22 giugno 2025\nL’altopiano di Asiago detto anche Altopiano dei 7 comuni si erge sulle Prealpi venete tra le province di Vicenza e Trento. Quasi la metà del territorio è occupata da boschi di faggio alle quote più basse\, da abeti e larici a quelle più alte e da pino mugo in quelle più impervie. \nL’Altopiano già abitato nell’era preistorica\, nel medioevo fu occupato dai Cimbri\, della cui lingua simile al tedesco sono rimasti alcuni toponimi come Kaberlaba\, Ghelpack ed altri) \nDurante la prima guerra mondiale l’altipiano fu teatro di aspre battaglie e proprio durane quel periodo furono costruite molte opere logistiche come strade e mulattiere. \nL’Altopiano è un rinomato centro turistico estivo per le numerose escursioni\, invernale per lo sci di fondo ed anche per la MTB grazie alla numerosa rete di strade forestali e mulattiere. \nPROGRAMMA \n21.6.25: ore 7\,00 ritrovo in P.le Lotto\, ore 7\,15 partenza per Canove dove arriveremo intorno alle 11-11\,30. \nDa Canove partenza per il ns tour intorno ad Asiago che nel primo tratto corre lungo l’itinerario della vecchia ferrovia e ci porterà alla scoperta delle varie contrade intorno Asiago- Lunghezza 40 km – dislivello 610 m – difficoltà MC. \nCena e pernottamento in hotel. \n22.6.25:  ore 9 ca. trasferimento al Rif. Campomulo da dove partiremo per il ns itinerario che ci porterà a Marcesina ed al Rif. Valmaron per poi ritornare alla partenza dal Rif. Campomuletto. Lunghezza 40 km – Dislivello 610 m – difficoltà MC. Nel pomeriggio rientro a Milano. \nQUOTA DI PARTECIPAZIONE:  Euro 115\, 00  – soci Edelweiss   + CAI  \n                                                                 Euro 135\,00 – soci CAI  \nLa quota comprende: Cena\, (bevande incluse ¼ vino+1/2 acqua)  pernottamento in camere da 2 a 4 posti con servizi\, colazione\, cartine dei percorsi\,  assicurazione infortuni**\, spese di organizzazione. \nLa quota non comprende: spese di viaggio  \nI TRASFERIMENTI SI EFFETTUERANNO CON MEZZI PROPRI  \n**Attenzione: l’assicurazione copre solo gli infortuni che dovessero occorrere durante l’effettuazione degli itinerari in bicicletta. \nLe iscrizioni sono riservate ai soci Edelweiss+CAI e/o CAI \nISCRIZIONI: ENTRO 8 giugno 2025  \ntelefonando ai n°02/36589745 anche whatsapp\, oppure direttamente in sede il lunedì dalle 17\,30 alle 20 o il mercoledì dalle 17\,30 alle 22\,00 o per email info@edelweisscai.it \nL’iscrizione deve essere confermata con il versamento della quota di partecipazione\, da versare in sede o con BB utilizzando IBAN  IT35X05034001693000000003707 (inviare una copia del BB). \n  \nI partecipanti dovranno avere il proprio kit di riparazione forature ed inoltre si consigli di portare sempre una giacca antivento e antipioggia.  E’OBBLIGATORIO L’USO DEL CASCO. \nPer la spiegazione della scala delle difficoltà vedi \nhttps://www.cai.it/wp-content/uploads/2021/12/allegato-circolare-22_2021-Classificazione-difficolt%C3%A0.pdf
URL:https://www.edelweisscai.it/eventi/altopiano-dei-7-comuni-in-mtb/
CATEGORIES:Cicloescursionismo
ATTACH;FMTTYPE=image/jpeg:https://www.edelweisscai.it/wp-content/uploads/2025/05/Asiago-bike.jpeg
END:VEVENT
END:VCALENDAR