BEGIN:VCALENDAR
VERSION:2.0
PRODID:-//Edelweiss Cai Milano - ECPv6.15.18//NONSGML v1.0//EN
CALSCALE:GREGORIAN
METHOD:PUBLISH
X-WR-CALNAME:Edelweiss Cai Milano
X-ORIGINAL-URL:https://www.edelweisscai.it
X-WR-CALDESC:Eventi per Edelweiss Cai Milano
REFRESH-INTERVAL;VALUE=DURATION:PT1H
X-Robots-Tag:noindex
X-PUBLISHED-TTL:PT1H
BEGIN:VTIMEZONE
TZID:Europe/Rome
BEGIN:DAYLIGHT
TZOFFSETFROM:+0100
TZOFFSETTO:+0200
TZNAME:CEST
DTSTART:20240331T010000
END:DAYLIGHT
BEGIN:STANDARD
TZOFFSETFROM:+0200
TZOFFSETTO:+0100
TZNAME:CET
DTSTART:20241027T010000
END:STANDARD
BEGIN:DAYLIGHT
TZOFFSETFROM:+0100
TZOFFSETTO:+0200
TZNAME:CEST
DTSTART:20250330T010000
END:DAYLIGHT
BEGIN:STANDARD
TZOFFSETFROM:+0200
TZOFFSETTO:+0100
TZNAME:CET
DTSTART:20251026T010000
END:STANDARD
BEGIN:DAYLIGHT
TZOFFSETFROM:+0100
TZOFFSETTO:+0200
TZNAME:CEST
DTSTART:20260329T010000
END:DAYLIGHT
BEGIN:STANDARD
TZOFFSETFROM:+0200
TZOFFSETTO:+0100
TZNAME:CET
DTSTART:20261025T010000
END:STANDARD
END:VTIMEZONE
BEGIN:VEVENT
DTSTART;VALUE=DATE:20250405
DTEND;VALUE=DATE:20250406
DTSTAMP:20260426T045153
CREATED:20250305T222107Z
LAST-MODIFIED:20250322T123242Z
UID:5063-1743811200-1743897599@www.edelweisscai.it
SUMMARY:CREMA-IL CANALE VACCHELLI-IL FIUME OGLIO in bicicletta
DESCRIPTION:Lunghezza 61 km. ca. dislivello +80 difficoltà a.- MC – h.5ca \n40% sterrato – 15% single trek – 45% asfalto \n  \nDalla stazione ci dirigeremo alla periferia di Crema dove imboccheremo lo sterrato lungo il Canale Vacchelli\, attraversato da caratteristici ponti in mattoni rossi\, che percorreremo per una decina di chilometri sino alle Tombe Morte\, punto di confluenza del sistema di canali della provincia di Cremona. \nDa qui prenderemo la ciclabile delle città murate che ci porterà a Soncino dove sorge la famosa Rocca. Dopo un breve giro nel centro di Soncino raggiungeremo il fiume Oglio  che seguiremo   per un lungo tratto percorrendo un divertente single track (alcuni tratti presentano erba alta e rovi per cui è consigliabile il pantalone lungo). \nAl termine del single track raggiungeremo l’ostello del Mulino Basso dove faremo la sosta pranzo. \nDa qui in circa 23 km torneremo a Crema lungo stradine immerse nella campagna cremonese. \n Tipo di bicicletta:  MTB e Gravel \n  \nRitrovo alla stazione di Crema 9\,28 \nIl treno utile da Milano è il RE 2617 per Verona con partenza alle ore 8\,25 da Milano Centrale\,  con fermata a : Milano Lambrate  alle 8\,31 arrivo a Treviglio alle 8\,54\, da dove si prende la coincidenza per Crema delle 9\,07 Reg 10619 diretto a Cremona \n  \nQUOTA DI PARTECIPAZIONE:                       Euro    8\,00   SOCI EDELWEISS+CAI \n:                            Euro    10\,00   SOCI CAI \nLa quota comprende: assicurazione**\, cartina\, spese di organizzazione \nISCRIZIONE: via email a info@edelweisscai.it  o telefonando allo 02 36589745 negli orari di segreteria \nSi rammenta che per partecipare alle ns iniziative è necessario essere soci Edelweiss+CAI  o CAI \n***Attenzione: l’assicurazione copre solo gli infortuni che dovessero occorrere durante l’effettuazione degli itinerari in bicicletta. \nOgni partecipante dovrà essere munito di 1 camera d’aria + il necessario per la riparazione delle forature \nSi consiglia di portare una giacca antivento e impermeabile e luci anteriori e posteriori da utilizzare in caso di necessità \nÈ OBBLIGATORIO L’USO DEL CASCO \n“Per la spiegazione della scala delle difficoltà vedi \nhttps://www.cai.it/wp-content/uploads/2021/12/allegato-circolare-22_2021-Classificazione-difficolt%C3%A0.pdf
URL:https://www.edelweisscai.it/eventi/crema-il-canale-vacchelli-il-fiume-oglio-in-bicicletta/
CATEGORIES:Cicloescursionismo
ATTACH;FMTTYPE=image/jpeg:https://www.edelweisscai.it/wp-content/uploads/2025/03/Vacchelli-scaled.jpg
END:VEVENT
BEGIN:VEVENT
DTSTART;TZID=Europe/Rome:20250422T063000
DTEND;TZID=Europe/Rome:20250425T180000
DTSTAMP:20260426T045153
CREATED:20250217T155621Z
LAST-MODIFIED:20250218T124628Z
UID:5031-1745303400-1745604000@www.edelweisscai.it
SUMMARY:IL GRANDE ANELLO DELL'ACQUA DA PADOVA A PADOVA - Cicloturismo
DESCRIPTION:Dal 22 al 25 aprile 2025\nL’acqua è la costante di questo itinerario che ci porterà dalle montagne al mare lungo i fiumi Brenta e Sile fino al canale Muson dei Sassi nella laguna per poi ritornare in pianura. \nCirca 300 Km distribuiti in 4 facili percorsi giornalieri da fare con gravel e/o mountain bike su ciclovie\, argini ciclabili\, strade secondarie e campagna veneta. \n Programma  \nMartedì 22 Aprile: Trasferimento Milano – Padova. Si veda oltre per le modalità di trasferimento. \nPadova – Bassano del Grappa   Km 78\,2   Dislivello ↑ 210 m   ¯ 90 m \nUsciamo da Padova seguendo il canale Piovego fino a Oltrebrenta per imboccare la ciclovia lungo il fiume Brenta attraversando posti incantevoli come le trasparenze turchesi del bacino di Finenso\, il Parco delle Basse\, fino a raggiungere Bassano del Grappa ed il suo Ponte Vecchio. \nPernottamento e cena in Albergo in centro (HB – trattamento di mezza pensione). \nMercoledì 23 Aprile: Bassano del Grappa – Casale sul Sile   Km 88\,4   Dislivello ↑ 250 m   ¯ 370 m \nRaggiungeremo Casale sul Sile seguendo strade secondarie\, strade bianche\, facili sterrati e ciclovie. L’alberato sentiero degli Ezzelini\, Castelfranco Veneto\, città murata legata al Giorgione\, la ciclopedonale lungo il Muson dei Sassi\, la Treviso-Ostiglia lungo l’ex linea ferroviaria che attraversa la campagna veneta incrociando il Sile\, Treviso e il suo centro storico\, infine la GiraSile ciclabile in sterrato molto bella. \nPernottamento e cena in Agriturismo ((HB – trattamento di mezza pensione). \n Giovedì 24 Aprile: Casale sul Sile – Punta Sabbioni Cavallino Treporti   Km 60\,1   Dislivello ↑ 70 m  ¯  70 m \nDa Casale sul Sile seguiamo la ciclabile del fiume su facili sterrati e asfalto; dopo Portegrandi si inizia a vedere il panorama lagunare fino a raggiungere Jesolo. Si continua per la ciclabile sterrata che conduce alle Porte del Cavallino costeggiando sempre il Sile. \nPernottamento e cena in Albergo (HB – trattamento di mezza pensione). \nVenerdì 25 Aprile: Punta Sabbioni Cavallino Treporti – Padova   Km 66\,8   Dislivello ↑ 80 m  ¯  70 m \nNell’ultima tappa attraversiamo la laguna con i Ferryboat fino a Tronchetto per poi percorrere la ciclabile sul Ponte della Libertà in direzione di Marghera\, seguiamo poi il Naviglio di Brenta giungendo nuovamente a Oltrebrenta per proseguire fino alla nostra meta finale\, la stazione di Padova. \n Rientro: Padova – Milano. Si veda oltre per le modalità di trasferimento \n Bici consigliata: trekking\, gravel\, mtb. \nAccompagnatori: Cristina\, Luigia\, Gianfranco e Pietro  \nQUOTA DI PARTECIPAZIONE: \nSOCI EDELWEISS+CAI              Euro   280 \nSOCI CAI:                                         Euro   300 \nLa quota comprende: Sistemazione camere 2/3 letti in Hotel*** con trattamento di mezza pensione a partire dalla cena del 22.4 alla 1^ colazione del 25.4.25\, bevande comprese per le cene\, Ticket Ferry-boat\, accompagnatori Edelweiss\, spese di organizzazione\, assicurazione infortuni. \nLa quota non comprende: Il viaggio e tutto quanto non indicato nella quota comprende \n Il trasferimento da e per Milano verrà effettuato in treno con i seguenti orari: \n22.4.25: da Milano Centrale per Padova Reg Trenord 2613 h. 6\,25 arrivo a Verona 8\,17 + RV 3489 da Verona h 8\,22 arrivo a Padova h.9.20\, con cambio a Verona di soli 5 minuti; i successivi sono con frequenza di ogni ora. \n25.4.2025: da Padova per Milano Centrale RV 3496 h 14.40 arrivo a Verona alle 15\,38 + R2636 da Verona h- 15\,43 con arrivo a Milano alle 17\,35 con cambio a Verona di soli 5 minuti; i successivi sono con frequenza di ogni ora. \nAl momento della pubblicazione del programma\, i costi del treno A/R ammontano a 38 Euro\, ognuno provvederà ad acquistare i propri biglietti del treno. \nPER CHI VOLESSE VIAGGIARE CON MEZZI PROPRI: RITROVO ALLA STAZIONE DI PADOVA ALLE ORE 9\,20 \nIscrizioni: dal ricevimento della circolare\, telefonando al numero 02 36589745\, oppure in sede il lunedì dalle 17:30 alle 20:00 ed il mercoledì dalle 17:30 alle 22:00\, o per email a info@edelweisscai.it. \n Iscrizioni riservate ai soci GSA EDELWEISS+CAI o CAI. \nIscrizioni entro il 3.3.2025 \nMassimo 12 posti                 \n  \nL’iscrizione si riterrà confermata solo con il versamento dell’intera quota anche con bonifico bancario: \nIBAN: IT35X0503401693000000003707   Causale: Anello Padova bici \n  \nDocumenti: Carta identità\, tessera sanitaria\, tessera EDW o CAI. \nÈ OBBLIGATORIO L’USO DEL CASCO ED ESSERE MUNITI DI LUCI ANTERIORI E POSTERIORI E DEL NECESSARIO PER LE RIPARAZIONE DELLE FORATURE \nIL BAGAGLIO VERRA’ TRASPORTATO AUTONOMAMENTE SULLA BICICLETTA PER CUI SERVONO LE BORSE DA BICI \n  \nll G.S.A. EDELWEISS declina ogni responsabilità per qualsiasi incidente che si dovesse verificare durante il viaggio.
URL:https://www.edelweisscai.it/eventi/il-grande-anello-dellacqua-da-padova-a-padova-cicloturismo/
CATEGORIES:Cicloescursionismo
ATTACH;FMTTYPE=image/png:https://www.edelweisscai.it/wp-content/uploads/2025/02/bassano-ponte.png
END:VEVENT
END:VCALENDAR