BEGIN:VCALENDAR
VERSION:2.0
PRODID:-//Edelweiss Cai Milano - ECPv6.15.18//NONSGML v1.0//EN
CALSCALE:GREGORIAN
METHOD:PUBLISH
X-ORIGINAL-URL:https://www.edelweisscai.it
X-WR-CALDESC:Eventi per Edelweiss Cai Milano
REFRESH-INTERVAL;VALUE=DURATION:PT1H
X-Robots-Tag:noindex
X-PUBLISHED-TTL:PT1H
BEGIN:VTIMEZONE
TZID:Europe/Rome
BEGIN:DAYLIGHT
TZOFFSETFROM:+0100
TZOFFSETTO:+0200
TZNAME:CEST
DTSTART:20250330T010000
END:DAYLIGHT
BEGIN:STANDARD
TZOFFSETFROM:+0200
TZOFFSETTO:+0100
TZNAME:CET
DTSTART:20251026T010000
END:STANDARD
BEGIN:DAYLIGHT
TZOFFSETFROM:+0100
TZOFFSETTO:+0200
TZNAME:CEST
DTSTART:20260329T010000
END:DAYLIGHT
BEGIN:STANDARD
TZOFFSETFROM:+0200
TZOFFSETTO:+0100
TZNAME:CET
DTSTART:20261025T010000
END:STANDARD
BEGIN:DAYLIGHT
TZOFFSETFROM:+0100
TZOFFSETTO:+0200
TZNAME:CEST
DTSTART:20270328T010000
END:DAYLIGHT
BEGIN:STANDARD
TZOFFSETFROM:+0200
TZOFFSETTO:+0100
TZNAME:CET
DTSTART:20271031T010000
END:STANDARD
END:VTIMEZONE
BEGIN:VEVENT
DTSTART;TZID=Europe/Rome:20260211T204500
DTEND;TZID=Europe/Rome:20260211T220000
DTSTAMP:20260425T162321
CREATED:20251213T202728Z
LAST-MODIFIED:20260107T074651Z
UID:5817-1770842700-1770847200@www.edelweisscai.it
SUMMARY:CORSO ARRAMPICATA SU ROCCIA 2026
DESCRIPTION:11 febbraio 2026\nore 20\,45 presentazione del corso presso la sede G.S.A. Edelweiss\nPer maggiori informazioni: Corso AR1
URL:https://www.edelweisscai.it/eventi/presentazione-corso-ar1/
CATEGORIES:Alpinismo,Corso AR,Evidenza Home,Scuola Alpinismo
ATTACH;FMTTYPE=image/png:https://www.edelweisscai.it/wp-content/uploads/2025/12/per-programma-corso-ar1.png
END:VEVENT
END:VCALENDAR