BEGIN:VCALENDAR
VERSION:2.0
PRODID:-//Edelweiss Cai Milano - ECPv6.15.18//NONSGML v1.0//EN
CALSCALE:GREGORIAN
METHOD:PUBLISH
X-WR-CALNAME:Edelweiss Cai Milano
X-ORIGINAL-URL:https://www.edelweisscai.it
X-WR-CALDESC:Eventi per Edelweiss Cai Milano
REFRESH-INTERVAL;VALUE=DURATION:PT1H
X-Robots-Tag:noindex
X-PUBLISHED-TTL:PT1H
BEGIN:VTIMEZONE
TZID:Europe/Rome
BEGIN:DAYLIGHT
TZOFFSETFROM:+0100
TZOFFSETTO:+0200
TZNAME:CEST
DTSTART:20240331T010000
END:DAYLIGHT
BEGIN:STANDARD
TZOFFSETFROM:+0200
TZOFFSETTO:+0100
TZNAME:CET
DTSTART:20241027T010000
END:STANDARD
BEGIN:DAYLIGHT
TZOFFSETFROM:+0100
TZOFFSETTO:+0200
TZNAME:CEST
DTSTART:20250330T010000
END:DAYLIGHT
BEGIN:STANDARD
TZOFFSETFROM:+0200
TZOFFSETTO:+0100
TZNAME:CET
DTSTART:20251026T010000
END:STANDARD
BEGIN:DAYLIGHT
TZOFFSETFROM:+0100
TZOFFSETTO:+0200
TZNAME:CEST
DTSTART:20260329T010000
END:DAYLIGHT
BEGIN:STANDARD
TZOFFSETFROM:+0200
TZOFFSETTO:+0100
TZNAME:CET
DTSTART:20261025T010000
END:STANDARD
END:VTIMEZONE
BEGIN:VEVENT
DTSTART;VALUE=DATE:20250225
DTEND;VALUE=DATE:20250226
DTSTAMP:20260425T131553
CREATED:20250127T124138Z
LAST-MODIFIED:20250226T161349Z
UID:4918-1740441600-1740527999@www.edelweisscai.it
SUMMARY:CORSO ALPINISMO 2025
DESCRIPTION:Il corso si rivolge a chi è interessato alla conoscenza della montagna nei suoi diversi aspetti\, e si rivolge ai principianti o a quanti intendono approfondire l’approccio all’ambiente alpino\, ottenendo così l’indipendenza ad affrontare diverse tipologie di terreno. Durante il corso si sperimenteranno le basilari tecniche alpinistiche di arrampicata\, assicurazione ed autoassicurazione\, muovendo i primi passi su roccia e ghiaccio e approfondendo argomenti tecnici e di cultura generale legati alla montagna. Alla serata saranno presentati i contenuti del corso e saranno raccolte le richieste di iscrizione.\nPresentazione martedì 25 febbraio 2025 ore 21 presso la sede Edelweisss CAI viale Umbria\, 126 – Milano\nPer maggiori informazioni:\n   Corso A1   scuolaedelweiss@gmail.com   Tel 02 36589745\n\nVi aspettiamo! \nLocandina corso A1 2025
URL:https://www.edelweisscai.it/eventi/corso-a1-2025/
LOCATION:Sede Edelweiss\, Viale Umbria 126\, Milano\, MI\, 20135\, Italia
CATEGORIES:Alpinismo,Corso A1,Evidenza Home,Scuola Alpinismo
ATTACH;FMTTYPE=image/jpeg:https://www.edelweisscai.it/wp-content/uploads/2025/01/IG-F1.jpg
ORGANIZER;CN="Scuola alpinismo":MAILTO:scuolaedelweiss@gmail.com
END:VEVENT
END:VCALENDAR