BEGIN:VCALENDAR
VERSION:2.0
PRODID:-//Edelweiss Cai Milano - ECPv6.15.18//NONSGML v1.0//EN
CALSCALE:GREGORIAN
METHOD:PUBLISH
X-WR-CALNAME:Edelweiss Cai Milano
X-ORIGINAL-URL:https://www.edelweisscai.it
X-WR-CALDESC:Eventi per Edelweiss Cai Milano
REFRESH-INTERVAL;VALUE=DURATION:PT1H
X-Robots-Tag:noindex
X-PUBLISHED-TTL:PT1H
BEGIN:VTIMEZONE
TZID:Europe/Rome
BEGIN:DAYLIGHT
TZOFFSETFROM:+0100
TZOFFSETTO:+0200
TZNAME:CEST
DTSTART:20250330T010000
END:DAYLIGHT
BEGIN:STANDARD
TZOFFSETFROM:+0200
TZOFFSETTO:+0100
TZNAME:CET
DTSTART:20251026T010000
END:STANDARD
BEGIN:DAYLIGHT
TZOFFSETFROM:+0100
TZOFFSETTO:+0200
TZNAME:CEST
DTSTART:20260329T010000
END:DAYLIGHT
BEGIN:STANDARD
TZOFFSETFROM:+0200
TZOFFSETTO:+0100
TZNAME:CET
DTSTART:20261025T010000
END:STANDARD
BEGIN:DAYLIGHT
TZOFFSETFROM:+0100
TZOFFSETTO:+0200
TZNAME:CEST
DTSTART:20270328T010000
END:DAYLIGHT
BEGIN:STANDARD
TZOFFSETFROM:+0200
TZOFFSETTO:+0100
TZNAME:CET
DTSTART:20271031T010000
END:STANDARD
END:VTIMEZONE
BEGIN:VEVENT
DTSTART;TZID=Europe/Rome:20260422T204500
DTEND;TZID=Europe/Rome:20260422T220000
DTSTAMP:20260422T015631
CREATED:20260319T074437Z
LAST-MODIFIED:20260319T074437Z
UID:6210-1776890700-1776895200@www.edelweisscai.it
SUMMARY:Rassegna Cinema di Montagna: MONTASIO LA VIA DEL DRAGO (2003) e LA VIA ETERNA (2007)
DESCRIPTION:22 aprile 2026\nore 20\,45 – in sede Edelweiss\nMONTASIO LA VIA DEL DRAGO (2003) \nNell’agosto del 1902 Julius Kugy e Graziadio Bolaffio\, assieme alle guide Joze Komac e Anton Oitzinger\, salirono per la prima volta la parete Nord del Montasio. Cent’anni dopo\, le guide alpine del Friuli Venezia Giulia hanno voluto ripetere l’impresa. Il film ripercorre i momenti di quella giornata attraverso il racconto di un Kugy ormai anziano che ricorda l’avventura vissuta in parete\, affidandola alla memoria del suo libro Dalla vita di un alpinista. L’amore per le Alpi Giulie\, per il Montasio e la sua poetica dell’alpinismo rivivono nella narrazione\, nell’immagine\, nella musica. \nRegia Giorgio Gregorio \nLA VIA ETERNA (2007) \nNives Meroi\, alpinista tarvisiana tra le poche donne ad aver scalato il K2 e vari Ottomila\, accompagna il giornalista Marco Albino Ferrari lungo la “Cengia degli Dei”. È un lungo itinerario alpinistico (oltre 5 km) che\, tra cenge e balconi\, aggira a quota quasi costante il gruppo dello Jôf Fuart\, nel cuore selvaggio delle Alpi Giulie. Julius Kugy lo chiamò “Via Eterna”\, intuendone per primo l’esistenza: un “anello” fuori dal tempo. \nDurante la traversata\, lontani da tutto\, Nives e Marco riflettono sull’alpinismo di ieri e di oggi: dalle prime conquiste alle imprese contemporanee. La Cengia diventa un luogo “magico” che sembra riportarli indietro nel tempo\, come in un percorso che non finisce mai\, legando presente e passato attraverso le parole di Kugy. \nRegia: Giorgio Gregorio
URL:https://www.edelweisscai.it/eventi/rassegna-cinema-di-montagna-montasio-la-via-del-drago-2003-e-la-via-eterna-2007/
CATEGORIES:Culturali,Evidenza Home
ATTACH;FMTTYPE=image/png:https://www.edelweisscai.it/wp-content/uploads/2026/03/montasio.png
END:VEVENT
END:VCALENDAR